BEGIN:VCALENDAR
VERSION:2.0
PRODID:-//Carnaval de C&aacute;diz - ECPv6.15.20//NONSGML v1.0//EN
CALSCALE:GREGORIAN
METHOD:PUBLISH
X-ORIGINAL-URL:https://www.carnavaldecadiz.com
X-WR-CALDESC:Eventos para Carnaval de C&aacute;diz
REFRESH-INTERVAL;VALUE=DURATION:PT1H
X-Robots-Tag:noindex
X-PUBLISHED-TTL:PT1H
BEGIN:VTIMEZONE
TZID:Europe/Madrid
BEGIN:DAYLIGHT
TZOFFSETFROM:+0100
TZOFFSETTO:+0200
TZNAME:CEST
DTSTART:20230326T010000
END:DAYLIGHT
BEGIN:STANDARD
TZOFFSETFROM:+0200
TZOFFSETTO:+0100
TZNAME:CET
DTSTART:20231029T010000
END:STANDARD
BEGIN:DAYLIGHT
TZOFFSETFROM:+0100
TZOFFSETTO:+0200
TZNAME:CEST
DTSTART:20240331T010000
END:DAYLIGHT
BEGIN:STANDARD
TZOFFSETFROM:+0200
TZOFFSETTO:+0100
TZNAME:CET
DTSTART:20241027T010000
END:STANDARD
BEGIN:DAYLIGHT
TZOFFSETFROM:+0100
TZOFFSETTO:+0200
TZNAME:CEST
DTSTART:20250330T010000
END:DAYLIGHT
BEGIN:STANDARD
TZOFFSETFROM:+0200
TZOFFSETTO:+0100
TZNAME:CET
DTSTART:20251026T010000
END:STANDARD
END:VTIMEZONE
BEGIN:VEVENT
DTSTART;VALUE=DATE:20240623
DTEND;VALUE=DATE:20240914
DTSTAMP:20260420T084718
CREATED:20240622T131416Z
LAST-MODIFIED:20240622T131416Z
UID:11363-1719100800-1726271999@www.carnavaldecadiz.com
SUMMARY:Viernes con arte en El Gastor
DESCRIPTION:Programación: \n\n23 de junio – Leo Power – en Gastronomía de Morales\n5 de julio – Diego Cruz – en Bar ‘Los de Joaquín’\n12 de julio – Maestros Cerveceros – en Bar ‘La Farola’\n19 de julio – Manuel Sevilla y Quique Parodi – en Mesón ‘Los Cuñaos’\n26 de julio – El Lerele – en Bar ‘La cancela’\n9 de agosto – Pérez y Piques – en Pizzería Neiva\n16 de agosto – Germán Rendón – en Bar ‘La posada’\n23 de agosto – Yoli Álvarez y José Cheza – en ‘Pompitas Café y Copas’\n30 de agosto – Los calentitos – en Bar ‘La venta’\n6 de septiembre – Abraham Sevilla – en Bar ‘Mari’\n13 de septiembre – Quique Parodi Trío – en Jacobo Café y Copas
URL:https://www.carnavaldecadiz.com/event/viernes-con-arte-en-el-gastor/
LOCATION:El Gastor\, El Gastor\, Cádiz\, España
CATEGORIES:Mucho más que carnaval
END:VEVENT
BEGIN:VEVENT
DTSTART;TZID=Europe/Madrid:20240903T200000
DTEND;TZID=Europe/Madrid:20240903T210000
DTSTAMP:20260420T084718
CREATED:20240803T161114Z
LAST-MODIFIED:20240819T101619Z
UID:12212-1725393600-1725397200@www.carnavaldecadiz.com
SUMMARY:Homenaje a Manolo Santander
DESCRIPTION:Con motivo del tercer aniversario del fallecimiento de Manuel Santander Cahué\, actuará su chirigota en el corazón del Barrio de la Viña. \nParticiparán en el homenaje: \n\nChirigota – UNA CHIRIGOTA CLÁSICA\nComparsa – LA HEREDERAS\nChirigota – LOS EXAGERADOS\nChirigota – LA CALLEJERA INVISIBLE\nChirigota -LOS CHABOLIS\nChirigota – LOS PLÁCIDOS DOMINGOS\nChirigota – CARNAVAL\, ME CAGO EN TUS MUERTOS\nChirigota – LOS QUE SALIERON PERDIENDO\nChirigota – LOS DEL CANAL SUR\nChirigota de Vera Luque\n\ny… muchas sorpresas más \nEvento público de libre acceso.
URL:https://www.carnavaldecadiz.com/event/homenaje-a-manolo-santander/
LOCATION:Plaza Manolo Santander\, Cádiz\, Plaza de la Reina\, Cádiz\, Cádiz\, 11002\, España
CATEGORIES:actuaciones de carnaval
END:VEVENT
BEGIN:VEVENT
DTSTART;TZID=Europe/Madrid:20240907T200000
DTEND;TZID=Europe/Madrid:20240907T233000
DTSTAMP:20260420T084718
CREATED:20240828T115053Z
LAST-MODIFIED:20240828T115053Z
UID:12713-1725739200-1725751800@www.carnavaldecadiz.com
SUMMARY:Paseo de Carnaval
DESCRIPTION:Nuevo evento carnavalero para despedir el verano en el Paseo Marítimo de Cádiz. \nOrden de actuación y ubicaciones: \nMódulo Central \n\n20:00h – Comparsa Infantil ‘LAS HIJAS DE NEPTUNO’\n20:20h – Chirigota Juvenil ‘LAS AÑEJAS’\n20:40h – Cuarteto Infantil ‘PAPÁ\, MAMÁ\, TENEMOS UN PROBLEMA’\n21:00h – Comparsa ‘LOS SACRIFICAOS’\n21:20h – Comparsa Juvenil ‘LA BARRICADA’\n21:40h – Coro ‘EL PARAÍSO’\n22:00h – Cuarteto ‘PUNK Y CIRCO\, LA LUCHA CONTINÚA’\n22:20h – Chirigota ‘LOS EXAGERADOS’\n22:40h – Comparsa ‘EL JOYERO’\n23:00h – Coro ‘EL GREMIO’\n23:20h – Chirigota ‘EL GRINCH DE CAI’\n23:40h – Chirigota ‘LA CALLEJERA INVISIBLE’\n\nA la altura calle José García Agulló \n\n20:00h – Chirigota Infantil ‘TOCHIKO MI CAI’\n20:20h – Coro Juvenil ‘LA PECERA’\n20:40h – Comparsa Infantil ‘SI YO TE CONTARA’\n21:00h – Chirigota Juvenil ‘CHIRIGOTEROS DESDE LA CUNA’\n21:20h – Coro ‘LOS LUCIÉRNAGAS’\n21:40h – Cuarteto Juvenil ‘LA SEÑORITA CANDELARIA Y TRES NIÑOS DE SECUNDARIA’\n22:00h – Comparsa ‘LOS COLGAOS’\n22:20h – Chirigota ‘EL GRINCH DE CADI’\n22:40h – Cuarteto ‘PUNK Y CIRCO\, LA LUCHA CONTINÚA’\n23:00h – Coro ‘LOS ILUMINADOS’\n23:20h – Coro ‘EL PARAÍSO’\n\nA la altura de la calle Nereidas \n\n20:00h – Cuarteto Infantil ‘UN CUARTETO EN PELIGRO DE EXTINCIÓN’\n20:20h – Comparsa Juvenil ‘LA CIUDAD DE LAS ESTRELLAS’\n20:40h – Chirigota Infantil ‘LOS INDIGESTOS’\n21:00h – Cuarteto Juvenil ‘CAMPAMENTO DE VERANO: EL TÍO CHANO’\n21:20h – Coro ‘LOS ILUMINADOS’\n21:40h – Comparsa ‘LOS SACRIFICAOS’\n22:00h – Coro ‘EL GREMIO’\n22:20h – Coro ‘LOS LUCIÉRNAGAS’\n22:40h – Chirigota ‘LA CALLEJERA INVISIBLE’\n23:00h – Comparsa ‘LOS COLGAOS’\n23:20h – Chirigota ‘LOS EXAGERAOS’\n23:40h – Comparsa ‘EL JOYERO’\n\nTodos eventos públicos de libre acceso.
URL:https://www.carnavaldecadiz.com/event/paseo-de-carnaval/
LOCATION:Paseo Marítimo de Cádiz.\, Paseo Marítimo\, Cádiz\, Cádiz\, 11011\, España
CATEGORIES:actuaciones de carnaval,carnaval callejero
END:VEVENT
BEGIN:VEVENT
DTSTART;TZID=Europe/Madrid:20240907T210000
DTEND;TZID=Europe/Madrid:20240907T233000
DTSTAMP:20260420T084718
CREATED:20240903T115348Z
LAST-MODIFIED:20240903T115512Z
UID:12789-1725742800-1725751800@www.carnavaldecadiz.com
SUMMARY:Noche de Carnaval en la Peña Con sabor a Cañailla
DESCRIPTION:Actuarán: \n\nAntología Sal de Coplas\nAntología Los tercios de Cádiz\nChirigota del Lejía\n\nEvento público de libre acceso. \n 
URL:https://www.carnavaldecadiz.com/event/noche-de-carnaval-en-la-pena-con-sabor-a-canailla/
LOCATION:Peña Con sabor a Cañailla\, San Fernando\, calle Buen Pastor 197\, San Fernando\, Cádiz\, 11100\, España
CATEGORIES:actuaciones de carnaval
END:VEVENT
BEGIN:VEVENT
DTSTART;TZID=Europe/Madrid:20240914T120000
DTEND;TZID=Europe/Madrid:20240914T170000
DTSTAMP:20260420T084718
CREATED:20240910T155739Z
LAST-MODIFIED:20240910T155739Z
UID:12928-1726315200-1726333200@www.carnavaldecadiz.com
SUMMARY:Inauguración de la Peña 'El cuarto de ensayo'
DESCRIPTION:Inauguración de la Peña ‘El cuarto de ensayo’ dedicada a Francisco Ponce Jaén ‘El Kiko’ \nActuarán las siguientes agrupaciones: \n\nChirirgota ‘Anonimous gaditano’\nAntología ‘Los tercios de Cádiz’\nAntología ‘Los cañavaleros’\nAntología ‘Sal de coplas’\nChirigota infantil ‘Los indigestos’\nChirigota ‘Los que salieron perdiendo’\nAntología ‘De mil colores’\nAntología ‘Savia nueva’\nAntología ‘Un trío de toda la vida’\nAntología ‘Por y para Cádiz’\n\nEvento público de libre acceso.
URL:https://www.carnavaldecadiz.com/event/inauguracion-de-la-pena-el-cuarto-de-ensayo/
LOCATION:Peña ‘El cuarto de ensayo’\, San Fernando\, calle cruz roja española\, San Fernando\, Cádiz\, 11100\, Spain
CATEGORIES:actuaciones de carnaval
END:VEVENT
BEGIN:VEVENT
DTSTART;TZID=Europe/Madrid:20240921T233000
DTEND;TZID=Europe/Madrid:20240922T003000
DTSTAMP:20260420T084718
CREATED:20240914T122655Z
LAST-MODIFIED:20240914T122655Z
UID:13044-1726961400-1726965000@www.carnavaldecadiz.com
SUMMARY:Antología 'LOS AFORTUNADOS' en San Fernando
DESCRIPTION:
URL:https://www.carnavaldecadiz.com/event/antologia-los-afortunados-en-san-fernando/
LOCATION:Plaza San Juan\, San Fernando\, Plaza San Juan\, San Fernando\, Cádiz\, 11100\, Spain
CATEGORIES:actuaciones de carnaval
END:VEVENT
BEGIN:VEVENT
DTSTART;TZID=Europe/Madrid:20240922T120000
DTEND;TZID=Europe/Madrid:20240922T180000
DTSTAMP:20260420T084718
CREATED:20240918T131403Z
LAST-MODIFIED:20240918T131403Z
UID:13137-1727006400-1727028000@www.carnavaldecadiz.com
SUMMARY:IV Concurso de Antologías FIPE
DESCRIPTION:Orden de actuación de antologías : \n\n12:00h – Sal de Coplas\n12:30h – Los Tuyos\n13:00h – Los Cleriguillo\n13:30h – Yo si que me como tu cara\n\nEntrega de premios a los arroces a las peñas \n\n14:30h – Los XL una chirigota de peso\n15:00h – Cádiz de mil colores\n15:30h – Este año no salimos\n16:00h- Piando por Cádiz\n16:30 Fallo del jurado.\n\nEvento público de libre acceso.
URL:https://www.carnavaldecadiz.com/event/iv-concurso-de-antologias-fipe/
LOCATION:Cerro de los Mártires\, San Fernando\, Cerro de los Mártires\, San Fernando\, Cádiz\, 11100\, Spain
CATEGORIES:actuaciones de carnaval
END:VEVENT
BEGIN:VEVENT
DTSTART;TZID=Europe/Madrid:20240928T160000
DTEND;TZID=Europe/Madrid:20240928T210000
DTSTAMP:20260420T084718
CREATED:20240918T093242Z
LAST-MODIFIED:20240918T093242Z
UID:13119-1727539200-1727557200@www.carnavaldecadiz.com
SUMMARY:II Cartelón Festival
DESCRIPTION:organizado por la Asociación Cultural Carnavalesca El Pitijopo El Cartelón Festival\, es una convivencia de romanceros (modalidad netamente callejera\, gamberra e irreverente del Carnaval de Cádiz)\, en la que podrás disfrutar de sus actuaciones completamente gratis.Se celebrará un acto de hermanamiento con la Asociacion de Romanceros del Carnaval de Cadiz ¡No te lo pierdas! ¡Blam Blam!
URL:https://www.carnavaldecadiz.com/event/ii-cartelon-festival/
LOCATION:Plaza de Jerez\, Sanlúcar\, Plaza de Jerez\, Sanlúcar de Barrameda\, Cádiz\, 11540\, Spain
CATEGORIES:actuaciones de carnaval,carnaval callejero
END:VEVENT
BEGIN:VEVENT
DTSTART;TZID=Europe/Madrid:20240928T173000
DTEND;TZID=Europe/Madrid:20240928T183000
DTSTAMP:20260420T084718
CREATED:20240927T193850Z
LAST-MODIFIED:20240927T193850Z
UID:13316-1727544600-1727548200@www.carnavaldecadiz.com
SUMMARY:Carnaval en San Roque
DESCRIPTION:Evento público de libre acceso.
URL:https://www.carnavaldecadiz.com/event/carnaval-en-san-roque/
LOCATION:Nono´s Moverán\, San Roque\, Plaza de Armas s/n\, San Roque\, Cádiz\, 11360\, Spain
CATEGORIES:actuaciones de carnaval
END:VEVENT
BEGIN:VEVENT
DTSTART;TZID=Europe/Madrid:20240928T210000
DTEND;TZID=Europe/Madrid:20240928T223000
DTSTAMP:20260420T084718
CREATED:20240925T165054Z
LAST-MODIFIED:20240925T165054Z
UID:13267-1727557200-1727562600@www.carnavaldecadiz.com
SUMMARY:Carlos Pérez y El Love en la Peña Mencantajere
DESCRIPTION:Evento público de libre acceso.
URL:https://www.carnavaldecadiz.com/event/carlos-perez-y-el-love-en-la-pena-mencantajere/
LOCATION:Peña Mencantajeré\, calla falta 15\, Jerez de la Frontera\, Cádiz\, 11408\, España
CATEGORIES:actuaciones de carnaval
END:VEVENT
END:VCALENDAR