BEGIN:VCALENDAR
VERSION:2.0
PRODID:-//Carnaval de C&aacute;diz - ECPv6.15.20//NONSGML v1.0//EN
CALSCALE:GREGORIAN
METHOD:PUBLISH
X-ORIGINAL-URL:https://www.carnavaldecadiz.com
X-WR-CALDESC:Eventos para Carnaval de C&aacute;diz
REFRESH-INTERVAL;VALUE=DURATION:PT1H
X-Robots-Tag:noindex
X-PUBLISHED-TTL:PT1H
BEGIN:VTIMEZONE
TZID:Europe/Madrid
BEGIN:DAYLIGHT
TZOFFSETFROM:+0100
TZOFFSETTO:+0200
TZNAME:CEST
DTSTART:20230326T010000
END:DAYLIGHT
BEGIN:STANDARD
TZOFFSETFROM:+0200
TZOFFSETTO:+0100
TZNAME:CET
DTSTART:20231029T010000
END:STANDARD
BEGIN:DAYLIGHT
TZOFFSETFROM:+0100
TZOFFSETTO:+0200
TZNAME:CEST
DTSTART:20240331T010000
END:DAYLIGHT
BEGIN:STANDARD
TZOFFSETFROM:+0200
TZOFFSETTO:+0100
TZNAME:CET
DTSTART:20241027T010000
END:STANDARD
BEGIN:DAYLIGHT
TZOFFSETFROM:+0100
TZOFFSETTO:+0200
TZNAME:CEST
DTSTART:20250330T010000
END:DAYLIGHT
BEGIN:STANDARD
TZOFFSETFROM:+0200
TZOFFSETTO:+0100
TZNAME:CET
DTSTART:20251026T010000
END:STANDARD
END:VTIMEZONE
BEGIN:VEVENT
DTSTART;VALUE=DATE:20240623
DTEND;VALUE=DATE:20240914
DTSTAMP:20260420T102220
CREATED:20240622T131416Z
LAST-MODIFIED:20240622T131416Z
UID:11363-1719100800-1726271999@www.carnavaldecadiz.com
SUMMARY:Viernes con arte en El Gastor
DESCRIPTION:Programación: \n\n23 de junio – Leo Power – en Gastronomía de Morales\n5 de julio – Diego Cruz – en Bar ‘Los de Joaquín’\n12 de julio – Maestros Cerveceros – en Bar ‘La Farola’\n19 de julio – Manuel Sevilla y Quique Parodi – en Mesón ‘Los Cuñaos’\n26 de julio – El Lerele – en Bar ‘La cancela’\n9 de agosto – Pérez y Piques – en Pizzería Neiva\n16 de agosto – Germán Rendón – en Bar ‘La posada’\n23 de agosto – Yoli Álvarez y José Cheza – en ‘Pompitas Café y Copas’\n30 de agosto – Los calentitos – en Bar ‘La venta’\n6 de septiembre – Abraham Sevilla – en Bar ‘Mari’\n13 de septiembre – Quique Parodi Trío – en Jacobo Café y Copas
URL:https://www.carnavaldecadiz.com/event/viernes-con-arte-en-el-gastor/
LOCATION:El Gastor\, El Gastor\, Cádiz\, España
CATEGORIES:Mucho más que carnaval
END:VEVENT
BEGIN:VEVENT
DTSTART;VALUE=DATE:20240705
DTEND;VALUE=DATE:20240831
DTSTAMP:20260420T102220
CREATED:20240707T123717Z
LAST-MODIFIED:20240707T123746Z
UID:11669-1720137600-1725062399@www.carnavaldecadiz.com
SUMMARY:Chiricuarteto de Carnaval 'Después de jubilao...'
DESCRIPTION:Actúan todos los viernes de julio y agosto. \nEvento público de libre acceso.
URL:https://www.carnavaldecadiz.com/event/chiricuarteto-de-carnaval-despues-de-jubilao/
LOCATION:La cruz del mar\, Chipiona\, Pº. Cruz del Mar 18\, Chipiona\, Cádiz\, 11550\, España
CATEGORIES:actuaciones de carnaval
END:VEVENT
BEGIN:VEVENT
DTSTART;VALUE=DATE:20240801
DTEND;VALUE=DATE:20240804
DTSTAMP:20260420T102220
CREATED:20240603T232011Z
LAST-MODIFIED:20240803T144526Z
UID:10987-1722470400-1722729599@www.carnavaldecadiz.com
SUMMARY:Concurso de antologías 'Memorial Alfonso Gámez'
DESCRIPTION:Organizado por la Peña Original ‘Paco Alba’ \nORDEN DE ACTUACIÓN \nJueves 1 de julio\, a partir de las 21:00h \n\nEste año no salimos\nYo si te como tu cara\nLos afortunados\nLos guachisnais\nSal de coplas\nEl que fue a Sevilla perdió su sombrilla (Los conquistadores)\nLos tuyos\nLos cleriguillos\n\nViernes 2 de julio\, a partir de las 21:00h \n\nNos vemos cuando podamos\nDesde la frontera\nLos XL (Una antología de peso)\nLos coloretes\nLos cañavaleros\nLos cleriniños\nLa tropa del 3×4\nTutankamon como siempre\n\nSábado 3 de julio\, final a partir de las 21:00h \n\nDesde la frontera\nLos XL (Una antología de peso)\nLa tropa del 3×4\nLos tuyos\nLos cleriniños\nTutankamon como siempre\nLos cleriguillos\n\nEventos públicos de libre acceso \n 
URL:https://www.carnavaldecadiz.com/event/concurso-de-antologias-memorial-alfonso-gamez/
LOCATION:Peña Paco Alba\, calle antulo 6\, Cádiz\, Cádiz\, 11006\, España
CATEGORIES:actuaciones de carnaval,concurso de carnaval
END:VEVENT
BEGIN:VEVENT
DTSTART;TZID=Europe/Madrid:20240801T203000
DTEND;TZID=Europe/Madrid:20240801T223000
DTSTAMP:20260420T102220
CREATED:20240729T081107Z
LAST-MODIFIED:20240729T081107Z
UID:12021-1722544200-1722551400@www.carnavaldecadiz.com
SUMMARY:Encuentro con Ángel Gago 'El Gago'
DESCRIPTION:Evento público de libre acceso.
URL:https://www.carnavaldecadiz.com/event/encuentro-con-angel-gago-el-gago/
LOCATION:Bar La Casapuerta\, calle Sagasta 40\, Cádiz\, Cádiz\, 11001\, España
CATEGORIES:Mucho más que carnaval
END:VEVENT
BEGIN:VEVENT
DTSTART;TZID=Europe/Madrid:20240802T223000
DTEND;TZID=Europe/Madrid:20240802T233000
DTSTAMP:20260420T102220
CREATED:20240729T123222Z
LAST-MODIFIED:20240729T123222Z
UID:12034-1722637800-1722641400@www.carnavaldecadiz.com
SUMMARY:Carnaval en la Fiesta de la Urta de Rota
DESCRIPTION:En la Plaza de San Roque y en la Plaza Jesús Nazareno actuarán: \n\nChirigota infantil ‘ABRIENDO PASO’\nAntología PIANDO POR CAI\n\nEvento público de libre acceso.
URL:https://www.carnavaldecadiz.com/event/carnaval-en-la-fiesta-de-la-urta-de-rota/
LOCATION:Plaza San Roque\, Rota\, plaza San roque\, Rota\, Cádiz\, 11520\, España
CATEGORIES:actuaciones de carnaval
END:VEVENT
BEGIN:VEVENT
DTSTART;TZID=Europe/Madrid:20240803T230000
DTEND;TZID=Europe/Madrid:20240804T000000
DTSTAMP:20260420T102220
CREATED:20240702T200200Z
LAST-MODIFIED:20240702T200200Z
UID:11539-1722726000-1722729600@www.carnavaldecadiz.com
SUMMARY:Actuación de EL MALO MÁS MALOTE DE LAS PELIS DE HARRY POTTER
DESCRIPTION:Evento público de libre acceso.
URL:https://www.carnavaldecadiz.com/event/actuacion-de-el-malo-mas-malote-de-las-pelis-de-harry-potter/
LOCATION:AVV Federico Mayo\, Dos Hermanas\, calle Fandango 15\, Dos Hermanas\, Sevilla\, 41704\, España
CATEGORIES:actuaciones de carnaval
END:VEVENT
BEGIN:VEVENT
DTSTART;TZID=Europe/Madrid:20240804T213000
DTEND;TZID=Europe/Madrid:20240804T233000
DTSTAMP:20260420T102220
CREATED:20240729T170535Z
LAST-MODIFIED:20240729T170739Z
UID:12055-1722807000-1722814200@www.carnavaldecadiz.com
SUMMARY:Carnaval en la Fiesta de la Urta de Rota
DESCRIPTION:En la Plaza Bartolomé Pérez actuarán: \n\nChirigota – LOS NIÑOS DE ISABELITA 2\nComparsa – LOS SACRIFICAOS\n\nEvento público de libre acceso.
URL:https://www.carnavaldecadiz.com/event/carnaval-en-la-fiesta-de-la-urta-de-rota-2/
LOCATION:Plaza Bartolomé Pérez\, Rota\, Plaza Bartolomé Pérez\, Rota\, Cádiz\, España
CATEGORIES:actuaciones de carnaval
END:VEVENT
BEGIN:VEVENT
DTSTART;VALUE=DATE:20240808
DTEND;VALUE=DATE:20240811
DTSTAMP:20260420T102220
CREATED:20240603T232626Z
LAST-MODIFIED:20240805T202754Z
UID:10990-1723075200-1723334399@www.carnavaldecadiz.com
SUMMARY:IV Concurso de Antologías AVV Murallas de San Carlos
DESCRIPTION:ORDEN DE ACTUACIÓN\nJueves 8 de julio a partir de las 21:00h \n\nLos cleriniños\nSal de coplas\nLa tropa del 3×4\nLos tercios de Cádiz\nLos XL (Una antología de peso)\nTutankamon como siempre\nLos afortunados\nEste año no salimos\nLos cleriguillos\n\nViernes 9 de julio a partir de las 21:00h \n\nDesde la frontera\nLos tuyos\nCádiz de mil colores\nLos cañavaleros\nNos vemos cuando podamos\nYo sí que te como tu cara\nUn trío de toda la vida\nEl que fue a Sevilla perdió su sombrilla. Los conquistadores\nLos del pueblejito\n\nFinal sábado 10 de julio a partir de las 21:00h \nA la espera de grupos clasificados \nEvento público de libre acceso
URL:https://www.carnavaldecadiz.com/event/iv-concurso-de-antologias-avv-murallas-de-san-carlos/
LOCATION:AAVV San Carlos-Los negritos\, calle San Germán 2\, Cádiz\, Cádiz\, 11004\, España
CATEGORIES:actuaciones de carnaval,concurso de carnaval
END:VEVENT
BEGIN:VEVENT
DTSTART;TZID=Europe/Madrid:20240808T190000
DTEND;TZID=Europe/Madrid:20240808T210000
DTSTAMP:20260420T102220
CREATED:20240802T180724Z
LAST-MODIFIED:20240802T180724Z
UID:12124-1723143600-1723150800@www.carnavaldecadiz.com
SUMMARY:Carnaval Callejero en Moana
DESCRIPTION:El mejor carnaval callejero. Evento muy recomendable
URL:https://www.carnavaldecadiz.com/event/carnaval-callejero-en-moana/
LOCATION:Moana\, Beach Club\, Cádiz\, Avenida Vía Augusta Julia\, Cádiz\, Cádiz\, 110011\, España
CATEGORIES:actuaciones de carnaval
END:VEVENT
BEGIN:VEVENT
DTSTART;TZID=Europe/Madrid:20240808T200000
DTEND;TZID=Europe/Madrid:20240808T213000
DTSTAMP:20260420T102220
CREATED:20240805T230355Z
LAST-MODIFIED:20240805T230355Z
UID:12252-1723147200-1723152600@www.carnavaldecadiz.com
SUMMARY:Presentación del libro COPLAS DEL AÑO 1960
DESCRIPTION:Evento público de libre acceso
URL:https://www.carnavaldecadiz.com/event/presentacion-del-libro-coplas-del-ano-1960/
LOCATION:Peña Hay Moros en la Costa\, Puerto Real\, calle Amargura 48\, Puerto Real\, Cádiz\, 11510\, España
CATEGORIES:Libros de Carnaval
END:VEVENT
BEGIN:VEVENT
DTSTART;TZID=Europe/Madrid:20240808T210000
DTEND;TZID=Europe/Madrid:20240808T220000
DTSTAMP:20260420T102220
CREATED:20240807T114055Z
LAST-MODIFIED:20240807T114055Z
UID:12284-1723150800-1723154400@www.carnavaldecadiz.com
SUMMARY:Actuación de ANONYMUS GADITANO
DESCRIPTION:Evento público de libre acceso.
URL:https://www.carnavaldecadiz.com/event/actuacion-de-anonymus-gaditano/
LOCATION:Plazuela de la Pastora\, San Fernando\, Calle Santa Rosalia 1\, San Fernando\, Cádiz\, 11100\, España
CATEGORIES:actuaciones de carnaval
END:VEVENT
BEGIN:VEVENT
DTSTART;TZID=Europe/Madrid:20240808T223000
DTEND;TZID=Europe/Madrid:20240808T233000
DTSTAMP:20260420T102220
CREATED:20240729T202204Z
LAST-MODIFIED:20240729T202204Z
UID:12074-1723156200-1723159800@www.carnavaldecadiz.com
SUMMARY:Festival Carnavalero en Marmolejo
DESCRIPTION:Actuarán: \n\nChirigota – LA ÚLTIMA Y NOS VAMOS\nTrío de Rafa Taleguilla\n\nEvento público de libre acceso
URL:https://www.carnavaldecadiz.com/event/festival-carnavalero-en-marmolejo/
LOCATION:Caseta Municipal\, Marmolejo\, Plaza de la Libertad 20\, Marmolejo\, Jaén\, 23770\, España
CATEGORIES:actuaciones de carnaval
END:VEVENT
BEGIN:VEVENT
DTSTART;TZID=Europe/Madrid:20240809T223000
DTEND;TZID=Europe/Madrid:20240809T233000
DTSTAMP:20260420T102220
CREATED:20240805T231747Z
LAST-MODIFIED:20240805T231747Z
UID:12259-1723242600-1723246200@www.carnavaldecadiz.com
SUMMARY:Noche de Carnaval en Rota
DESCRIPTION:Evento público de libre acceso.
URL:https://www.carnavaldecadiz.com/event/noche-de-carnaval-en-rota-2/
LOCATION:Peña DOSA\, Rota\, Avenida de la Diputación 154\, Rota\, Cádiz\, 11520\, España
CATEGORIES:actuaciones de carnaval
END:VEVENT
BEGIN:VEVENT
DTSTART;TZID=Europe/Madrid:20240809T233000
DTEND;TZID=Europe/Madrid:20240810T003000
DTSTAMP:20260420T102220
CREATED:20240807T180715Z
LAST-MODIFIED:20240807T180715Z
UID:12309-1723246200-1723249800@www.carnavaldecadiz.com
SUMMARY:Antología de 'EL SHERIFF' en Bornos
DESCRIPTION:Evento público de libre acceso.
URL:https://www.carnavaldecadiz.com/event/antologia-de-el-sheriff-en-bornos/
LOCATION:Bornos\, Bornos\, Cádiz\, 11640\, España
CATEGORIES:actuaciones de carnaval
END:VEVENT
BEGIN:VEVENT
DTSTART;TZID=Europe/Madrid:20240810T210000
DTEND;TZID=Europe/Madrid:20240810T233000
DTSTAMP:20260420T102220
CREATED:20240807T184249Z
LAST-MODIFIED:20240807T184249Z
UID:12313-1723323600-1723332600@www.carnavaldecadiz.com
SUMMARY:Carnaval en la Velada de la Salud\, Puerto Real
DESCRIPTION:Actuarán: \n\nToni piojo y piojo chico\nAntología Por y para Cádiz\n\nEvento público de libre acceso \n 
URL:https://www.carnavaldecadiz.com/event/carnaval-en-la-velada-de-la-salud-puerto-real/
LOCATION:Plaza García Caparros\, Puerto Real\, calle Vejer 15\, Puerto Real\, Cádiz\, 11510\, España
CATEGORIES:actuaciones de carnaval
END:VEVENT
BEGIN:VEVENT
DTSTART;VALUE=DATE:20240815
DTEND;VALUE=DATE:20240818
DTSTAMP:20260420T102220
CREATED:20240705T120739Z
LAST-MODIFIED:20240705T120739Z
UID:11597-1723680000-1723939199@www.carnavaldecadiz.com
SUMMARY:Concurso de Antologías dedicado a los Hermanos Márquez Mateo
DESCRIPTION:Adelanto de la programación del evento: \nJueves 15 de agosto: \n\n20.30h: Charla con los hermanos Márquez Mateos donde se realizará un recorrido por su trayectoria carnavalesca\, contándonos su historia\, anécdotas y todo tipo de curiosidades\, para posteriormente responder a las preguntas del público asistente.\n21.30h: Primera semifinal del concurso.\n\nViernes 16 de agosto: \n\n20.30h: Mesa redonda/Coloquio abierto al público «Concurso oficial de agrupaciones involución o evolución» donde participarán conocidos autores del carnaval de Cádiz que representarán a cada una de las modalidades participantes.\n21.30h: Segunda semifinal del concurso.\n\nSábado 17 de agosto: \n\n20.30h: Actuaciones de agrupaciones participantes en el COAC.\n22.00h: Final del concurso de antología.\n\nA la finalización del concurso\, el jurado que presidirá Juan Garrido Ponce «Juanelo» otorgará los premios dotados de la siguiente cuantía: \n\n 1 Premio: 1500€\n2 Premio: 1000€\n3 Premio: 500€\n\nNOTA: A la espera de recibir más información. \nEvento público de libre acceso.
URL:https://www.carnavaldecadiz.com/event/concurso-de-antologias-dedicado-a-los-hermanos-marquez-mateo/
LOCATION:Oratorio San Felipe Neri\, Cádiz\, calle San José 36\, Cádiz\, Cádiz\, 11003\, España
CATEGORIES:actuaciones de carnaval,Mucho más que carnaval
END:VEVENT
BEGIN:VEVENT
DTSTART;TZID=Europe/Madrid:20240816T220000
DTEND;TZID=Europe/Madrid:20240816T233000
DTSTAMP:20260420T102220
CREATED:20240807T111326Z
LAST-MODIFIED:20240807T111326Z
UID:12277-1723845600-1723851000@www.carnavaldecadiz.com
SUMMARY:Carnavaleando en San Roque
DESCRIPTION:Con las actuaciones de:Los de la Cantera:PiruSergio TejadaTomateJavi BrihuegaFofi Romero Las chirigotas de San Roque 2024: “A mí que registren” & “Las Mediogrammys”
URL:https://www.carnavaldecadiz.com/event/carnavaleando-en-san-roque/
LOCATION:Nono´s Moverán Café y Copas\, San Roque\, Plaza de Armas s/n\, San Roque\, Cádiz\, 11360\, España
CATEGORIES:actuaciones de carnaval
END:VEVENT
BEGIN:VEVENT
DTSTART;TZID=Europe/Madrid:20240817T210000
DTEND;TZID=Europe/Madrid:20240818T020000
DTSTAMP:20260420T102220
CREATED:20240816T154859Z
LAST-MODIFIED:20240816T154859Z
UID:12445-1723928400-1723946400@www.carnavaldecadiz.com
SUMMARY:Noche de Romanceros en Cortes de la Frontera
DESCRIPTION:Evento público de libre acceso\, se desarrolla por las calles de la localidad.
URL:https://www.carnavaldecadiz.com/event/noche-de-romanceros-en-cortes-de-la-frontera/
LOCATION:Cortes de la Frontera\, Cortes de la Frontera\, Málaga\, 29380\, España
CATEGORIES:actuaciones de carnaval
END:VEVENT
BEGIN:VEVENT
DTSTART;TZID=Europe/Madrid:20240817T230000
DTEND;TZID=Europe/Madrid:20240818T003000
DTSTAMP:20260420T102220
CREATED:20240815T131119Z
LAST-MODIFIED:20240815T131119Z
UID:12427-1723935600-1723941000@www.carnavaldecadiz.com
SUMMARY:Comparsa EL JOYERO en Benamejí
DESCRIPTION:Evento público de libre acceso
URL:https://www.carnavaldecadiz.com/event/comparsa-el-joyero-en-benameji/
LOCATION:Caseta Municipal\, Benamejí\, calle Camino del Río 15\, Benamejí\, Córdoba\, España
CATEGORIES:actuaciones de carnaval
END:VEVENT
BEGIN:VEVENT
DTSTART;VALUE=DATE:20240819
DTEND;VALUE=DATE:20240824
DTSTAMP:20260420T102220
CREATED:20240819T094354Z
LAST-MODIFIED:20240819T094354Z
UID:12469-1724025600-1724457599@www.carnavaldecadiz.com
SUMMARY:INSCRIPCIONES I Concurso a nudillos de antologías Ciudad de Algeciras
DESCRIPTION:Abierto plazo de inscripción hasta el 23 de agosto. \nMas información 671464166 – 655659573
URL:https://www.carnavaldecadiz.com/event/inscripciones-i-concurso-a-nudillos-de-antologias-ciudad-de-algeciras/
LOCATION:Plazoleta San Isidro\, Algeciras\, Plaza San Isidro\, Algeciras\, Cádiz\, 11201\, España
CATEGORIES:actuaciones de carnaval
END:VEVENT
BEGIN:VEVENT
DTSTART;TZID=Europe/Madrid:20240821T160000
DTEND;TZID=Europe/Madrid:20240821T170000
DTSTAMP:20260420T102221
CREATED:20240819T132006Z
LAST-MODIFIED:20240819T132006Z
UID:12508-1724256000-1724259600@www.carnavaldecadiz.com
SUMMARY:Toni Piojo y Manolín Santander en MAMBA
DESCRIPTION:Evento público de libre acceso \nReservas 659669432
URL:https://www.carnavaldecadiz.com/event/toni-piojo-y-manolin-santander-en-mamba/
LOCATION:Mamba Beach Club\, Rota\, Playa del Rompidillo\, Rota\, Cádiz\, 11520\, España
CATEGORIES:actuaciones de carnaval
END:VEVENT
BEGIN:VEVENT
DTSTART;VALUE=DATE:20240822
DTEND;VALUE=DATE:20240825
DTSTAMP:20260420T102221
CREATED:20240822T122929Z
LAST-MODIFIED:20240822T122929Z
UID:12605-1724284800-1724543999@www.carnavaldecadiz.com
SUMMARY:II Concurso de Antologías de Coplas Plaza del Mentidero
DESCRIPTION:Orden de actuación\nJueves 22 de agosto a partir de las 20:30h \n\nCádiz de mil colores\nLos afortunados\nLos cleriniños\nLos tuyos\nUn trío de toda la vida\nLos cleriguillos\n\nViernes 23 de agosto a partir de las 20:30h \n\nAntología del Puerto ‘Los coloretes’\nTutankamon como siempre\nEste año no salimos\nLa tropa del 3×4\nYo sí que te como tu cara\nEl que se fue a Sevilla perdió su sombrilla ‘Los conquistadores’\n\nSábado 24 de agosto GRAN FINAL a partir de las 20:30h \n\nA la espera de grupos clasificados\n\nEvento público de libre acceso. \n 
URL:https://www.carnavaldecadiz.com/event/ii-concurso-de-antologias-de-coplas-plaza-del-mentidero/
LOCATION:Plaza del Mentidero. Cádiz\, Plaza del Mentidero\, Cádiz\, Cádiz\, 11003\, España
CATEGORIES:actuaciones de carnaval
END:VEVENT
BEGIN:VEVENT
DTSTART;TZID=Europe/Madrid:20240822T230000
DTEND;TZID=Europe/Madrid:20240823T003000
DTSTAMP:20260420T102221
CREATED:20240715T163952Z
LAST-MODIFIED:20240715T164009Z
UID:11820-1724367600-1724373000@www.carnavaldecadiz.com
SUMMARY:LA OVEJA NEGRA en Vejer
DESCRIPTION:Evento público de librea cceso.
URL:https://www.carnavaldecadiz.com/event/la-oveja-negra-en-vejer/
LOCATION:Plaza de España\, Vejer\, Plaza de España\, Vejer\, Cádiz\, 11150\, España
CATEGORIES:actuaciones de carnaval
END:VEVENT
BEGIN:VEVENT
DTSTART;TZID=Europe/Madrid:20240823T200000
DTEND;TZID=Europe/Madrid:20240823T223000
DTSTAMP:20260420T102221
CREATED:20240822T151725Z
LAST-MODIFIED:20240822T151725Z
UID:12611-1724443200-1724452200@www.carnavaldecadiz.com
SUMMARY:Noche de Carnaval dedicada a la Cantera. Peña Los Catavinos
DESCRIPTION:Actuarán: \n\nRomancero infantil – Las historias de Luigi y Peach\nChirigota infantil – Los indigestos\nChirigota juvenil – Las añejas\n\nEvento público de libre acceso. \n 
URL:https://www.carnavaldecadiz.com/event/noche-de-carnaval-dedicada-a-la-cantera-pena-los-catavinos/
LOCATION:Peña Cultural Carnavalesca Los catavinos\, San Fernando\, calle Santo Domingo 10\, San Fernando\, Cádiz11100\, España
CATEGORIES:actuaciones de carnaval
END:VEVENT
BEGIN:VEVENT
DTSTART;TZID=Europe/Madrid:20240823T203000
DTEND;TZID=Europe/Madrid:20240823T233000
DTSTAMP:20260420T102221
CREATED:20240819T100059Z
LAST-MODIFIED:20240819T100059Z
UID:12473-1724445000-1724455800@www.carnavaldecadiz.com
SUMMARY:Carnaval en la AVV Atlantico
DESCRIPTION:Evento público de libre acceso.
URL:https://www.carnavaldecadiz.com/event/carnaval-en-la-avv-atlantico/
LOCATION:Plaza Manchón de la Huerta\, Chipiona\, Plaza Manchón de la Huerta\, Chipiona\, Cádiz\, 11550\, España
CATEGORIES:actuaciones de carnaval
END:VEVENT
BEGIN:VEVENT
DTSTART;TZID=Europe/Madrid:20240823T213000
DTEND;TZID=Europe/Madrid:20240823T230000
DTSTAMP:20260420T102221
CREATED:20240802T175915Z
LAST-MODIFIED:20240802T175915Z
UID:12120-1724448600-1724454000@www.carnavaldecadiz.com
SUMMARY:XV Noche de los Capachas
DESCRIPTION:Organizada por la Peña Carnavalesca ‘Perico Alcantara’ \nActuación de la Chirigota ‘LOS CHABOLIS’ \nAdquisición de invitaciones en: \n\nOptica Vega\n625695684\n530694494\n\nCapacha del año Juan Jesús Sánchez Rodríguez
URL:https://www.carnavaldecadiz.com/event/xv-noche-de-los-capachas/
LOCATION:Campo Municipal de Deportes de Chiclana\, calle Agustín Blzquez s/n\, ´Chiclana de la Frontera\, Cádiz\, 11130\, España
CATEGORIES:actuaciones de carnaval
END:VEVENT
BEGIN:VEVENT
DTSTART;TZID=Europe/Madrid:20240823T220000
DTEND;TZID=Europe/Madrid:20240824T010000
DTSTAMP:20260420T102221
CREATED:20240821T104540Z
LAST-MODIFIED:20240821T104540Z
UID:12587-1724450400-1724461200@www.carnavaldecadiz.com
SUMMARY:Carnaval en Conil
DESCRIPTION:Evento público de libre acceso. \nActuarán entre otras agrupaciones callejeras: \nLa chirigota callejera del Sofri \nla callejera TUS MUERTOS \n 
URL:https://www.carnavaldecadiz.com/event/carnaval-en-conil/
LOCATION:AAVV Las Virtudes-Conil\, calle Dos Hermanas 2A\, Conil de la Frontera\, Cádiz\, 11140\, España
CATEGORIES:actuaciones de carnaval,carnaval callejero
END:VEVENT
BEGIN:VEVENT
DTSTART;TZID=Europe/Madrid:20240824T213000
DTEND;TZID=Europe/Madrid:20240825T020000
DTSTAMP:20260420T102221
CREATED:20240821T100447Z
LAST-MODIFIED:20240821T100447Z
UID:12583-1724535000-1724551200@www.carnavaldecadiz.com
SUMMARY:Carnaval de Verano en Barbate
DESCRIPTION:Organizado por el Centro Social Autogestionado El Kinto Pino con la colaboración del Ayuntamiento de Barbate\, es un evento que se desarrolla por el casco antiguo de una de las localidades gaditanas donde se vive más intensamente el Carnaval. \nUbicaciones donde podrás encontrar agrupaciones cantando: \ncalle Nuestra Señora de la Oliva \ncalle Real \ncalle Nuestra Señora del Carmen \nPatio Farruco \ncalle La Rosa \ncalle Torrecillas \nEvento público de libre acceso. \n 
URL:https://www.carnavaldecadiz.com/event/carnaval-de-verano-en-barbate/
LOCATION:Patio Farruco\, Barbate\, calle La Rosa 8\, Barbate\, Cádiz\, 11160\, España
CATEGORIES:actuaciones de carnaval,carnaval callejero
END:VEVENT
BEGIN:VEVENT
DTSTART;TZID=Europe/Madrid:20240824T220000
DTEND;TZID=Europe/Madrid:20240824T235900
DTSTAMP:20260420T102221
CREATED:20240729T175351Z
LAST-MODIFIED:20240820T181016Z
UID:12061-1724536800-1724543940@www.carnavaldecadiz.com
SUMMARY:II Concurso de Dúos y Tríos 'José Díaz Caro'
DESCRIPTION:Orden de actuación:\n\nUn trío de toa la vida\nLos exiliados\nMe llaman Calle\nLos titirimundi\nPiando por Cai\nLos cañavaleros\n\nEvento público de libre acceso.
URL:https://www.carnavaldecadiz.com/event/ii-concurso-de-duos-y-trios-jose-diaz-caro/
LOCATION:Peña Cruz del Mar\, Chipiona\, calle Padre Lerchundi 64\, Chipiona\, Cádiz\, 11550\, España
CATEGORIES:actuaciones de carnaval
END:VEVENT
BEGIN:VEVENT
DTSTART;TZID=Europe/Madrid:20240824T220000
DTEND;TZID=Europe/Madrid:20240825T013000
DTSTAMP:20260420T102221
CREATED:20240819T173312Z
LAST-MODIFIED:20240819T173312Z
UID:12516-1724536800-1724549400@www.carnavaldecadiz.com
SUMMARY:Carnaval en la Fiesta de los Cañonazos
DESCRIPTION:Aproximadamente a partir de las 22:00h actuaran: \n\nAntología – El que se fue a Sevilla perdió su sambrilla\nChirigota – Sácamela de la boca\nAntología – Los del pueblejito\nComparsa – La chirigotera\n\nEvento público de libre acceso \n 
URL:https://www.carnavaldecadiz.com/event/carnaval-en-la-fiesta-de-los-canonazos/
LOCATION:Plaza San Lorenzo del Puntal\, Cádiz\, Plaza San Lorenzo del Puntal\, Cádiz\, Cádiz\, 1011\, España
CATEGORIES:actuaciones de carnaval
END:VEVENT
END:VCALENDAR