BEGIN:VCALENDAR
VERSION:2.0
PRODID:-//Carnaval de C&aacute;diz - ECPv6.15.20//NONSGML v1.0//EN
CALSCALE:GREGORIAN
METHOD:PUBLISH
X-ORIGINAL-URL:https://www.carnavaldecadiz.com
X-WR-CALDESC:Eventos para Carnaval de C&aacute;diz
REFRESH-INTERVAL;VALUE=DURATION:PT1H
X-Robots-Tag:noindex
X-PUBLISHED-TTL:PT1H
BEGIN:VTIMEZONE
TZID:Europe/Madrid
BEGIN:DAYLIGHT
TZOFFSETFROM:+0100
TZOFFSETTO:+0200
TZNAME:CEST
DTSTART:20230326T010000
END:DAYLIGHT
BEGIN:STANDARD
TZOFFSETFROM:+0200
TZOFFSETTO:+0100
TZNAME:CET
DTSTART:20231029T010000
END:STANDARD
BEGIN:DAYLIGHT
TZOFFSETFROM:+0100
TZOFFSETTO:+0200
TZNAME:CEST
DTSTART:20240331T010000
END:DAYLIGHT
BEGIN:STANDARD
TZOFFSETFROM:+0200
TZOFFSETTO:+0100
TZNAME:CET
DTSTART:20241027T010000
END:STANDARD
BEGIN:DAYLIGHT
TZOFFSETFROM:+0100
TZOFFSETTO:+0200
TZNAME:CEST
DTSTART:20250330T010000
END:DAYLIGHT
BEGIN:STANDARD
TZOFFSETFROM:+0200
TZOFFSETTO:+0100
TZNAME:CET
DTSTART:20251026T010000
END:STANDARD
END:VTIMEZONE
BEGIN:VEVENT
DTSTART;TZID=Europe/Madrid:20240209T080000
DTEND;TZID=Europe/Madrid:20240407T170000
DTSTAMP:20260420T153426
CREATED:20240210T214448Z
LAST-MODIFIED:20240210T214543Z
UID:7800-1707465600-1712509200@www.carnavaldecadiz.com
SUMMARY:Exposición Aguja de Oro del Carnaval de Cádiz
DESCRIPTION:Horario de visitas: \n\nDe lunes a sábado de 11:00 a 19:00 h. (última entrada a las 18:00h.)\nDomingos y festivos de 11:00 a 14:00h. (última entrada a las 13:00h.)\n\nReserva tu visita: \n\nCorreo electrónico: visita.lacasadelcarnaval@ext.cadiz.es\nTeléfono: 682 378 644\n\nEvento público de libre acceso
URL:https://www.carnavaldecadiz.com/event/exposicion-aguja-de-oro-del-carnaval-de-cadiz/
LOCATION:Casa del Carnaval\, Cádiz\, calle Marqués del Real Tesoro 15\, 17\, Cádiz\, Cádiz\, 11001\, España
CATEGORIES:exposiciones,Mucho más que carnaval
END:VEVENT
BEGIN:VEVENT
DTSTART;TZID=Europe/Madrid:20240405T213000
DTEND;TZID=Europe/Madrid:20240405T223000
DTSTAMP:20260420T153426
CREATED:20240403T181350Z
LAST-MODIFIED:20240403T181350Z
UID:9286-1712352600-1712356200@www.carnavaldecadiz.com
SUMMARY:Carnaval en Tatachin de la Frontera
DESCRIPTION:Actuará el trío compuesto por: \nLolito Molina\, Dani Molina y Javi Tizón \nEvento público de libre acceso.
URL:https://www.carnavaldecadiz.com/event/carnaval-en-tatachin-de-la-frontera/
LOCATION:Peña Tatachin\, calle Cristo Humildad Paciencia 2D\, Chiclana de la Frontera\, Cádiz\, 11130\, España
CATEGORIES:actuaciones de carnaval
END:VEVENT
BEGIN:VEVENT
DTSTART;TZID=Europe/Madrid:20240406T190000
DTEND;TZID=Europe/Madrid:20240406T200000
DTSTAMP:20260420T153426
CREATED:20240403T173816Z
LAST-MODIFIED:20240403T173816Z
UID:9278-1712430000-1712433600@www.carnavaldecadiz.com
SUMMARY:Carnaval de Cádiz en Córdoba
DESCRIPTION:Actuación del mini grupo integrado por: \nJesús Ojeda\, Rafa Rojano\, Carlos Peña y Aceituno \nEvento público de libre acceso.
URL:https://www.carnavaldecadiz.com/event/carnaval-de-cadiz-en-cordoba-2/
LOCATION:Restaurante Club Figueroa\, Córdoba\, Plaza Marina Española 0\, Córdoba\, Córdoba\, 14011\, Spain
CATEGORIES:actuaciones de carnaval
END:VEVENT
BEGIN:VEVENT
DTSTART;TZID=Europe/Madrid:20240407T120000
DTEND;TZID=Europe/Madrid:20240407T140000
DTSTAMP:20260420T153426
CREATED:20240403T164603Z
LAST-MODIFIED:20240403T164603Z
UID:9260-1712491200-1712498400@www.carnavaldecadiz.com
SUMMARY:Presentación disco 'Coplas de Carnaval en Cádiz. La Segunda República (1932-1936)'
DESCRIPTION:Se presenta en la Casa del Carnaval el nuevo disco de Los Joyeros Gaditanos. ¡Estáis invitados! Se interpretarán gran parte de las coplas grabadas para la publicación. Y se podrá adquirir el disco en sus dos formatos CD y LP. \nEvento público de libre acceso. Aforo limitado
URL:https://www.carnavaldecadiz.com/event/presentacion-disco-coplas-de-carnaval-en-cadiz-la-segunda-republica-1932-1936/
LOCATION:Casa del Carnaval\, Cádiz\, calle Marqués del Real Tesoro 15\, 17\, Cádiz\, Cádiz\, 11001\, España
CATEGORIES:actuaciones de carnaval,Mucho más que carnaval
END:VEVENT
BEGIN:VEVENT
DTSTART;TZID=Europe/Madrid:20240412T210000
DTEND;TZID=Europe/Madrid:20240412T230000
DTSTAMP:20260420T153426
CREATED:20240403T225406Z
LAST-MODIFIED:20240403T225406Z
UID:9324-1712955600-1712962800@www.carnavaldecadiz.com
SUMMARY:Cantar en libertad\, cantar en igualdad\, cantar en República
DESCRIPTION:Intervendrá el Ateneo Republicano y Pepe Pettenguhi. \nActuarán: \n\nLa comparsa ‘Los herederos’\nLa antología ‘Los joyeros gaditanos’\nEl romancero de Ana Magallanes ‘Mafalda’\n\nEntrada por invitación hasta completar aforo. \nRecoger invitación en la taquilla del teatro de 11:00h a 13:00h y de 17:30h a 20:30h de lines a viernes y una hora antes del espectáculo. \n 
URL:https://www.carnavaldecadiz.com/event/cantar-en-libertad-cantar-en-igualdad-cantar-en-republica/
LOCATION:Teatro Principal\, Puerto real\, Calle Amargura 59\, Puerto Real\, Cádiz\, 11510\, España
CATEGORIES:actuaciones de carnaval,carnaval callejero,Mucho más que carnaval
END:VEVENT
BEGIN:VEVENT
DTSTART;TZID=Europe/Madrid:20240413T120000
DTEND;TZID=Europe/Madrid:20240413T150000
DTSTAMP:20260420T153426
CREATED:20240326T222346Z
LAST-MODIFIED:20240326T222346Z
UID:9020-1713009600-1713020400@www.carnavaldecadiz.com
SUMMARY:Fiesta de la Familia en el Colegio Miramar
DESCRIPTION:La fiesta contará con la actuación de: \nLa chirigota infantil ‘LOS INDIGESTOS’ \nEl cuarteto infantil ‘PAPÁ\, MAMÁ\, TENEMOS UN PROBLEMA’ \nEvento público de libre acceso. \nBarra con precios populares. \n 
URL:https://www.carnavaldecadiz.com/event/fiesta-de-la-familia-en-el-colegio-miramar/
LOCATION:Colegio Miramar\, San Fernado\, calle Real 118\, San Fernando\, Cádiz\, 11100\, España
CATEGORIES:actuaciones de carnaval
END:VEVENT
BEGIN:VEVENT
DTSTART;TZID=Europe/Madrid:20240413T120000
DTEND;TZID=Europe/Madrid:20240413T170000
DTSTAMP:20260420T153426
CREATED:20240326T221547Z
LAST-MODIFIED:20240326T221547Z
UID:9016-1713009600-1713027600@www.carnavaldecadiz.com
SUMMARY:Feria del Pescaito Frito en Bornos
DESCRIPTION:Durante el trascurso del evento actuará el grupo de carnaval formado por: \nDavid Delgado\, Zeus Marín\, Paco ‘El pellejo’ y Antonio Lilón \nEvento público de libre acceso
URL:https://www.carnavaldecadiz.com/event/feria-del-pescaito-frito-en-bornos/
LOCATION:Plaza de las Monjas\, Bornos\, Bornos\, Cádiz\, España
CATEGORIES:actuaciones de carnaval
END:VEVENT
BEGIN:VEVENT
DTSTART;TZID=Europe/Madrid:20240413T170000
DTEND;TZID=Europe/Madrid:20240413T180000
DTSTAMP:20260420T153426
CREATED:20240409T181511Z
LAST-MODIFIED:20240409T181511Z
UID:9415-1713027600-1713031200@www.carnavaldecadiz.com
SUMMARY:Actuación de Pedro Campos y Dani Obregon
DESCRIPTION:Evento público de libre acceso
URL:https://www.carnavaldecadiz.com/event/actuacion-de-pedro-campos-y-dani-obregon/
LOCATION:Peña Regina Pacis\, Cádiz\, Plaza de la Amante\, Cádiz\, Cádiz\, 11007\, España
CATEGORIES:actuaciones de carnaval
END:VEVENT
BEGIN:VEVENT
DTSTART;TZID=Europe/Madrid:20240419T200000
DTEND;TZID=Europe/Madrid:20240419T220000
DTSTAMP:20260420T153426
CREATED:20240415T175248Z
LAST-MODIFIED:20240415T175248Z
UID:9632-1713556800-1713564000@www.carnavaldecadiz.com
SUMMARY:Actuación de la chirigota 'LOS CHABOLIS'
DESCRIPTION:
URL:https://www.carnavaldecadiz.com/event/actuacion-de-la-chirigota-los-chabolis/
LOCATION:AVV Poeta García Gutierrez\, Chiclana\, calle Trebol 6\, Chiclana de la Frontera\, Cádiz\, 11130\, España
CATEGORIES:actuaciones de carnaval
END:VEVENT
BEGIN:VEVENT
DTSTART;TZID=Europe/Madrid:20240427T200000
DTEND;TZID=Europe/Madrid:20240427T210000
DTSTAMP:20260420T153426
CREATED:20240410T115443Z
LAST-MODIFIED:20240410T115443Z
UID:9454-1714248000-1714251600@www.carnavaldecadiz.com
SUMMARY:Chirigita 'EL MALO MÁS MALOTE DE LAS PELIS DE HARRY POTTER' en Platea
DESCRIPTION:Evento público de libre acceso.
URL:https://www.carnavaldecadiz.com/event/chirigita-el-malo-mas-malote-de-las-pelis-de-harry-potter-en-platea/
LOCATION:Bar Platea\, calle de Madre Dolores Marquez 11E\, Sevilla\, Sevilla\, 41003\, España
CATEGORIES:actuaciones de carnaval
END:VEVENT
END:VCALENDAR