BEGIN:VCALENDAR
VERSION:2.0
PRODID:-//Carnaval de C&aacute;diz - ECPv6.15.20//NONSGML v1.0//EN
CALSCALE:GREGORIAN
METHOD:PUBLISH
X-ORIGINAL-URL:https://www.carnavaldecadiz.com
X-WR-CALDESC:Eventos para Carnaval de C&aacute;diz
REFRESH-INTERVAL;VALUE=DURATION:PT1H
X-Robots-Tag:noindex
X-PUBLISHED-TTL:PT1H
BEGIN:VTIMEZONE
TZID:Europe/Madrid
BEGIN:DAYLIGHT
TZOFFSETFROM:+0100
TZOFFSETTO:+0200
TZNAME:CEST
DTSTART:20220327T010000
END:DAYLIGHT
BEGIN:STANDARD
TZOFFSETFROM:+0200
TZOFFSETTO:+0100
TZNAME:CET
DTSTART:20221030T010000
END:STANDARD
BEGIN:DAYLIGHT
TZOFFSETFROM:+0100
TZOFFSETTO:+0200
TZNAME:CEST
DTSTART:20230326T010000
END:DAYLIGHT
BEGIN:STANDARD
TZOFFSETFROM:+0200
TZOFFSETTO:+0100
TZNAME:CET
DTSTART:20231029T010000
END:STANDARD
BEGIN:DAYLIGHT
TZOFFSETFROM:+0100
TZOFFSETTO:+0200
TZNAME:CEST
DTSTART:20240331T010000
END:DAYLIGHT
BEGIN:STANDARD
TZOFFSETFROM:+0200
TZOFFSETTO:+0100
TZNAME:CET
DTSTART:20241027T010000
END:STANDARD
BEGIN:DAYLIGHT
TZOFFSETFROM:+0100
TZOFFSETTO:+0200
TZNAME:CEST
DTSTART:20250330T010000
END:DAYLIGHT
BEGIN:STANDARD
TZOFFSETFROM:+0200
TZOFFSETTO:+0100
TZNAME:CET
DTSTART:20251026T010000
END:STANDARD
END:VTIMEZONE
BEGIN:VEVENT
DTSTART;TZID=Europe/Madrid:20231103T223000
DTEND;TZID=Europe/Madrid:20231103T233000
DTSTAMP:20260421T005617
CREATED:20231030T120237Z
LAST-MODIFIED:20231030T120237Z
UID:4250-1699050600-1699054200@www.carnavaldecadiz.com
SUMMARY:Carnaval en Falso Mito\, Conil
DESCRIPTION:Evento público de libre acceso
URL:https://www.carnavaldecadiz.com/event/carnaval-en-falso-mito-conil/
LOCATION:Falso Mito\, Conil\, calle Torre de Roche\, Conil de la Frontera\, Cádiz\, 11140\, España
END:VEVENT
BEGIN:VEVENT
DTSTART;TZID=Europe/Madrid:20231104T200000
DTEND;TZID=Europe/Madrid:20231104T213000
DTSTAMP:20260421T005617
CREATED:20231023T155746Z
LAST-MODIFIED:20231023T155746Z
UID:4075-1699128000-1699133400@www.carnavaldecadiz.com
SUMMARY:Actuación de la Comparsa Gaditana 'Los cuatro Gatos'
DESCRIPTION:Evento público de libre acceso
URL:https://www.carnavaldecadiz.com/event/actuacion-de-la-comparsa-gaditana-los-cuatro-gatos/
LOCATION:Casa cultural i recreatiu de Castellbisbal\, Avinguda de Pau Casals\, 7\, Castellbisbal\, Barcelona\, 08755\, España
END:VEVENT
BEGIN:VEVENT
DTSTART;VALUE=DATE:20231109
DTEND;VALUE=DATE:20240201
DTSTAMP:20260421T005617
CREATED:20231111T124058Z
LAST-MODIFIED:20231111T124058Z
UID:4654-1699488000-1706745599@www.carnavaldecadiz.com
SUMMARY:Exposición Fotográfica: Carnaval de Improviso
DESCRIPTION:CARNAVAL DE IMPROVISO. Retratos urgentes: La trastienda del COAC\nFotos de Julio González. \nJulio González es uno de los fotógrafos referencia de la fiesta\, un profesional que vale la pena conocer a través de su trabajo. Inquieto\, detallista que refleja en su trabajo el respeto por la fiesta y las personas que lo hacen posible. \nHorario de visitas: \n\nDe lunes a sábado de 11:00 a 19:00 h. (última entrada a las 18:00h.)\nDomingos y festivos de 11:00 a 14:00h. (última entrada a las 13:00h.)\n\nReserva tu visita: \n\nCorreo electrónico: visita.lacasadelcarnaval@ext.cadiz.es\nTeléfono: 682 378 644\n\nEvento público de libre acceso. \n 
URL:https://www.carnavaldecadiz.com/event/exposicion-fotografica-carnaval-de-improviso/
LOCATION:Casa del Carnaval\, Cádiz\, calle Marqués del Real Tesoro 15\, 17\, Cádiz\, Cádiz\, 11001\, España
CATEGORIES:exposiciones,fotos carnaval
END:VEVENT
BEGIN:VEVENT
DTSTART;TZID=Europe/Madrid:20231110T220000
DTEND;TZID=Europe/Madrid:20231110T223000
DTSTAMP:20260421T005617
CREATED:20231107T105153Z
LAST-MODIFIED:20231107T105153Z
UID:4452-1699653600-1699655400@www.carnavaldecadiz.com
SUMMARY:Tarde de carnaval en Padel Arcos
DESCRIPTION:
URL:https://www.carnavaldecadiz.com/event/tarde-de-carnaval-en-padel-arcos/
LOCATION:Padel Arcos de la Frontera\, Padel Cubierto Arcos\, Arcos de la Frontera\, Cádiz\, 11630\, España
END:VEVENT
BEGIN:VEVENT
DTSTART;TZID=Europe/Madrid:20231111T183000
DTEND;TZID=Europe/Madrid:20231111T200000
DTSTAMP:20260421T005617
CREATED:20231023T130138Z
LAST-MODIFIED:20231023T130138Z
UID:4055-1699727400-1699732800@www.carnavaldecadiz.com
SUMMARY:XV Aniversario de 'Coplas de mostrador'
DESCRIPTION:Evento público de libre acceso
URL:https://www.carnavaldecadiz.com/event/xv-aniversario-de-coplas-de-mostrador/
LOCATION:Bar Platea\, calle de Madre Dolores Marquez 11E\, Sevilla\, Sevilla\, 41003\, España
END:VEVENT
BEGIN:VEVENT
DTSTART;TZID=Europe/Madrid:20231111T210000
DTEND;TZID=Europe/Madrid:20231111T220000
DTSTAMP:20260421T005617
CREATED:20231107T110055Z
LAST-MODIFIED:20231107T110055Z
UID:4456-1699736400-1699740000@www.carnavaldecadiz.com
SUMMARY:Actuación de 'Savia Nueva'
DESCRIPTION:
URL:https://www.carnavaldecadiz.com/event/actuacion-de-savia-nueva-4/
LOCATION:Albacería La cañailla\, calle General García de la Herrán 4\, San Fernando\, Cádiz\, 11100\, España
END:VEVENT
BEGIN:VEVENT
DTSTART;TZID=Europe/Madrid:20231115T190000
DTEND;TZID=Europe/Madrid:20231115T203000
DTSTAMP:20260421T005617
CREATED:20231023T153627Z
LAST-MODIFIED:20231111T162253Z
UID:4067-1700074800-1700080200@www.carnavaldecadiz.com
SUMMARY:Comparsa 'Las Musas' en Sevilla
DESCRIPTION:Evento público de libre acceso.
URL:https://www.carnavaldecadiz.com/event/comparsa-las-musas-en-sevilla/
LOCATION:Pabellón de Uruguay\, Sevilla\, Avenida de Chile s/n\, Sevilla\, Sevilla\, 41013\, España
CATEGORIES:actuaciones de carnaval
END:VEVENT
BEGIN:VEVENT
DTSTART;TZID=Europe/Madrid:20231115T200000
DTEND;TZID=Europe/Madrid:20231115T220000
DTSTAMP:20260421T005617
CREATED:20231101T200540Z
LAST-MODIFIED:20231111T162157Z
UID:4302-1700078400-1700085600@www.carnavaldecadiz.com
SUMMARY:Semana cultural carnavalesca - ACC 'El pitijopo'
DESCRIPTION:Charla coloquio con el autor de la comparsa ‘Los esclavos’ y el coro ‘Al Andalus’\, Miguel Ángel García Arguéz ‘El chapa’ \nEvento público de libre acceso hasta completar aforo.
URL:https://www.carnavaldecadiz.com/event/semana-cultural-carnavalesca-acc-el-pitijopo/
LOCATION:Casa de la Juventud\, Sanlucar\, Avenida Bajo de Guía\, Sanlucar de Barrameda\, Cádiz\, España
CATEGORIES:conferencia de carnaval,mesa de debate
END:VEVENT
BEGIN:VEVENT
DTSTART;TZID=Europe/Madrid:20231115T203000
DTEND;TZID=Europe/Madrid:20231115T220000
DTSTAMP:20260421T005617
CREATED:20231114T100254Z
LAST-MODIFIED:20231114T100254Z
UID:4782-1700080200-1700085600@www.carnavaldecadiz.com
SUMMARY:Tivi decí mi verdá
DESCRIPTION:Charla coloquio con el pregonero del carnaval de Cádiz\, Juan Manuel Braza Benitez ‘El Sheriff’ \nEvento público de libre acceso.
URL:https://www.carnavaldecadiz.com/event/tivi-deci-mi-verda/
LOCATION:Sede Asociación de Autores del Carnaval de Cádiz\, calle Bóvedas de Santa Elena s/n\, Cádiz\, Cádiz\, 11006\, España
CATEGORIES:conferencia de carnaval,mesa de debate
END:VEVENT
BEGIN:VEVENT
DTSTART;TZID=Europe/Madrid:20231116T203000
DTEND;TZID=Europe/Madrid:20231116T220000
DTSTAMP:20260421T005617
CREATED:20231101T201201Z
LAST-MODIFIED:20231111T161851Z
UID:4306-1700166600-1700172000@www.carnavaldecadiz.com
SUMMARY:Semana cultural carnavalesca - ACC 'El pitijopo'
DESCRIPTION:Charla coloquio con el flamante pregonero del carnaval de Cádiz\, Juan Manuel Braza Benitez ‘El Sheriff’ \nEvento público de libre acceso hasta completar aforo.
URL:https://www.carnavaldecadiz.com/event/semana-cultural-carnavalesca-acc-el-pitijopo-2/
LOCATION:Casa de la Juventud\, Sanlucar\, Avenida Bajo de Guía\, Sanlucar de Barrameda\, Cádiz\, España
CATEGORIES:actuaciones de carnaval,Mucho más que carnaval
END:VEVENT
BEGIN:VEVENT
DTSTART;TZID=Europe/Madrid:20231117T170000
DTEND;TZID=Europe/Madrid:20231117T200000
DTSTAMP:20260421T005617
CREATED:20231101T202312Z
LAST-MODIFIED:20231111T161938Z
UID:4309-1700240400-1700251200@www.carnavaldecadiz.com
SUMMARY:Semana cultural carnavalesca - ACC 'El pitijopo'
DESCRIPTION:Presentación de a Escuela de Romanceros\, intervienen: \n\nNolo Rodrígez\, coordinador de la Escuela de Romanceros y vicepresidente de la ACC ‘El Pitijopo’\nRafael Rodríguez\, presidente de la ACC ‘El Pitijopo’\n\nActuación de los romanceros: \n\n‘Nos quedaron secuelas al cambiarnos al Columela’ de los hermanos González\n‘La niña repelente’ de Aitana Rivera\, escrito por Helen Lorenzo\n\nEvento público de libre acceso.
URL:https://www.carnavaldecadiz.com/event/semana-cultural-carnavalesca-acc-el-pitijopo-3/
LOCATION:IES Francisco Pacheco\, Sanlucar\, Avenida de Huelva112D\, Sanlucar de Barrameda\, Cádiz\, 11540\, España
CATEGORIES:actuaciones de carnaval,Mucho más que carnaval
END:VEVENT
BEGIN:VEVENT
DTSTART;TZID=Europe/Madrid:20231117T200000
DTEND;TZID=Europe/Madrid:20231117T233000
DTSTAMP:20260421T005617
CREATED:20231101T204252Z
LAST-MODIFIED:20231111T161713Z
UID:4313-1700251200-1700263800@www.carnavaldecadiz.com
SUMMARY:Semana cultural carnavalesca - ACC 'El pitijopo'
DESCRIPTION:Entrega del Pitijopo de Oro a Don Rafael Puerta \nPresentación del Pregonero del Carnaval 2024 de la ACC ‘El Pitijopo’\, Don Juan del Ojo \nActuación de : \n\nRomancero del Pai y Awito ‘El conquistador’\nRomancero de Nolo Rodríguez ‘Miguelín \, un ‘estrella’ de postín’\nChirigota alegal ‘Chica fúnebre\, siniestra… po llévate esta’\n\nEvento público de libre acceso.
URL:https://www.carnavaldecadiz.com/event/semana-cultural-carnavalesca-acc-el-pitijopo-4/
LOCATION:Peña El Pitijopo\, calle San Agustín 52\, Sanlucar de Barrameda\, Cádiz\, 11540\, España
CATEGORIES:actuaciones de carnaval,Mucho más que carnaval
END:VEVENT
BEGIN:VEVENT
DTSTART;TZID=Europe/Madrid:20231118T113000
DTEND;TZID=Europe/Madrid:20231118T130000
DTSTAMP:20260421T005617
CREATED:20231026T221330Z
LAST-MODIFIED:20231111T143500Z
UID:4174-1700307000-1700312400@www.carnavaldecadiz.com
SUMMARY:Carnaval Écija. IV Ciclo de Conferencias
DESCRIPTION:IV CICLO DE CONFERENCIA DE CARNAVAL\, en esta edición contaremos con : \nAntonio Álvarez “bizcocho” que nos hablará de la chirigota\, su forma de crear\, su humor surrealista. \nEvento público de libre acceso hasta completar aforo.
URL:https://www.carnavaldecadiz.com/event/carnaval-ecija-iv-ciclo-de-conferencias/
LOCATION:Palacio de Benamejí\, Écija\, Plaza de la Constitución s/n\, Écija\, Sevilla\, 41400\, España
CATEGORIES:conferencia de carnaval,mesa de debate
END:VEVENT
BEGIN:VEVENT
DTSTART;TZID=Europe/Madrid:20231118T180000
DTEND;TZID=Europe/Madrid:20231118T220000
DTSTAMP:20260421T005617
CREATED:20231023T154726Z
LAST-MODIFIED:20231111T143209Z
UID:4071-1700330400-1700344800@www.carnavaldecadiz.com
SUMMARY:III Concurso de dúos y Tríos 'El micro de Plata'
DESCRIPTION:Evento público de libre acceso.
URL:https://www.carnavaldecadiz.com/event/iii-concurso-de-duos-y-trios-el-micro-de-plata/
LOCATION:Casa de Andalucía\, San Fernando de Henares\, calle Rafael Sánchez Ferlosio 3\, San Fernando de Henares\, Madrid\, 28830\, España
CATEGORIES:actuaciones de carnaval,concurso de carnaval
END:VEVENT
BEGIN:VEVENT
DTSTART;TZID=Europe/Madrid:20231118T183000
DTEND;TZID=Europe/Madrid:20231118T200000
DTSTAMP:20260421T005617
CREATED:20231023T130457Z
LAST-MODIFIED:20231111T143100Z
UID:4058-1700332200-1700337600@www.carnavaldecadiz.com
SUMMARY:Tarde de Carnaval en Platea
DESCRIPTION:Evento público de libre acceso.
URL:https://www.carnavaldecadiz.com/event/tarde-de-carnaval-en-platea/
LOCATION:Bar Platea\, calle de Madre Dolores Marquez 11E\, Sevilla\, Sevilla\, 41003\, España
CATEGORIES:actuaciones de carnaval
END:VEVENT
BEGIN:VEVENT
DTSTART;TZID=Europe/Madrid:20231118T183000
DTEND;TZID=Europe/Madrid:20231118T200000
DTSTAMP:20260421T005617
CREATED:20231110T143539Z
LAST-MODIFIED:20231111T142926Z
UID:4642-1700332200-1700337600@www.carnavaldecadiz.com
SUMMARY:Tarde de Carnaval en Castilleja de la Cuesta
DESCRIPTION:Evento público de libre acceso hasta completar aforo
URL:https://www.carnavaldecadiz.com/event/tarde-de-carnaval-en-castilleja-de-la-cuesta/
LOCATION:Olimpo Copas\, Castilleja de la Cuesta\, calle Manuel García Junco 30\, Castilleja de la Cuesta\, Sevilla\, 41950\, España
CATEGORIES:actuaciones de carnaval
END:VEVENT
BEGIN:VEVENT
DTSTART;TZID=Europe/Madrid:20231120T190000
DTEND;TZID=Europe/Madrid:20231120T210000
DTSTAMP:20260421T005617
CREATED:20231114T132732Z
LAST-MODIFIED:20231120T141348Z
UID:4795-1700506800-1700514000@www.carnavaldecadiz.com
SUMMARY:Mesa de debate 'Mujeres y Carnaval'
DESCRIPTION:Actividad integrada en el programa de actividades de la IX Muestra Virtual Internacional de Carnaval\, organizada por el Aula de Cultura del Carnaval de Cádiz con la colaboración del Excmo. Ayuntamiento de Cádiz y la ECMA. Diputación Provincial de Cádiz. \nDésiree Ortega Cerpa\, escritora\, investigadora y crítica de artes escénicas\, Doctora en Filología\, hablara sobre la figura de la mujer en el Carnaval de Cádiz. \nEl acto será presentado por Elena Merino Rivera Profesora Universitaria e investigadora. \nEvento público de libre acceso. \nPrograma completo del 20 de noviembre de 2023 \n 
URL:https://www.carnavaldecadiz.com/event/mesa-de-debate-mujeres-y-carnaval/
LOCATION:Casa del Carnaval\, Cádiz\, calle Marqués del Real Tesoro 15\, 17\, Cádiz\, Cádiz\, 11001\, España
CATEGORIES:conferencia de carnaval,mesa de debate,Mucho más que carnaval
ATTACH;FMTTYPE=image/png:https://www.carnavaldecadiz.com/wp-content/uploads/2023/11/c1.png
END:VEVENT
BEGIN:VEVENT
DTSTART;TZID=Europe/Madrid:20231124T170000
DTEND;TZID=Europe/Madrid:20231124T183000
DTSTAMP:20260421T005617
CREATED:20231114T095527Z
LAST-MODIFIED:20231114T095527Z
UID:4778-1700845200-1700850600@www.carnavaldecadiz.com
SUMMARY:Carnaval de Paco 'Pellejo' en Puerto Real
DESCRIPTION:
URL:https://www.carnavaldecadiz.com/event/carnaval-de-paco-pellejo-en-puerto-real/
LOCATION:Tomate algo\, Puero Real\, calle Sagasta 5a\, Puerto Real\, Cádiz\, 11510\, España
CATEGORIES:actuaciones de carnaval
END:VEVENT
BEGIN:VEVENT
DTSTART;TZID=Europe/Madrid:20231124T173000
DTEND;TZID=Europe/Madrid:20231124T203000
DTSTAMP:20260421T005617
CREATED:20231109T115453Z
LAST-MODIFIED:20231111T142054Z
UID:4586-1700847000-1700857800@www.carnavaldecadiz.com
SUMMARY:II Jornada Cultural Carnavalera. Universidad de Huelva
DESCRIPTION:Dirección de una agrupación: Evolución y montaje de un pasodoble\na cargo de Fali Ramos y su grupo \nDebate mesa redonda en el que participarán: \n\nFali Mosquera de Cádiz\nJesuli Perojil de Huelva\nJuan Cayuela de Ayamonte\nDaniel Camacho de Bollullos del Condado\nMateo J. Rodriguez de Isla Cristina\nJM Soto ‘Sotito’ de Punta Humbría\n\nEvento público de libre acceso. \n  \n 
URL:https://www.carnavaldecadiz.com/event/ii-jornada-cultural-carnavalera-universidad-de-huelva/
LOCATION:Facultad de Experimentales UHU Campus del Carmen\, Universidad de Helva\, Campus del Carmen\, Huelva\, Huelva\, 21007\, España
CATEGORIES:conferencia de carnaval,mesa de debate
END:VEVENT
BEGIN:VEVENT
DTSTART;TZID=Europe/Madrid:20231124T200000
DTEND;TZID=Europe/Madrid:20231124T220000
DTSTAMP:20260421T005617
CREATED:20231015T181932Z
LAST-MODIFIED:20231124T103202Z
UID:3845-1700856000-1700863200@www.carnavaldecadiz.com
SUMMARY:III Concurso de minigrupos de Carnaval 'Bodegón Andalucía'
DESCRIPTION:Primera semifinal. Orden de actuación: \n \n21:00 h – Savia nueva \n21:30 h – Los tercios de Cádiz \n22:00 h – La tribu del barrio \n22:30 h – Los cañavaleros \n23:00 h – Va por ti Pedro \nEvento público de libre acceso hasta completar aforo. \nAforo reducido.
URL:https://www.carnavaldecadiz.com/event/iii-concurso-de-minigrupos-de-carnaval-bodegon-andalucia/
LOCATION:Bodegón Andalucía\, Avenida Poeta Rafael Alberti 10\, San Fernando\, Cádiz\, España
CATEGORIES:concurso de carnaval,Mucho más que carnaval
END:VEVENT
BEGIN:VEVENT
DTSTART;TZID=Europe/Madrid:20231124T210000
DTEND;TZID=Europe/Madrid:20231124T233000
DTSTAMP:20260421T005617
CREATED:20231106T213255Z
LAST-MODIFIED:20231111T141509Z
UID:4444-1700859600-1700868600@www.carnavaldecadiz.com
SUMMARY:VI Concurso de Coplas de Carnaval Torre del Cable
DESCRIPTION:
URL:https://www.carnavaldecadiz.com/event/vi-concurso-de-coplas-de-carnaval-torre-del-cable/
LOCATION:ACCM\, Marbella\, calle José Iturbi 8-10\, Marbella\, Málaga\, 29603\, España
CATEGORIES:concurso de carnaval
END:VEVENT
BEGIN:VEVENT
DTSTART;TZID=Europe/Madrid:20231125T113000
DTEND;TZID=Europe/Madrid:20231125T130000
DTSTAMP:20260421T005617
CREATED:20231026T221624Z
LAST-MODIFIED:20231111T141325Z
UID:4178-1700911800-1700917200@www.carnavaldecadiz.com
SUMMARY:Carnaval Écija. IV Ciclo de Conferencias
DESCRIPTION:IV CICLO DE CONFERENCIA DE CARNAVAL\, en esta edición contaremos con : \nManolo Casal y Modesto Barragán\, que ademas de hablanos de toda su experiencia en tantos años nos presentaran el libro\, Generación Tangai. \nEvento público de libre acceso hasta completar aforo
URL:https://www.carnavaldecadiz.com/event/carnaval-ecija-iv-ciclo-de-conferencias-2/
LOCATION:Palacio de Benamejí\, Écija\, Plaza de la Constitución s/n\, Écija\, Sevilla\, 41400\, España
CATEGORIES:conferencia de carnaval,Libros de Carnaval,mesa de debate,Mucho más que carnaval
END:VEVENT
BEGIN:VEVENT
DTSTART;TZID=Europe/Madrid:20231125T183000
DTEND;TZID=Europe/Madrid:20231125T200000
DTSTAMP:20260421T005617
CREATED:20231023T130835Z
LAST-MODIFIED:20231111T133526Z
UID:4061-1700937000-1700942400@www.carnavaldecadiz.com
SUMMARY:Tarde de Carnaval en Platea
DESCRIPTION:Evento público de libre acceso
URL:https://www.carnavaldecadiz.com/event/tarde-de-carnaval-en-platea-2/
LOCATION:Bar Platea\, calle de Madre Dolores Marquez 11E\, Sevilla\, Sevilla\, 41003\, España
CATEGORIES:actuaciones de carnaval
END:VEVENT
BEGIN:VEVENT
DTSTART;TZID=Europe/Madrid:20231125T200000
DTEND;TZID=Europe/Madrid:20231125T220000
DTSTAMP:20260421T005617
CREATED:20231015T182141Z
LAST-MODIFIED:20231111T133456Z
UID:3848-1700942400-1700949600@www.carnavaldecadiz.com
SUMMARY:III Concurso de minigrupos de Carnaval 'Bodegón Andalucía'
DESCRIPTION:Segunda semifinal. \nA la espera de grupos participantes y orden de actuación. \nEvento público de libre acceso.
URL:https://www.carnavaldecadiz.com/event/iii-concurso-de-minigrupos-de-carnaval-bodegon-andalucia-2/
LOCATION:Bodegón Andalucía\, Avenida Poeta Rafael Alberti 10\, San Fernando\, Cádiz\, España
CATEGORIES:actuaciones de carnaval,concurso de carnaval,Mucho más que carnaval
END:VEVENT
BEGIN:VEVENT
DTSTART;TZID=Europe/Madrid:20231125T210000
DTEND;TZID=Europe/Madrid:20231125T220000
DTSTAMP:20260421T005617
CREATED:20231124T124027Z
LAST-MODIFIED:20231124T124027Z
UID:5522-1700946000-1700949600@www.carnavaldecadiz.com
SUMMARY:'Sal de coplas' en el Bodegón Andalucía\, San Fernando
DESCRIPTION:La actuación tendrá lugar tras la celebración de la final del III Concurso de mini grupos que organiza el Bodegón Andalucía. \nEvento público de libre acceso.
URL:https://www.carnavaldecadiz.com/event/sal-de-coplas-en-el-bodegon-andalucia-san-fernando/
LOCATION:Bodegón Andalucía\, Avenida Poeta Rafael Alberti 10\, San Fernando\, Cádiz\, España
CATEGORIES:actuaciones de carnaval,concurso de carnaval
END:VEVENT
BEGIN:VEVENT
DTSTART;TZID=Europe/Madrid:20231126T200000
DTEND;TZID=Europe/Madrid:20231126T220000
DTSTAMP:20260421T005617
CREATED:20231015T182352Z
LAST-MODIFIED:20231111T133117Z
UID:3850-1701028800-1701036000@www.carnavaldecadiz.com
SUMMARY:III Concurso de minigrupos de Carnaval 'Bodegón Andalucía'
DESCRIPTION:Gran final. \nA la espera de grupos clasificados y orden de actuación. \nEvento público de libre acceso.
URL:https://www.carnavaldecadiz.com/event/iii-concurso-de-minigrupos-de-carnaval-bodegon-andalucia-3/
LOCATION:Bodegón Andalucía\, Avenida Poeta Rafael Alberti 10\, San Fernando\, Cádiz\, España
CATEGORIES:actuaciones de carnaval,concurso de carnaval
END:VEVENT
BEGIN:VEVENT
DTSTART;TZID=Europe/Madrid:20231127T190000
DTEND;TZID=Europe/Madrid:20231127T210000
DTSTAMP:20260421T005617
CREATED:20231114T133923Z
LAST-MODIFIED:20231120T141340Z
UID:4801-1701111600-1701118800@www.carnavaldecadiz.com
SUMMARY:Paco Alba no inventó la comparsa por Miguel A. García Argüez
DESCRIPTION:Actividad integrada en el programa de actividades de la IX Muestra Virtual Internacional de Carnaval\, organizada por el Aula de Cultura del Carnaval de Cádiz con la colaboración del Excmo. Ayuntamiento de Cádiz y la Exma. Diputación Provincial de Cádiz. \nMiguel Ángel García Argüez\, profesor\,escritor\, músico y letrista de agrupaciones de carnaval\, expondrá argumentos para aseverar que la comparsa no la inventó Paco Alba \nEl acto será presentado por Rafael Brugal Jiménez-Mena\, redactor de Diario de Cádiz. \nEvento público de libre acceso. \nPrograma completo del 20 de noviembre de 2023
URL:https://www.carnavaldecadiz.com/event/paco-alba-no-invento-la-comparsa-por-miguel-a-garcia-arguez/
LOCATION:Casa del Carnaval\, Cádiz\, calle Marqués del Real Tesoro 15\, 17\, Cádiz\, Cádiz\, 11001\, España
CATEGORIES:conferencia de carnaval,mesa de debate
ATTACH;FMTTYPE=image/png:https://www.carnavaldecadiz.com/wp-content/uploads/2023/11/c2-1.png
END:VEVENT
BEGIN:VEVENT
DTSTART;TZID=Europe/Madrid:20231130T190000
DTEND;TZID=Europe/Madrid:20231130T210000
DTSTAMP:20260421T005617
CREATED:20231114T134754Z
LAST-MODIFIED:20231120T141331Z
UID:4804-1701370800-1701378000@www.carnavaldecadiz.com
SUMMARY:Pregonando Carnavales por Juan Manuel Braza Benitez 'El Sheriff'
DESCRIPTION:Actividad integrada en el programa de actividades de la IX Muestra Virtual Internacional de Carnaval\, organizada por el Aula de Cultura del Carnaval de Cádiz con la colaboración del Excmo. Ayuntamiento de Cádiz y la Exma. Diputación Provincial de Cádiz. \nJuan Manuel Braza Benitez\, autor de chirigotas\, Antifaz de Oro\, Baluarte de Carnaval \, Dios Momo y pregonero del Carnaval de Cádiz 2024\, hablará de como afronta el reto de pregonar la fiesta más importante de su ciudad. \nEl acto será presentado por Álvaro Pérez García\, Doctor en Educación y Profesora Universitario. \nEvento público de libre acceso. \nPrograma completo del 20 de noviembre de 2023
URL:https://www.carnavaldecadiz.com/event/pregonando-carnavales/
LOCATION:Casa del Carnaval\, Cádiz\, calle Marqués del Real Tesoro 15\, 17\, Cádiz\, Cádiz\, 11001\, España
CATEGORIES:conferencia de carnaval,mesa de debate
ATTACH;FMTTYPE=image/png:https://www.carnavaldecadiz.com/wp-content/uploads/2023/11/c3-1.png
END:VEVENT
END:VCALENDAR