BEGIN:VCALENDAR
VERSION:2.0
PRODID:-//Carnaval de C&aacute;diz - ECPv6.15.20//NONSGML v1.0//EN
CALSCALE:GREGORIAN
METHOD:PUBLISH
X-WR-CALNAME:Carnaval de C&aacute;diz
X-ORIGINAL-URL:https://www.carnavaldecadiz.com
X-WR-CALDESC:Eventos para Carnaval de C&aacute;diz
REFRESH-INTERVAL;VALUE=DURATION:PT1H
X-Robots-Tag:noindex
X-PUBLISHED-TTL:PT1H
BEGIN:VTIMEZONE
TZID:Europe/Madrid
BEGIN:DAYLIGHT
TZOFFSETFROM:+0100
TZOFFSETTO:+0200
TZNAME:CEST
DTSTART:20220327T010000
END:DAYLIGHT
BEGIN:STANDARD
TZOFFSETFROM:+0200
TZOFFSETTO:+0100
TZNAME:CET
DTSTART:20221030T010000
END:STANDARD
BEGIN:DAYLIGHT
TZOFFSETFROM:+0100
TZOFFSETTO:+0200
TZNAME:CEST
DTSTART:20230326T010000
END:DAYLIGHT
BEGIN:STANDARD
TZOFFSETFROM:+0200
TZOFFSETTO:+0100
TZNAME:CET
DTSTART:20231029T010000
END:STANDARD
BEGIN:DAYLIGHT
TZOFFSETFROM:+0100
TZOFFSETTO:+0200
TZNAME:CEST
DTSTART:20240331T010000
END:DAYLIGHT
BEGIN:STANDARD
TZOFFSETFROM:+0200
TZOFFSETTO:+0100
TZNAME:CET
DTSTART:20241027T010000
END:STANDARD
END:VTIMEZONE
BEGIN:VEVENT
DTSTART;TZID=Europe/Madrid:20230706T223000
DTEND;TZID=Europe/Madrid:20230707T003000
DTSTAMP:20260421T070746
CREATED:20230705T225145Z
LAST-MODIFIED:20230705T225145Z
UID:639-1688682600-1688689800@www.carnavaldecadiz.com
SUMMARY:Noches de Carnaval en la calle\, en Conil
DESCRIPTION:El evento se desarrolla en dos plazas de la localidad; \nLa plaza de España y en la Plaza Santa Catalina \nEventos públicos de libre acceso \n 
URL:https://www.carnavaldecadiz.com/event/noches-de-carnaval-en-la-calle-en-conil/
LOCATION:Plaza de España\, Conil\, Plaza de España\, Conil de la Frontera\, Cádiz\, 11140\, España
END:VEVENT
BEGIN:VEVENT
DTSTART;TZID=Europe/Madrid:20230711T223000
DTEND;TZID=Europe/Madrid:20230712T003000
DTSTAMP:20260421T070746
CREATED:20230705T225517Z
LAST-MODIFIED:20230705T225517Z
UID:643-1689114600-1689121800@www.carnavaldecadiz.com
SUMMARY:Noches de Carnaval en la calle\, en Conil
DESCRIPTION:El \nEl evento se desarrolla en dos plazas de la localidad; \nLa plaza de España y en la Plaza Santa Catalina \nEventos públicos de libre acceso \n 
URL:https://www.carnavaldecadiz.com/event/noches-de-carnaval-en-la-calle-en-conil-2/
LOCATION:Plaza de España\, Conil\, Plaza de España\, Conil de la Frontera\, Cádiz\, 11140\, España
END:VEVENT
BEGIN:VEVENT
DTSTART;TZID=Europe/Madrid:20230712T223000
DTEND;TZID=Europe/Madrid:20230713T003000
DTSTAMP:20260421T070746
CREATED:20230709T100707Z
LAST-MODIFIED:20230709T100730Z
UID:679-1689201000-1689208200@www.carnavaldecadiz.com
SUMMARY:Carnaval en la Calle\, en Conil
DESCRIPTION:Mini Grupo: Los novatos \nChirigota: Jesús\, ¿Esto quién lo paga? \nRomancero: Los sonotones\, sordo sordo de cojones. \nEvento público de libre acceso.
URL:https://www.carnavaldecadiz.com/event/carnaval-en-la-calle/
LOCATION:Plaza de España\, Conil\, Plaza de España\, Conil de la Frontera\, Cádiz\, 11140\, España
END:VEVENT
BEGIN:VEVENT
DTSTART;TZID=Europe/Madrid:20230713T220000
DTEND;TZID=Europe/Madrid:20230713T230000
DTSTAMP:20260421T070746
CREATED:20230711T153625Z
LAST-MODIFIED:20230711T153625Z
UID:768-1689285600-1689289200@www.carnavaldecadiz.com
SUMMARY:Carnaval de Cádiz en Zafra
DESCRIPTION:Evento público de libre acceso
URL:https://www.carnavaldecadiz.com/event/carnaval-de-cadiz-en-zafra/
LOCATION:Plza Chica\, Zafra\, Plaza chica\, Zafra\, Badajoz\, 06300\, España
END:VEVENT
BEGIN:VEVENT
DTSTART;TZID=Europe/Madrid:20230713T223000
DTEND;TZID=Europe/Madrid:20230714T003000
DTSTAMP:20260421T070746
CREATED:20230709T102029Z
LAST-MODIFIED:20230709T102029Z
UID:691-1689287400-1689294600@www.carnavaldecadiz.com
SUMMARY:Carnaval en la Calle\, en Conil
DESCRIPTION:Chirigota: Los atunes \nComparsa: La comparsa de Conil \nEvento público de libre acceso.
URL:https://www.carnavaldecadiz.com/event/carnaval-en-la-calle-en-conil-5/
LOCATION:Plaza de España\, Conil\, Plaza de España\, Conil de la Frontera\, Cádiz\, 11140\, España
END:VEVENT
BEGIN:VEVENT
DTSTART;TZID=Europe/Madrid:20230714T223000
DTEND;TZID=Europe/Madrid:20230714T233000
DTSTAMP:20260421T070746
CREATED:20230711T155154Z
LAST-MODIFIED:20230711T155154Z
UID:772-1689373800-1689377400@www.carnavaldecadiz.com
SUMMARY:Actuación del trío de carnaval LOS CAÑAVALEROS
DESCRIPTION:Evento público de libre acceso
URL:https://www.carnavaldecadiz.com/event/actuacion-del-trio-de-carnaval-los-canavaleros/
LOCATION:Centro Cultural de la Villa\, Puerto Real\, calle rivera del muelle 5\, Puerto Real\, Cádiz\, 11510\, España
END:VEVENT
BEGIN:VEVENT
DTSTART;TZID=Europe/Madrid:20230715T213000
DTEND;TZID=Europe/Madrid:20230716T003000
DTSTAMP:20260421T070746
CREATED:20230709T141722Z
LAST-MODIFIED:20230709T141722Z
UID:697-1689456600-1689467400@www.carnavaldecadiz.com
SUMMARY:Festival de Carnaval de Verano
DESCRIPTION:Evento público de libre acceso.\nActuarán: \nComparsa: Los Colaores \nChirigota: Amoscuchá \nComparsa: Los serenos \nComparsa: Vicente Castro \nComparsa: Los Benjamines \nChiriparsa: Cubas Valverde
URL:https://www.carnavaldecadiz.com/event/festival-de-carnaval-de-verano/
LOCATION:Plaza de España.Calañas\, Plaza de España s/n\, Calañas\, Huelva\, 21300\, España
END:VEVENT
BEGIN:VEVENT
DTSTART;TZID=Europe/Madrid:20230718T223000
DTEND;TZID=Europe/Madrid:20230719T003000
DTSTAMP:20260421T070746
CREATED:20230709T101516Z
LAST-MODIFIED:20230709T101516Z
UID:687-1689719400-1689726600@www.carnavaldecadiz.com
SUMMARY:Carnaval en la Calle\, en Conil
DESCRIPTION:Cuarteto: Se alquila chirigota por quincenas \nComparsa : La comparsa de Conil \nEvento público de libre acceso.
URL:https://www.carnavaldecadiz.com/event/carnaval-en-la-calle-en-conil-3/
LOCATION:Plaza de España\, Conil\, Plaza de España\, Conil de la Frontera\, Cádiz\, 11140\, España
END:VEVENT
BEGIN:VEVENT
DTSTART;TZID=Europe/Madrid:20230719T223000
DTEND;TZID=Europe/Madrid:20230720T003000
DTSTAMP:20260421T070746
CREATED:20230709T101000Z
LAST-MODIFIED:20230709T101000Z
UID:683-1689805800-1689813000@www.carnavaldecadiz.com
SUMMARY:Carnaval en la Calle\, en Conil
DESCRIPTION:Mini Grupo: Los novatos \nChirigota: Jesús\, ¿Esto quién lo paga? \nRomancero: Los sonotones\, sordo sordo de cojones. \nEvento público de libre acceso.
URL:https://www.carnavaldecadiz.com/event/carnaval-en-la-calle-en-conil/
LOCATION:Plaza de España\, Conil\, Plaza de España\, Conil de la Frontera\, Cádiz\, 11140\, España
END:VEVENT
BEGIN:VEVENT
DTSTART;TZID=Europe/Madrid:20230720T223000
DTEND;TZID=Europe/Madrid:20230721T003000
DTSTAMP:20260421T070746
CREATED:20230709T102245Z
LAST-MODIFIED:20230709T102245Z
UID:693-1689892200-1689899400@www.carnavaldecadiz.com
SUMMARY:Carnaval en la Calle\, en Conil
DESCRIPTION:Chirigota: Los atunes \nComparsa: La comparsa de Conil \nEvento público de libre acceso.
URL:https://www.carnavaldecadiz.com/event/carnaval-en-la-calle-en-conil-6/
LOCATION:Plaza de España\, Conil\, Plaza de España\, Conil de la Frontera\, Cádiz\, 11140\, España
END:VEVENT
BEGIN:VEVENT
DTSTART;TZID=Europe/Madrid:20230725T223000
DTEND;TZID=Europe/Madrid:20230726T003000
DTSTAMP:20260421T070746
CREATED:20230709T101706Z
LAST-MODIFIED:20230709T101706Z
UID:689-1690324200-1690331400@www.carnavaldecadiz.com
SUMMARY:Carnaval en la Calle\, en Conil
DESCRIPTION:Cuarteto: Se alquila chirigota por quincenas \nComparsa : La comparsa de Conil \nEvento público de libre acceso.
URL:https://www.carnavaldecadiz.com/event/carnaval-en-la-calle-en-conil-4/
LOCATION:Plaza de España\, Conil\, Plaza de España\, Conil de la Frontera\, Cádiz\, 11140\, España
END:VEVENT
BEGIN:VEVENT
DTSTART;TZID=Europe/Madrid:20230726T223000
DTEND;TZID=Europe/Madrid:20230727T003000
DTSTAMP:20260421T070746
CREATED:20230709T101149Z
LAST-MODIFIED:20230709T101149Z
UID:685-1690410600-1690417800@www.carnavaldecadiz.com
SUMMARY:Carnaval en la Calle\, en Conil
DESCRIPTION:Mini Grupo: Los novatos \nChirigota: Jesús\, ¿Esto quién lo paga? \nRomancero: Los sonotones\, sordo sordo de cojones. \nEvento público de libre acceso.
URL:https://www.carnavaldecadiz.com/event/carnaval-en-la-calle-en-conil-2/
LOCATION:Plaza de España\, Conil\, Plaza de España\, Conil de la Frontera\, Cádiz\, 11140\, España
END:VEVENT
BEGIN:VEVENT
DTSTART;TZID=Europe/Madrid:20230727T223000
DTEND;TZID=Europe/Madrid:20230728T003000
DTSTAMP:20260421T070746
CREATED:20230709T102527Z
LAST-MODIFIED:20230709T102527Z
UID:695-1690497000-1690504200@www.carnavaldecadiz.com
SUMMARY:Carnaval en la Calle\, en Conil
DESCRIPTION:Chirigota: Los atunes \nComparsa: La comparsa de Conil \nEvento público de libre acceso.
URL:https://www.carnavaldecadiz.com/event/carnaval-en-la-calle-en-conil-7/
LOCATION:Plaza de España\, Conil\, Plaza de España\, Conil de la Frontera\, Cádiz\, 11140\, España
END:VEVENT
BEGIN:VEVENT
DTSTART;TZID=Europe/Madrid:20230729T200000
DTEND;TZID=Europe/Madrid:20230729T220000
DTSTAMP:20260421T070746
CREATED:20230718T195807Z
LAST-MODIFIED:20230718T195807Z
UID:1033-1690660800-1690668000@www.carnavaldecadiz.com
SUMMARY:Actuación de la Chirigota LA BOQUITA CERRÁ
DESCRIPTION:
URL:https://www.carnavaldecadiz.com/event/actuacion-de-la-chirigota-la-boquita-cerra/
LOCATION:Playa del Cable\, Playa del Cable\, Marbella\, Málaga\, España
END:VEVENT
END:VCALENDAR