BEGIN:VCALENDAR
VERSION:2.0
PRODID:-//Carnaval de C&aacute;diz - ECPv6.15.20//NONSGML v1.0//EN
CALSCALE:GREGORIAN
METHOD:PUBLISH
X-WR-CALNAME:Carnaval de C&aacute;diz
X-ORIGINAL-URL:https://www.carnavaldecadiz.com
X-WR-CALDESC:Eventos para Carnaval de C&aacute;diz
REFRESH-INTERVAL;VALUE=DURATION:PT1H
X-Robots-Tag:noindex
X-PUBLISHED-TTL:PT1H
BEGIN:VTIMEZONE
TZID:Europe/Madrid
BEGIN:DAYLIGHT
TZOFFSETFROM:+0100
TZOFFSETTO:+0200
TZNAME:CEST
DTSTART:20250330T010000
END:DAYLIGHT
BEGIN:STANDARD
TZOFFSETFROM:+0200
TZOFFSETTO:+0100
TZNAME:CET
DTSTART:20251026T010000
END:STANDARD
BEGIN:DAYLIGHT
TZOFFSETFROM:+0100
TZOFFSETTO:+0200
TZNAME:CEST
DTSTART:20260329T010000
END:DAYLIGHT
BEGIN:STANDARD
TZOFFSETFROM:+0200
TZOFFSETTO:+0100
TZNAME:CET
DTSTART:20261025T010000
END:STANDARD
BEGIN:DAYLIGHT
TZOFFSETFROM:+0100
TZOFFSETTO:+0200
TZNAME:CEST
DTSTART:20270328T010000
END:DAYLIGHT
BEGIN:STANDARD
TZOFFSETFROM:+0200
TZOFFSETTO:+0100
TZNAME:CET
DTSTART:20271031T010000
END:STANDARD
END:VTIMEZONE
BEGIN:VEVENT
DTSTART;TZID=Europe/Madrid:20260327T170000
DTEND;TZID=Europe/Madrid:20260327T190000
DTSTAMP:20260421T011353
CREATED:20260315T203912Z
LAST-MODIFIED:20260318T173151Z
UID:29162-1774630800-1774638000@www.carnavaldecadiz.com
SUMMARY:Jesús Bienvenido & AGAPORNIS
DESCRIPTION:𝐀𝐂𝐂𝐄𝐒𝐎 𝐋𝐈𝐁𝐑𝐄 𝐌𝐄𝐃𝐈𝐀𝐍𝐓𝐄 𝐐𝐑\nSi te gusta Cádiz\, los atardeceres y la música en directo… ya sabes dónde tienes que estar\n¡La primavera empieza en Calachica!\nQR gratis en www.calachica.es
URL:https://www.carnavaldecadiz.com/event/jesus-bienvenido-agapornis-2/
LOCATION:Calachica\, Cádiz\, Paseo Almirante Pascual Pery\, Cádiz\, Cádiz\, 11004\, Spain
CATEGORIES:Mucho más que carnaval
END:VEVENT
BEGIN:VEVENT
DTSTART;TZID=Europe/Madrid:20260327T190000
DTEND;TZID=Europe/Madrid:20260327T210000
DTSTAMP:20260421T011353
CREATED:20260322T220608Z
LAST-MODIFIED:20260322T220608Z
UID:29417-1774638000-1774645200@www.carnavaldecadiz.com
SUMMARY:'ENREDAR LA MEMORIA' en La CaraB
DESCRIPTION:La Cara B acoge una sesión de proyección de tres capítulos de la mini-serie Enredar la Memoria\, seguida de un coloquio abierto.\nEste encuentro propone un espacio de escucha y diálogo en torno a las vivencias del movimiento feminista de Sevilla desde los años 70\, poniendo en valor la memoria colectiva como herramienta de reflexión y construcción social. \nEvento público de libre acceso.
URL:https://www.carnavaldecadiz.com/event/enredar-la-memoria-en-la-carab/
LOCATION:La Cara B\, Cádiz\, calle Isabel la Católica 3\, Cádiz\, Cádiz\, 11004\, Spain
CATEGORIES:mesa de debate,Mucho más que carnaval
END:VEVENT
END:VCALENDAR