BEGIN:VCALENDAR
VERSION:2.0
PRODID:-//Carnaval de C&aacute;diz - ECPv6.15.20//NONSGML v1.0//EN
CALSCALE:GREGORIAN
METHOD:PUBLISH
X-WR-CALNAME:Carnaval de C&aacute;diz
X-ORIGINAL-URL:https://www.carnavaldecadiz.com
X-WR-CALDESC:Eventos para Carnaval de C&aacute;diz
REFRESH-INTERVAL;VALUE=DURATION:PT1H
X-Robots-Tag:noindex
X-PUBLISHED-TTL:PT1H
BEGIN:VTIMEZONE
TZID:Europe/Madrid
BEGIN:DAYLIGHT
TZOFFSETFROM:+0100
TZOFFSETTO:+0200
TZNAME:CEST
DTSTART:20250330T010000
END:DAYLIGHT
BEGIN:STANDARD
TZOFFSETFROM:+0200
TZOFFSETTO:+0100
TZNAME:CET
DTSTART:20251026T010000
END:STANDARD
BEGIN:DAYLIGHT
TZOFFSETFROM:+0100
TZOFFSETTO:+0200
TZNAME:CEST
DTSTART:20260329T010000
END:DAYLIGHT
BEGIN:STANDARD
TZOFFSETFROM:+0200
TZOFFSETTO:+0100
TZNAME:CET
DTSTART:20261025T010000
END:STANDARD
BEGIN:DAYLIGHT
TZOFFSETFROM:+0100
TZOFFSETTO:+0200
TZNAME:CEST
DTSTART:20270328T010000
END:DAYLIGHT
BEGIN:STANDARD
TZOFFSETFROM:+0200
TZOFFSETTO:+0100
TZNAME:CET
DTSTART:20271031T010000
END:STANDARD
END:VTIMEZONE
BEGIN:VEVENT
DTSTART;VALUE=DATE:20260320
DTEND;VALUE=DATE:20260322
DTSTAMP:20260421T011345
CREATED:20260315T140956Z
LAST-MODIFIED:20260315T140956Z
UID:29159-1773964800-1774137599@www.carnavaldecadiz.com
SUMMARY:SORORAMA - Festival Feminista de Cádiz
DESCRIPTION:PROGRAMA\nViernes 20 de marzo \n\n17:00h – Apertura de puertas y acceso a la sala de exposiciones.\n17:30h – Presentación del SORORAMA\n17:45h – Mesa de escritoras\n19:00h – Ponencia sobre violencia sexual a manos de Ana de Miguel\n20:30h – Obra teatral ‘LAS PODERÍO’\n23:00h – Concierto de Carmen Xía\n00:00h – DJ\n\nSábado 21 de marzo \n\n12:00h – Apertura de puertas y acceso a las salas de exposiciones\n12:30h – Taller de escritura feminista. Thais Gamaza\n12:30h – Muestra de Folclore de la Asociación de Danzas Folclóricas Ciudad de Cádiz\n13:00h – Poesía con acompañamiento musical. Marta Dylan.\n13:45h – Flamenco y arte. Marta Ortíz.\n16:00h – Taller de Suelo Pélvico con María Acedo (exterior).\n16:00h – Proyección del documental ‘LAS EDUCADORAS’. Dirigido por Mercedes Sánchez Vico.\n16:30h – Podcast de ‘LA BUENA PIPA’\n17:15h – Ponencia ‘COEDUCACIÓN’. Mercedes Sánchez Vico\n19:00h – Actuación de la comparsa ‘LA CAMORRA’\n21:00h – Concierto Laura B\n22:30h – Concierto Anabel Rivera\n00:00h – DJ\n\nTodos las actividades son de libre acceso. \n \n  \n  \n  \n  \n  \n 
URL:https://www.carnavaldecadiz.com/event/sororama-festival-feminista-de-cadiz-3/
LOCATION:Baluarte de Candelaria\, Alameda Hermanas Carvia Bernal 6\, Cádiz\, Cádiz\, 11003\, España
CATEGORIES:Mucho más que carnaval
ATTACH;FMTTYPE=image/jpeg:https://www.carnavaldecadiz.com/wp-content/uploads/2026/03/0320Sonorama-jpg.jpg
END:VEVENT
BEGIN:VEVENT
DTSTART;TZID=Europe/Madrid:20260321T130000
DTEND;TZID=Europe/Madrid:20260321T160000
DTSTAMP:20260421T011345
CREATED:20260315T214355Z
LAST-MODIFIED:20260315T214355Z
UID:29182-1774098000-1774108800@www.carnavaldecadiz.com
SUMMARY:XII Premios Holoturias
DESCRIPTION:La entrega de Premios Holoturias\, es una de los eventos más divertidos poscarnaval. \nPara conocer a los NOMINADOS \nEvento público de libre acceso.
URL:https://www.carnavaldecadiz.com/event/xii-premios-holoturias/
LOCATION:Peña Paco Alba\, calle antulo 6\, Cádiz\, Cádiz\, 11006\, España
CATEGORIES:Mucho más que carnaval
END:VEVENT
BEGIN:VEVENT
DTSTART;TZID=Europe/Madrid:20260321T190000
DTEND;TZID=Europe/Madrid:20260321T203000
DTSTAMP:20260421T011345
CREATED:20260315T215940Z
LAST-MODIFIED:20260315T215940Z
UID:29187-1774119600-1774125000@www.carnavaldecadiz.com
SUMMARY:NO SOLO DUELEN LOS GOLPES en Serendipia
DESCRIPTION:Compra en línea de LOCALIDADES
URL:https://www.carnavaldecadiz.com/event/no-solo-duelen-los-golpes-en-serendipia/
LOCATION:Sala Serendipia\, Cádiz\, Brunete 10\, Cádiz\, Cádiz\, 11007\, España
CATEGORIES:Mucho más que carnaval
END:VEVENT
END:VCALENDAR