BEGIN:VCALENDAR
VERSION:2.0
PRODID:-//Carnaval de C&aacute;diz - ECPv6.15.20//NONSGML v1.0//EN
CALSCALE:GREGORIAN
METHOD:PUBLISH
X-ORIGINAL-URL:https://www.carnavaldecadiz.com
X-WR-CALDESC:Eventos para Carnaval de C&aacute;diz
REFRESH-INTERVAL;VALUE=DURATION:PT1H
X-Robots-Tag:noindex
X-PUBLISHED-TTL:PT1H
BEGIN:VTIMEZONE
TZID:Europe/Madrid
BEGIN:DAYLIGHT
TZOFFSETFROM:+0100
TZOFFSETTO:+0200
TZNAME:CEST
DTSTART:20250330T010000
END:DAYLIGHT
BEGIN:STANDARD
TZOFFSETFROM:+0200
TZOFFSETTO:+0100
TZNAME:CET
DTSTART:20251026T010000
END:STANDARD
BEGIN:DAYLIGHT
TZOFFSETFROM:+0100
TZOFFSETTO:+0200
TZNAME:CEST
DTSTART:20260329T010000
END:DAYLIGHT
BEGIN:STANDARD
TZOFFSETFROM:+0200
TZOFFSETTO:+0100
TZNAME:CET
DTSTART:20261025T010000
END:STANDARD
BEGIN:DAYLIGHT
TZOFFSETFROM:+0100
TZOFFSETTO:+0200
TZNAME:CEST
DTSTART:20270328T010000
END:DAYLIGHT
BEGIN:STANDARD
TZOFFSETFROM:+0200
TZOFFSETTO:+0100
TZNAME:CET
DTSTART:20271031T010000
END:STANDARD
END:VTIMEZONE
BEGIN:VEVENT
DTSTART;TZID=Europe/Madrid:20260314T180000
DTEND;TZID=Europe/Madrid:20260314T233000
DTSTAMP:20260421T011546
CREATED:20260309T224628Z
LAST-MODIFIED:20260311T142752Z
UID:29035-1773511200-1773531000@www.carnavaldecadiz.com
SUMMARY:II Gala LOS MUERGOS DEL CARTELÓN
DESCRIPTION:¡Qué buen carnaval chiquito tuvimos para despedirnos! Sin embargo\, ahí no acaba la risa\, ni la carga\, porque este sábado 14 tendremos la segunda gala de los muergos del cartelón. \nTras el gran éxito que supuso la primera y la bien aceptada intracarga entre todos los romanceros\, como no podía ser de otra forma\, repetimos este sábado.\n\n\nAsí que\, si quieres pasar un rataso de gran categoría\, os esperamos en el número 5 de regimiento Infantería.\n\n\n¡Muergo ar chavá\, oé!\n¡Larga vida al romancero! ¡Blam! ¡Blam!\n\n\nConoce a los NOMINADOS \n\nEvento público de libre acceso.
URL:https://www.carnavaldecadiz.com/event/ii-gala-los-muergos-delcartelon/
LOCATION:Sede Asociación de Romanceros ARO\, calle Regimiento de Infantería nº5 Bajo\, Cádiz\, Cádiz\, 11002\, Spain
CATEGORIES:Mucho más que carnaval
END:VEVENT
END:VCALENDAR