BEGIN:VCALENDAR
VERSION:2.0
PRODID:-//Carnaval de C&aacute;diz - ECPv6.15.20//NONSGML v1.0//EN
CALSCALE:GREGORIAN
METHOD:PUBLISH
X-ORIGINAL-URL:https://www.carnavaldecadiz.com
X-WR-CALDESC:Eventos para Carnaval de C&aacute;diz
REFRESH-INTERVAL;VALUE=DURATION:PT1H
X-Robots-Tag:noindex
X-PUBLISHED-TTL:PT1H
BEGIN:VTIMEZONE
TZID:Europe/Madrid
BEGIN:DAYLIGHT
TZOFFSETFROM:+0100
TZOFFSETTO:+0200
TZNAME:CEST
DTSTART:20250330T010000
END:DAYLIGHT
BEGIN:STANDARD
TZOFFSETFROM:+0200
TZOFFSETTO:+0100
TZNAME:CET
DTSTART:20251026T010000
END:STANDARD
BEGIN:DAYLIGHT
TZOFFSETFROM:+0100
TZOFFSETTO:+0200
TZNAME:CEST
DTSTART:20260329T010000
END:DAYLIGHT
BEGIN:STANDARD
TZOFFSETFROM:+0200
TZOFFSETTO:+0100
TZNAME:CET
DTSTART:20261025T010000
END:STANDARD
BEGIN:DAYLIGHT
TZOFFSETFROM:+0100
TZOFFSETTO:+0200
TZNAME:CEST
DTSTART:20270328T010000
END:DAYLIGHT
BEGIN:STANDARD
TZOFFSETFROM:+0200
TZOFFSETTO:+0100
TZNAME:CET
DTSTART:20271031T010000
END:STANDARD
END:VTIMEZONE
BEGIN:VEVENT
DTSTART;TZID=Europe/Madrid:20260305T200000
DTEND;TZID=Europe/Madrid:20260305T220000
DTSTAMP:20260421T011547
CREATED:20260303T210608Z
LAST-MODIFIED:20260303T210608Z
UID:28888-1772740800-1772748000@www.carnavaldecadiz.com
SUMMARY:Editorial Cazador Presenta 'HABLANDO DE LA GUARDIA MUNICIPAL' de José R. Fernández López
DESCRIPTION:Antes de que existieran muchas de las instituciones modernas… Cádiz ya tenía Guardia Municipal. Fue la primera de toda España.\n¿Cómo surgió?\n¿Por qué aquí?\n¿Qué papel jugó en la ciudad?\nEste jueves en el Pay-Pay\, José R. Fernández presenta el libro que reconstruye esta historia\, editado por Cazador. \nEntrada libre hasta completar aforo.
URL:https://www.carnavaldecadiz.com/event/editorial-cazador-presenta-hablando-de-la-guardia-municipal-de-jose-r-fernandez-lopez/
LOCATION:Café Tatro Pay Pay\, C/ Silencio\, Cádiz\, Cádiz\, 11002
CATEGORIES:Mucho más que carnaval
END:VEVENT
BEGIN:VEVENT
DTSTART;TZID=Europe/Madrid:20260305T203000
DTEND;TZID=Europe/Madrid:20260305T220000
DTSTAMP:20260421T011547
CREATED:20260303T205616Z
LAST-MODIFIED:20260303T205616Z
UID:28884-1772742600-1772748000@www.carnavaldecadiz.com
SUMMARY:'LAS BINGUERAS DE EURÍPIDES' en La Línea
DESCRIPTION:Dionisio baja a la Tierra en forma de mujer para enfrentarse a El Suasenaguer\, un policía empeñado en cerrar un bingo ilegal de barrio donde un grupo de mujeres se reúne cada tarde no solo para jugar\, sino para compartir sus intimidades\, penas\, alegrías y alguna que otra copita de anís. Servando\, compañero de trabajo de El Suasenaguer\, intentará disuadirlo de sus intenciones\, pero el joven y fanático policía desoirá sus consejos\, arrastrando a todos a un final trágico y espeluznante. \nCompra en línea de LOCALIDADES
URL:https://www.carnavaldecadiz.com/event/las-bingueras-de-euripides-en-la-linea/
LOCATION:Teatro Paseo de la Velada\, La Línea\, calle del Teatro s/n\, La Línea\, Cádiz\, 11300\, Spain
CATEGORIES:Mucho más que carnaval
END:VEVENT
END:VCALENDAR