BEGIN:VCALENDAR
VERSION:2.0
PRODID:-//Carnaval de C&aacute;diz - ECPv6.15.20//NONSGML v1.0//EN
CALSCALE:GREGORIAN
METHOD:PUBLISH
X-ORIGINAL-URL:https://www.carnavaldecadiz.com
X-WR-CALDESC:Eventos para Carnaval de C&aacute;diz
REFRESH-INTERVAL;VALUE=DURATION:PT1H
X-Robots-Tag:noindex
X-PUBLISHED-TTL:PT1H
BEGIN:VTIMEZONE
TZID:Europe/Madrid
BEGIN:DAYLIGHT
TZOFFSETFROM:+0100
TZOFFSETTO:+0200
TZNAME:CEST
DTSTART:20240331T010000
END:DAYLIGHT
BEGIN:STANDARD
TZOFFSETFROM:+0200
TZOFFSETTO:+0100
TZNAME:CET
DTSTART:20241027T010000
END:STANDARD
BEGIN:DAYLIGHT
TZOFFSETFROM:+0100
TZOFFSETTO:+0200
TZNAME:CEST
DTSTART:20250330T010000
END:DAYLIGHT
BEGIN:STANDARD
TZOFFSETFROM:+0200
TZOFFSETTO:+0100
TZNAME:CET
DTSTART:20251026T010000
END:STANDARD
BEGIN:DAYLIGHT
TZOFFSETFROM:+0100
TZOFFSETTO:+0200
TZNAME:CEST
DTSTART:20260329T010000
END:DAYLIGHT
BEGIN:STANDARD
TZOFFSETFROM:+0200
TZOFFSETTO:+0100
TZNAME:CET
DTSTART:20261025T010000
END:STANDARD
END:VTIMEZONE
BEGIN:VEVENT
DTSTART;VALUE=DATE:20251223
DTEND;VALUE=DATE:20251229
DTSTAMP:20260421T061843
CREATED:20251222T184054Z
LAST-MODIFIED:20251222T184211Z
UID:26802-1766448000-1766966399@www.carnavaldecadiz.com
SUMMARY:Zambomba con 'LOS TRES PATIOS'
DESCRIPTION:El grupo ‘LOS TRES PATIOS’ cuenta entre sus componentes con un buen número de interpretes de carnaval con muchísimo arte como para mentar zambombas de categoría. \nPeriplo:\nMartes 23 de diciembre \n\n16:30h  Arsenio y Manila\n19:00h Peña La Estrella\n\nMiércoles 24 de diciembre \n\n13:30h Bar Medina\n17:30 Musalima\n\nViernes 26 de diciembre \n\n17:00h Bebo Los Vientos\n\nSábado 27 de diciembre \n\n17:00h La Mafia\n\nDomingo 28 de diciembre \n\n13:30h Fitsalud40 (Frente al bar Florida)\n\nTodos eventos públicos de libre acceso. \n \n 
URL:https://www.carnavaldecadiz.com/event/zambomba-con-los-tres-patios/
LOCATION:Cádiz\, Cádiz\, Cádiz\, España
CATEGORIES:Mucho más que carnaval
END:VEVENT
BEGIN:VEVENT
DTSTART;TZID=Europe/Madrid:20251227T200000
DTEND;TZID=Europe/Madrid:20251227T233000
DTSTAMP:20260421T061843
CREATED:20251224T181517Z
LAST-MODIFIED:20251224T181517Z
UID:26851-1766865600-1766878200@www.carnavaldecadiz.com
SUMMARY:Encuentro de la NOVÍSSIMA TROVA GADITANA
DESCRIPTION:Entre los miembros de la ‘NOVÍSSIMA TROVA GADITANA’ se encuentran algunos de los interpretes de carnaval más carismáticos. \nEvento público de libre entrada.
URL:https://www.carnavaldecadiz.com/event/encuentro-de-la-novissima-trova-gaditana/
LOCATION:Peña Los Adoquines\, calle Sagasta 91\, Cádiz\, Cádiz\, 11002\, España
CATEGORIES:Mucho más que carnaval
END:VEVENT
END:VCALENDAR