BEGIN:VCALENDAR
VERSION:2.0
PRODID:-//Carnaval de C&aacute;diz - ECPv6.15.20//NONSGML v1.0//EN
CALSCALE:GREGORIAN
METHOD:PUBLISH
X-ORIGINAL-URL:https://www.carnavaldecadiz.com
X-WR-CALDESC:Eventos para Carnaval de C&aacute;diz
REFRESH-INTERVAL;VALUE=DURATION:PT1H
X-Robots-Tag:noindex
X-PUBLISHED-TTL:PT1H
BEGIN:VTIMEZONE
TZID:Europe/Madrid
BEGIN:DAYLIGHT
TZOFFSETFROM:+0100
TZOFFSETTO:+0200
TZNAME:CEST
DTSTART:20240331T010000
END:DAYLIGHT
BEGIN:STANDARD
TZOFFSETFROM:+0200
TZOFFSETTO:+0100
TZNAME:CET
DTSTART:20241027T010000
END:STANDARD
BEGIN:DAYLIGHT
TZOFFSETFROM:+0100
TZOFFSETTO:+0200
TZNAME:CEST
DTSTART:20250330T010000
END:DAYLIGHT
BEGIN:STANDARD
TZOFFSETFROM:+0200
TZOFFSETTO:+0100
TZNAME:CET
DTSTART:20251026T010000
END:STANDARD
BEGIN:DAYLIGHT
TZOFFSETFROM:+0100
TZOFFSETTO:+0200
TZNAME:CEST
DTSTART:20260329T010000
END:DAYLIGHT
BEGIN:STANDARD
TZOFFSETFROM:+0200
TZOFFSETTO:+0100
TZNAME:CET
DTSTART:20261025T010000
END:STANDARD
END:VTIMEZONE
BEGIN:VEVENT
DTSTART;TZID=Europe/Madrid:20251203T180000
DTEND;TZID=Europe/Madrid:20251203T200000
DTSTAMP:20260421T061843
CREATED:20251125T121934Z
LAST-MODIFIED:20251125T121934Z
UID:26431-1764784800-1764792000@www.carnavaldecadiz.com
SUMMARY:Presentación de la Revista Literaria Universitaria 'ORFEO'
DESCRIPTION:Evento público de libre acceso.
URL:https://www.carnavaldecadiz.com/event/presentacion-de-la-revista-literaria-universitaria-orfeo/
LOCATION:Café Tatro Pay Pay\, C/ Silencio\, Cádiz\, Cádiz\, 11002
CATEGORIES:Mucho más que carnaval
END:VEVENT
BEGIN:VEVENT
DTSTART;TZID=Europe/Madrid:20251203T200000
DTEND;TZID=Europe/Madrid:20251203T213000
DTSTAMP:20260421T061843
CREATED:20251202T111221Z
LAST-MODIFIED:20251202T111221Z
UID:26598-1764792000-1764797400@www.carnavaldecadiz.com
SUMMARY:'El Ramper' de Jesús Bienvenido en Algeciras
DESCRIPTION:“El Rámper” llega a Algeciras\nUn espectáculo músico-teatral de Jesús Bienvenido que recupera la memoria de los artistas del carnaval gaditano represaliados durante el franquismo.\nTeatro\, música y memoria en una misma noche. \nEntrada gratuita para la comunidad universitaria. \nReserva obligatoria\, máximo dos reservas por persona.
URL:https://www.carnavaldecadiz.com/event/el-ramper-de-jesus-bienvenido-en-algeciras/
LOCATION:Salón de Actos de la ETSI Algeciras\, Avenida Ramón Puyol\, Algeciras\, Cádiz\, 11202\, Spain
CATEGORIES:Mucho más que carnaval
END:VEVENT
END:VCALENDAR