BEGIN:VCALENDAR
VERSION:2.0
PRODID:-//Carnaval de C&aacute;diz - ECPv6.15.20//NONSGML v1.0//EN
CALSCALE:GREGORIAN
METHOD:PUBLISH
X-ORIGINAL-URL:https://www.carnavaldecadiz.com
X-WR-CALDESC:Eventos para Carnaval de C&aacute;diz
REFRESH-INTERVAL;VALUE=DURATION:PT1H
X-Robots-Tag:noindex
X-PUBLISHED-TTL:PT1H
BEGIN:VTIMEZONE
TZID:Europe/Madrid
BEGIN:DAYLIGHT
TZOFFSETFROM:+0100
TZOFFSETTO:+0200
TZNAME:CEST
DTSTART:20240331T010000
END:DAYLIGHT
BEGIN:STANDARD
TZOFFSETFROM:+0200
TZOFFSETTO:+0100
TZNAME:CET
DTSTART:20241027T010000
END:STANDARD
BEGIN:DAYLIGHT
TZOFFSETFROM:+0100
TZOFFSETTO:+0200
TZNAME:CEST
DTSTART:20250330T010000
END:DAYLIGHT
BEGIN:STANDARD
TZOFFSETFROM:+0200
TZOFFSETTO:+0100
TZNAME:CET
DTSTART:20251026T010000
END:STANDARD
BEGIN:DAYLIGHT
TZOFFSETFROM:+0100
TZOFFSETTO:+0200
TZNAME:CEST
DTSTART:20260329T010000
END:DAYLIGHT
BEGIN:STANDARD
TZOFFSETFROM:+0200
TZOFFSETTO:+0100
TZNAME:CET
DTSTART:20261025T010000
END:STANDARD
END:VTIMEZONE
BEGIN:VEVENT
DTSTART;TZID=Europe/Madrid:20251120T190000
DTEND;TZID=Europe/Madrid:20251120T203000
DTSTAMP:20260421T074938
CREATED:20251117T124249Z
LAST-MODIFIED:20251117T124249Z
UID:26273-1763665200-1763670600@www.carnavaldecadiz.com
SUMMARY:Presentación de la Reedición de 'LAS MIL NOCHES DE HORTENSIA ROMERO'
DESCRIPTION:El acto contará con la participación de Juan José Sánchez Sandoval\, Mariela Quiñones Consolani y Felipe Benítez Reyes. \nHortensia Romero\, la Legionaria\, cobrará vida en la voz de Susi Rosado. \nEvento público de libre acceso.
URL:https://www.carnavaldecadiz.com/event/presentacion-de-la-reedicion-de-las-mil-noches-de-hortensia-romero/
LOCATION:Biblioteca Provincial\, Cádiz\, Avenida Cuatro de Diciembre de 1977\, 16\, Cádiz\, Cádiz\, 11006\, Spain
CATEGORIES:Mucho más que carnaval
END:VEVENT
END:VCALENDAR