BEGIN:VCALENDAR
VERSION:2.0
PRODID:-//Carnaval de C&aacute;diz - ECPv6.15.20//NONSGML v1.0//EN
CALSCALE:GREGORIAN
METHOD:PUBLISH
X-ORIGINAL-URL:https://www.carnavaldecadiz.com
X-WR-CALDESC:Eventos para Carnaval de C&aacute;diz
REFRESH-INTERVAL;VALUE=DURATION:PT1H
X-Robots-Tag:noindex
X-PUBLISHED-TTL:PT1H
BEGIN:VTIMEZONE
TZID:Europe/Madrid
BEGIN:DAYLIGHT
TZOFFSETFROM:+0100
TZOFFSETTO:+0200
TZNAME:CEST
DTSTART:20240331T010000
END:DAYLIGHT
BEGIN:STANDARD
TZOFFSETFROM:+0200
TZOFFSETTO:+0100
TZNAME:CET
DTSTART:20241027T010000
END:STANDARD
BEGIN:DAYLIGHT
TZOFFSETFROM:+0100
TZOFFSETTO:+0200
TZNAME:CEST
DTSTART:20250330T010000
END:DAYLIGHT
BEGIN:STANDARD
TZOFFSETFROM:+0200
TZOFFSETTO:+0100
TZNAME:CET
DTSTART:20251026T010000
END:STANDARD
BEGIN:DAYLIGHT
TZOFFSETFROM:+0100
TZOFFSETTO:+0200
TZNAME:CEST
DTSTART:20260329T010000
END:DAYLIGHT
BEGIN:STANDARD
TZOFFSETFROM:+0200
TZOFFSETTO:+0100
TZNAME:CET
DTSTART:20261025T010000
END:STANDARD
END:VTIMEZONE
BEGIN:VEVENT
DTSTART;TZID=Europe/Madrid:20251113T190000
DTEND;TZID=Europe/Madrid:20251113T210000
DTSTAMP:20260421T075113
CREATED:20251110T180347Z
LAST-MODIFIED:20251112T223737Z
UID:26021-1763060400-1763067600@www.carnavaldecadiz.com
SUMMARY:Firma de libros de David Magrañal
DESCRIPTION:David Magrañal es un peculiar intérprete y autor de romanceros de carnaval además de un maravilloso novelista. \nEventos públicos de libre acceso.
URL:https://www.carnavaldecadiz.com/event/firma-de-libros-de-david-magranal/
LOCATION:Peña Los Adoquines\, calle Sagasta 91\, Cádiz\, Cádiz\, 11002\, España
CATEGORIES:Mucho más que carnaval
END:VEVENT
BEGIN:VEVENT
DTSTART;TZID=Europe/Madrid:20251113T203000
DTEND;TZID=Europe/Madrid:20251113T223000
DTSTAMP:20260421T075113
CREATED:20251112T224232Z
LAST-MODIFIED:20251112T224232Z
UID:26152-1763065800-1763073000@www.carnavaldecadiz.com
SUMMARY:Txapela de Cádiz en Sugar Café
DESCRIPTION:Txapela de Cádiz ostenta el primer premio de Romanceros del Concurso Organizado por el Ayuntamiento de Cádiz en 2025 además de ser un gran humorista. \nEvento público de libre acceso
URL:https://www.carnavaldecadiz.com/event/txapela-de-cadiz-en-sugar-cafe/
LOCATION:Sugar Café\, San Fernando\, calle Hermanos Lahué 18\, San Fernando\, Cádiz\, 11100\, España
CATEGORIES:Mucho más que carnaval
END:VEVENT
END:VCALENDAR