BEGIN:VCALENDAR
VERSION:2.0
PRODID:-//Carnaval de C&aacute;diz - ECPv6.15.20//NONSGML v1.0//EN
CALSCALE:GREGORIAN
METHOD:PUBLISH
X-ORIGINAL-URL:https://www.carnavaldecadiz.com
X-WR-CALDESC:Eventos para Carnaval de C&aacute;diz
REFRESH-INTERVAL;VALUE=DURATION:PT1H
X-Robots-Tag:noindex
X-PUBLISHED-TTL:PT1H
BEGIN:VTIMEZONE
TZID:Europe/Madrid
BEGIN:DAYLIGHT
TZOFFSETFROM:+0100
TZOFFSETTO:+0200
TZNAME:CEST
DTSTART:20240331T010000
END:DAYLIGHT
BEGIN:STANDARD
TZOFFSETFROM:+0200
TZOFFSETTO:+0100
TZNAME:CET
DTSTART:20241027T010000
END:STANDARD
BEGIN:DAYLIGHT
TZOFFSETFROM:+0100
TZOFFSETTO:+0200
TZNAME:CEST
DTSTART:20250330T010000
END:DAYLIGHT
BEGIN:STANDARD
TZOFFSETFROM:+0200
TZOFFSETTO:+0100
TZNAME:CET
DTSTART:20251026T010000
END:STANDARD
BEGIN:DAYLIGHT
TZOFFSETFROM:+0100
TZOFFSETTO:+0200
TZNAME:CEST
DTSTART:20260329T010000
END:DAYLIGHT
BEGIN:STANDARD
TZOFFSETFROM:+0200
TZOFFSETTO:+0100
TZNAME:CET
DTSTART:20261025T010000
END:STANDARD
END:VTIMEZONE
BEGIN:VEVENT
DTSTART;VALUE=DATE:20250904
DTEND;VALUE=DATE:20251101
DTSTAMP:20260421T092834
CREATED:20250911T215716Z
LAST-MODIFIED:20250911T215801Z
UID:23941-1756944000-1761955199@www.carnavaldecadiz.com
SUMMARY:Exposición 'EL PRINCIVERSO' en 'La cara B'
DESCRIPTION:Ricardo Hermida o como se hace llamar ‘Sr Plástiko\, un dibujante mosqueado desde que nació’\, es un gaditano afincado en Hospitalet. Cursó estudios artísticos en la Escuela de Artes y Oficios de Cádiz.\nEn 2006 se traslada a Barcelona a formarme en la especialidad de cómic en la Escola Joso donde curso el master de Artes Gráficas\, hasta el año 2009. \nDesde aquellos años\, ha trabajado (entre muchas otras cosas) en una gran diversidad de publicaciones sociales o informativas\, ya que cre que la viñeta y el cómic pueden servir para llevar al lector a la reflexión además de a el entretenimiento. \nLa exposición ‘EL PRINCIVERSO’ nació de la necesidad de encontrar un regalo de cumpleaños para un amigo el que le pirra el clásico de Antoine de Saint-Exupéry ‘El proncipito’. Consiste en casi 50 láminas con versiones del pequeño príncipe ente los que se encuentran: la Principícara\, el Principito de la calzada\, Principaco Alba\, Principalestina Libre… \nUna exposición muy recomendable porque cualquiera que la visita termina identificándose con algún principito/a. \nPara seber más de ‘Sr Plástiko’ visita su BLOG \n 
URL:https://www.carnavaldecadiz.com/event/exposicion-el-princiverso-en-la-cara-b/
LOCATION:La Cara B\, Cádiz\, calle Isabel la Católica 3\, Cádiz\, Cádiz\, 11004\, Spain
CATEGORIES:Mucho más que carnaval,pinturas de carnaval
END:VEVENT
BEGIN:VEVENT
DTSTART;VALUE=DATE:20251001
DTEND;VALUE=DATE:20251026
DTSTAMP:20260421T092834
CREATED:20250929T183749Z
LAST-MODIFIED:20250929T183749Z
UID:24470-1759276800-1761436799@www.carnavaldecadiz.com
SUMMARY:Programa de Actividades Culturales de LA LECTORA
DESCRIPTION:PROGRAMA\nMiércoles 1 de octubre\, a las 18:30h \n\nDavid P. Yuste – Presentación de su nuevo libro ‘Garret: un alma y siete días’\n\nViernes 3 de octubre a las 18:30h \n\nX Tertulia Feminista de Carnaval – Charla con la hermanas Tubío.\n\nJueves 9 de octubre a las 18:30h \n\nEdiciones Mayi – Ciclo de charlas ‘Amiga Editorial’\n\nSábado 11 de octubre a las 12:00h \n\nCharo Barrios – Charla y degustación – ‘El A.O.V.E.: aroma\, sabor y salud… y de Cádiz’\n\nMartes 14 de octubre a las 18:30h \nClub de Lectura – Conduce Alma Alanís. \nSábado 25 de octubre a las 12:00h \nPedos de Unicornio – Cuentacuentos infantil conducido por la autora Judit Llorca. \nTodos son eventos públicos de libre acceso.\n 
URL:https://www.carnavaldecadiz.com/event/programa-de-actividades-culturales-de-la-lectora/
LOCATION:La Lectora Cafetería-librería\, Cádiz\, calle Ancha 32\, Cádiz\, Cádiz\, 11001\, Spain
CATEGORIES:Mucho más que carnaval
END:VEVENT
BEGIN:VEVENT
DTSTART;TZID=Europe/Madrid:20251017T200000
DTEND;TZID=Europe/Madrid:20251017T220000
DTSTAMP:20260421T092834
CREATED:20251016T144340Z
LAST-MODIFIED:20251016T144340Z
UID:25148-1760731200-1760738400@www.carnavaldecadiz.com
SUMMARY:'El Cansautor Alopécico' en La CaraB
DESCRIPTION:Viaje decolonial a través de la música revolucionaria de Latinoamérica. \nFilosofía de liberación + Cantos Revolucionarios \nEvento público de libre acceso.
URL:https://www.carnavaldecadiz.com/event/el-cansautor-alopecico-en-la-carab/
LOCATION:La Cara B\, Cádiz\, calle Isabel la Católica 3\, Cádiz\, Cádiz\, 11004\, Spain
CATEGORIES:Mucho más que carnaval
END:VEVENT
BEGIN:VEVENT
DTSTART;TZID=Europe/Madrid:20251017T210000
DTEND;TZID=Europe/Madrid:20251017T233000
DTSTAMP:20260421T092834
CREATED:20250930T191845Z
LAST-MODIFIED:20250930T191845Z
UID:24540-1760734800-1760743800@www.carnavaldecadiz.com
SUMMARY:Miguel Ángel Martín en el Pay-pay
DESCRIPTION:Compra y reserva de localidades en el Café Teatro Pay-pay
URL:https://www.carnavaldecadiz.com/event/miguel-angel-martin-en-el-pay-pay/
LOCATION:Café Tatro Pay Pay\, C/ Silencio\, Cádiz\, Cádiz\, 11002
CATEGORIES:Mucho más que carnaval
END:VEVENT
END:VCALENDAR