BEGIN:VCALENDAR
VERSION:2.0
PRODID:-//Carnaval de C&aacute;diz - ECPv6.15.20//NONSGML v1.0//EN
CALSCALE:GREGORIAN
METHOD:PUBLISH
X-ORIGINAL-URL:https://www.carnavaldecadiz.com
X-WR-CALDESC:Eventos para Carnaval de C&aacute;diz
REFRESH-INTERVAL;VALUE=DURATION:PT1H
X-Robots-Tag:noindex
X-PUBLISHED-TTL:PT1H
BEGIN:VTIMEZONE
TZID:Europe/Madrid
BEGIN:DAYLIGHT
TZOFFSETFROM:+0100
TZOFFSETTO:+0200
TZNAME:CEST
DTSTART:20240331T010000
END:DAYLIGHT
BEGIN:STANDARD
TZOFFSETFROM:+0200
TZOFFSETTO:+0100
TZNAME:CET
DTSTART:20241027T010000
END:STANDARD
BEGIN:DAYLIGHT
TZOFFSETFROM:+0100
TZOFFSETTO:+0200
TZNAME:CEST
DTSTART:20250330T010000
END:DAYLIGHT
BEGIN:STANDARD
TZOFFSETFROM:+0200
TZOFFSETTO:+0100
TZNAME:CET
DTSTART:20251026T010000
END:STANDARD
BEGIN:DAYLIGHT
TZOFFSETFROM:+0100
TZOFFSETTO:+0200
TZNAME:CEST
DTSTART:20260329T010000
END:DAYLIGHT
BEGIN:STANDARD
TZOFFSETFROM:+0200
TZOFFSETTO:+0100
TZNAME:CET
DTSTART:20261025T010000
END:STANDARD
END:VTIMEZONE
BEGIN:VEVENT
DTSTART;VALUE=DATE:20250901
DTEND;VALUE=DATE:20251001
DTSTAMP:20260421T111240
CREATED:20250827T203828Z
LAST-MODIFIED:20250827T203828Z
UID:23646-1756684800-1759276799@www.carnavaldecadiz.com
SUMMARY:Programación de la Casa Puerta de Luisa
DESCRIPTION:PROGRAMACIÓN\nLunes 1 de septiembre\, a las 20:30h. Inauguración de exposición de Laura Siz ¿Que hay detrás de un cartel de cine o teatro?¿Como contar historias en un cartel? \nMiércoles 3 de septiembre\, a las 20:30h. VIII Edición de los Premios Bar La Casapuerta de Luisa. Siete galardones: \n\nCliente perruno – Sultán\n\nJueves 4 de septiembre\, a las 20:30h. VIII Edición de los Premios Bar La Casapuerta de Luisa. \n\nCarnaval –  Las hermanas Tubío\nComunicación – Laura Jurado\n\nViernes 5 de septiembre\, a las 20:30h. VIII Edición de los Premios Bar La Casapuerta de Luisa \n\nGastronomía – El Gastrósofo Bohemio\nIlustración – Ángel Olivera\nHonorífico – José Ramón Ripoll\nNegocio amigo – Crisbel\n\nJueves 11 de septiembre\, a las 20:30h. Tertulia con Barla. \nVisita ‘LA CASAPUERTA DE LUISA’ José Manuel Barla García\, centrocampista del Cádiz CF en los 80 y 90. También jugó en el Rayo Vallecano. Hablaremos de futbol con un gaditano que vivió una época gloriosa de equipo local. Presenta y entrevista Juan Antonio Quiñones. \nJueves 18 de septiembre\, a las 20:30h. Matacrías. \nEl escritor Alberto Puyana\, acompañado de Juan Manuel Sainz Peña\, hablará de su última novela\, Matacrías (Kaizen): El hallazgo de los cadáveres de dos adolescentes\, y la desaparición de una tercera persona\, ha sembrado el terror en Cádiz. Parece obra de un asesino en serie. \nJueves 25 de septiembre\, a las 20:30h. Encuentro con Anabel Flores. \nA través de una entrevista en directo descubriremos no solo a la periodista de Onda Cádiz\, si no también a una pintora extraordinaria. \nTodos los eventos son públicos de libre acceso\, hasta completar aforo. Aforo limitado. \n  \n  \n  \n  \n 
URL:https://www.carnavaldecadiz.com/event/programacion-de-la-casa-puerta-de-luisa/
LOCATION:Bar La Casapuerta\, calle Sagasta 40\, Cádiz\, Cádiz\, 11001\, España
CATEGORIES:Mucho más que carnaval
END:VEVENT
BEGIN:VEVENT
DTSTART;VALUE=DATE:20250904
DTEND;VALUE=DATE:20251101
DTSTAMP:20260421T111240
CREATED:20250911T215716Z
LAST-MODIFIED:20250911T215801Z
UID:23941-1756944000-1761955199@www.carnavaldecadiz.com
SUMMARY:Exposición 'EL PRINCIVERSO' en 'La cara B'
DESCRIPTION:Ricardo Hermida o como se hace llamar ‘Sr Plástiko\, un dibujante mosqueado desde que nació’\, es un gaditano afincado en Hospitalet. Cursó estudios artísticos en la Escuela de Artes y Oficios de Cádiz.\nEn 2006 se traslada a Barcelona a formarme en la especialidad de cómic en la Escola Joso donde curso el master de Artes Gráficas\, hasta el año 2009. \nDesde aquellos años\, ha trabajado (entre muchas otras cosas) en una gran diversidad de publicaciones sociales o informativas\, ya que cre que la viñeta y el cómic pueden servir para llevar al lector a la reflexión además de a el entretenimiento. \nLa exposición ‘EL PRINCIVERSO’ nació de la necesidad de encontrar un regalo de cumpleaños para un amigo el que le pirra el clásico de Antoine de Saint-Exupéry ‘El proncipito’. Consiste en casi 50 láminas con versiones del pequeño príncipe ente los que se encuentran: la Principícara\, el Principito de la calzada\, Principaco Alba\, Principalestina Libre… \nUna exposición muy recomendable porque cualquiera que la visita termina identificándose con algún principito/a. \nPara seber más de ‘Sr Plástiko’ visita su BLOG \n 
URL:https://www.carnavaldecadiz.com/event/exposicion-el-princiverso-en-la-cara-b/
LOCATION:La Cara B\, Cádiz\, calle Isabel la Católica 3\, Cádiz\, Cádiz\, 11004\, Spain
CATEGORIES:Mucho más que carnaval,pinturas de carnaval
END:VEVENT
BEGIN:VEVENT
DTSTART;TZID=Europe/Madrid:20250928T120000
DTEND;TZID=Europe/Madrid:20250928T143000
DTSTAMP:20260421T111240
CREATED:20250917T135314Z
LAST-MODIFIED:20250917T135314Z
UID:24149-1759060800-1759069800@www.carnavaldecadiz.com
SUMMARY:Cádiz y su Teatro Falla
DESCRIPTION:Visita guiada al templo de las coplas de carnaval de la mano de Santi Moreno y Fran Sevilla. \nReservas: \ne-mail: reservas@1d3milhistorias.com \ntlf: 690298902 / 609034072
URL:https://www.carnavaldecadiz.com/event/cadiz-y-su-teatro-falla-12/
LOCATION:Plaza Fragela\, Cádiz\, Plaza Fragela\, Cádiz\, Cádiz\, 11003\, España
CATEGORIES:Mucho más que carnaval,Ruta Cultural
END:VEVENT
BEGIN:VEVENT
DTSTART;TZID=Europe/Madrid:20250928T190000
DTEND;TZID=Europe/Madrid:20250928T210000
DTSTAMP:20260421T111240
CREATED:20250827T182523Z
LAST-MODIFIED:20250827T182708Z
UID:23624-1759086000-1759093200@www.carnavaldecadiz.com
SUMMARY:'El Fantasma del Teatro Falla' en Ronda
DESCRIPTION:Espectáculo musical que fusiona el teatro con la tradición gaditana del Carnaval de Cádiz. \nCompra on-line de LOCALIDADES
URL:https://www.carnavaldecadiz.com/event/el-fantasma-del-teatro-falla-en-ronda/
LOCATION:Teatro Vicente Espinel\, Ronda\, Plaza Blas Infante\, Ronda\, Málaga\, 29400\, España
CATEGORIES:Mucho más que carnaval
END:VEVENT
END:VCALENDAR