BEGIN:VCALENDAR
VERSION:2.0
PRODID:-//Carnaval de C&aacute;diz - ECPv6.15.20//NONSGML v1.0//EN
CALSCALE:GREGORIAN
METHOD:PUBLISH
X-WR-CALNAME:Carnaval de C&aacute;diz
X-ORIGINAL-URL:https://www.carnavaldecadiz.com
X-WR-CALDESC:Eventos para Carnaval de C&aacute;diz
REFRESH-INTERVAL;VALUE=DURATION:PT1H
X-Robots-Tag:noindex
X-PUBLISHED-TTL:PT1H
BEGIN:VTIMEZONE
TZID:Europe/Madrid
BEGIN:DAYLIGHT
TZOFFSETFROM:+0100
TZOFFSETTO:+0200
TZNAME:CEST
DTSTART:20240331T010000
END:DAYLIGHT
BEGIN:STANDARD
TZOFFSETFROM:+0200
TZOFFSETTO:+0100
TZNAME:CET
DTSTART:20241027T010000
END:STANDARD
BEGIN:DAYLIGHT
TZOFFSETFROM:+0100
TZOFFSETTO:+0200
TZNAME:CEST
DTSTART:20250330T010000
END:DAYLIGHT
BEGIN:STANDARD
TZOFFSETFROM:+0200
TZOFFSETTO:+0100
TZNAME:CET
DTSTART:20251026T010000
END:STANDARD
BEGIN:DAYLIGHT
TZOFFSETFROM:+0100
TZOFFSETTO:+0200
TZNAME:CEST
DTSTART:20260329T010000
END:DAYLIGHT
BEGIN:STANDARD
TZOFFSETFROM:+0200
TZOFFSETTO:+0100
TZNAME:CET
DTSTART:20261025T010000
END:STANDARD
END:VTIMEZONE
BEGIN:VEVENT
DTSTART;TZID=Europe/Madrid:20250821T210000
DTEND;TZID=Europe/Madrid:20250821T233000
DTSTAMP:20260421T123058
CREATED:20250811T205013Z
LAST-MODIFIED:20250811T205013Z
UID:22931-1755810000-1755819000@www.carnavaldecadiz.com
SUMMARY:Herminia Vargas y Jesús Orihuela en el Pay-pay
DESCRIPTION:Compra y reserva de localidades en Café Teatro Pay-pay
URL:https://www.carnavaldecadiz.com/event/herminia-vargas-y-jesus-orihuela-en-el-pay-pay/
LOCATION:Café Tatro Pay Pay\, C/ Silencio\, Cádiz\, Cádiz\, 11002
CATEGORIES:Mucho más que carnaval
END:VEVENT
BEGIN:VEVENT
DTSTART;TZID=Europe/Madrid:20250821T210000
DTEND;TZID=Europe/Madrid:20250821T233000
DTSTAMP:20260421T123058
CREATED:20250818T224854Z
LAST-MODIFIED:20250818T224854Z
UID:23223-1755810000-1755819000@www.carnavaldecadiz.com
SUMMARY:Mar Muñoz en la XVI Noche de Literatura en la Calle
DESCRIPTION:Participan en el evento: \n\nMarta Dylan\nLuis García Montero\nJuan José Téllez\nAndrés Ortíz Tafur\nPablo Cano/José Luis Alcedo ‘Wi’\nChus Visor/José Antonio Lucero\nPablo García Casado\nMar Muñoz/Benjamin Prado\n\nEvento público de libre acceso.
URL:https://www.carnavaldecadiz.com/event/mar-munoz-en-la-xvi-noche-de-literatura-en-la-calle/
LOCATION:Plaza de la Merced\, Rota\, Plaza de la Merced\, Rota\, Cádiz\, 11520\, Spain
CATEGORIES:Mucho más que carnaval
END:VEVENT
END:VCALENDAR