BEGIN:VCALENDAR
VERSION:2.0
PRODID:-//Carnaval de C&aacute;diz - ECPv6.15.20//NONSGML v1.0//EN
CALSCALE:GREGORIAN
METHOD:PUBLISH
X-ORIGINAL-URL:https://www.carnavaldecadiz.com
X-WR-CALDESC:Eventos para Carnaval de C&aacute;diz
REFRESH-INTERVAL;VALUE=DURATION:PT1H
X-Robots-Tag:noindex
X-PUBLISHED-TTL:PT1H
BEGIN:VTIMEZONE
TZID:Europe/Madrid
BEGIN:DAYLIGHT
TZOFFSETFROM:+0100
TZOFFSETTO:+0200
TZNAME:CEST
DTSTART:20240331T010000
END:DAYLIGHT
BEGIN:STANDARD
TZOFFSETFROM:+0200
TZOFFSETTO:+0100
TZNAME:CET
DTSTART:20241027T010000
END:STANDARD
BEGIN:DAYLIGHT
TZOFFSETFROM:+0100
TZOFFSETTO:+0200
TZNAME:CEST
DTSTART:20250330T010000
END:DAYLIGHT
BEGIN:STANDARD
TZOFFSETFROM:+0200
TZOFFSETTO:+0100
TZNAME:CET
DTSTART:20251026T010000
END:STANDARD
BEGIN:DAYLIGHT
TZOFFSETFROM:+0100
TZOFFSETTO:+0200
TZNAME:CEST
DTSTART:20260329T010000
END:DAYLIGHT
BEGIN:STANDARD
TZOFFSETFROM:+0200
TZOFFSETTO:+0100
TZNAME:CET
DTSTART:20261025T010000
END:STANDARD
END:VTIMEZONE
BEGIN:VEVENT
DTSTART;TZID=Europe/Madrid:20250609T200000
DTEND;TZID=Europe/Madrid:20250609T220000
DTSTAMP:20260421T152101
CREATED:20250608T231136Z
LAST-MODIFIED:20250608T231136Z
UID:21376-1749499200-1749506400@www.carnavaldecadiz.com
SUMMARY:Presentación de '3XTR4ÑO' de MA García Argüéz
DESCRIPTION:La Fundación Caballero Bonald tiene el placer de anunciar la presentación de 3XTR4ÑØ\, la nueva novela de Miguel Ángel García Argüez\, publicada por Libros de la Herida. Prepárate para una inmersión en una trama que te atrapará desde la primera página y que ya genera expectación en el ámbito cultural. \nEl evento\, que se perfila como una cita imprescindible para los amantes de la buena literatura\, contará con la presencia de José María Gómez Valero\, quien será el encargado de introducir la obra y a su autor. Su perspectiva\, sin duda\, aportará una capa adicional de comprensión a esta historia tan particular. Será una tarde de análisis y debate en torno a esta fascinante creación literaria. \nEvento público de libre acceso.
URL:https://www.carnavaldecadiz.com/event/presentacion-de-3xtr4no-de-ma-garcia-arguez/
LOCATION:Fundación Caballero Bonald\, Jerez\, calle Caballeros 17\, Jerez de la Frontera\, Cádiz\, 11403\, Spain
CATEGORIES:Mucho más que carnaval
END:VEVENT
END:VCALENDAR