BEGIN:VCALENDAR
VERSION:2.0
PRODID:-//Carnaval de C&aacute;diz - ECPv6.15.20//NONSGML v1.0//EN
CALSCALE:GREGORIAN
METHOD:PUBLISH
X-WR-CALNAME:Carnaval de C&aacute;diz
X-ORIGINAL-URL:https://www.carnavaldecadiz.com
X-WR-CALDESC:Eventos para Carnaval de C&aacute;diz
REFRESH-INTERVAL;VALUE=DURATION:PT1H
X-Robots-Tag:noindex
X-PUBLISHED-TTL:PT1H
BEGIN:VTIMEZONE
TZID:Europe/Madrid
BEGIN:DAYLIGHT
TZOFFSETFROM:+0100
TZOFFSETTO:+0200
TZNAME:CEST
DTSTART:20240331T010000
END:DAYLIGHT
BEGIN:STANDARD
TZOFFSETFROM:+0200
TZOFFSETTO:+0100
TZNAME:CET
DTSTART:20241027T010000
END:STANDARD
BEGIN:DAYLIGHT
TZOFFSETFROM:+0100
TZOFFSETTO:+0200
TZNAME:CEST
DTSTART:20250330T010000
END:DAYLIGHT
BEGIN:STANDARD
TZOFFSETFROM:+0200
TZOFFSETTO:+0100
TZNAME:CET
DTSTART:20251026T010000
END:STANDARD
BEGIN:DAYLIGHT
TZOFFSETFROM:+0100
TZOFFSETTO:+0200
TZNAME:CEST
DTSTART:20260329T010000
END:DAYLIGHT
BEGIN:STANDARD
TZOFFSETFROM:+0200
TZOFFSETTO:+0100
TZNAME:CET
DTSTART:20261025T010000
END:STANDARD
END:VTIMEZONE
BEGIN:VEVENT
DTSTART;VALUE=DATE:20250523
DTEND;VALUE=DATE:20250524
DTSTAMP:20260421T165020
CREATED:20250522T203834Z
LAST-MODIFIED:20250522T203834Z
UID:20969-1747958400-1748044799@www.carnavaldecadiz.com
SUMMARY:'La pícara de Cervantes' en Prado del Rey
DESCRIPTION:Dos pases: \n\na las 12:00h\ny a las 20:00h\n\n‘La pícara de Cervantes’ es uno de los mejores montajes teatrales de los últimos años. Tercer premio de Mejor Montaje de la Fundación Siglo de Oro de Madrid en 2022 y nominada en 2024 a los Premios Lorca de las Artes Escénicas de Andalucía. \nAída Santos a demás de ser una estupenda actriz\, es muy aficionada al carnaval callejero y se le puede ver todos los años por las calles de Cádiz con su romancero\, en 2025 ‘Escenas de Patrimonio’
URL:https://www.carnavaldecadiz.com/event/la-picara-de-cervantes-en-prado-del-rey/
LOCATION:Auditorio Municipal Maestro José Toro Doblas\, Prado del Rey\, calle Juan Ramón Jiménez 18\, Prado del Rey\, Cádiz\, 11160\, Spain
CATEGORIES:Mucho más que carnaval
END:VEVENT
END:VCALENDAR