BEGIN:VCALENDAR
VERSION:2.0
PRODID:-//Carnaval de C&aacute;diz - ECPv6.15.20//NONSGML v1.0//EN
CALSCALE:GREGORIAN
METHOD:PUBLISH
X-ORIGINAL-URL:https://www.carnavaldecadiz.com
X-WR-CALDESC:Eventos para Carnaval de C&aacute;diz
REFRESH-INTERVAL;VALUE=DURATION:PT1H
X-Robots-Tag:noindex
X-PUBLISHED-TTL:PT1H
BEGIN:VTIMEZONE
TZID:Europe/Madrid
BEGIN:DAYLIGHT
TZOFFSETFROM:+0100
TZOFFSETTO:+0200
TZNAME:CEST
DTSTART:20240331T010000
END:DAYLIGHT
BEGIN:STANDARD
TZOFFSETFROM:+0200
TZOFFSETTO:+0100
TZNAME:CET
DTSTART:20241027T010000
END:STANDARD
BEGIN:DAYLIGHT
TZOFFSETFROM:+0100
TZOFFSETTO:+0200
TZNAME:CEST
DTSTART:20250330T010000
END:DAYLIGHT
BEGIN:STANDARD
TZOFFSETFROM:+0200
TZOFFSETTO:+0100
TZNAME:CET
DTSTART:20251026T010000
END:STANDARD
BEGIN:DAYLIGHT
TZOFFSETFROM:+0100
TZOFFSETTO:+0200
TZNAME:CEST
DTSTART:20260329T010000
END:DAYLIGHT
BEGIN:STANDARD
TZOFFSETFROM:+0200
TZOFFSETTO:+0100
TZNAME:CET
DTSTART:20261025T010000
END:STANDARD
END:VTIMEZONE
BEGIN:VEVENT
DTSTART;VALUE=DATE:20250519
DTEND;VALUE=DATE:20250522
DTSTAMP:20260421T165518
CREATED:20250505T152515Z
LAST-MODIFIED:20250505T152515Z
UID:20652-1747612800-1747871999@www.carnavaldecadiz.com
SUMMARY:PINT OF SCIENCE X - Llenamos los bares de Cádiz de ciencia
DESCRIPTION:PROGRAMA\nLunes 19 de mayo –  Nuestra Sociedad – 19:30h \n\nSoy la artista\, no la musa: Mujer(ES) en el arte.\nMaría del Castillo García Romero – Universidad de Sevilla\nBansky viste de Gucci: El grafiti en la publicidad\nDavid Selva Ruiz – Universidad de Cádiz\n\nMartes 20 de mayo – Planeta Tierra – 19:30h \n\nDispersión de plantas por animales en un planeta alterado\nJuan P. González Varo – Universidad de Cádiz\nDinámicas costeras: Vientos\, Dunas y ¡Acción!\nIrene Delgado Fernández – Universidad de Cádiz\n\nMiércoles 21 de mayo – De átomos a Galaxias – 19:30h \n\nAyyy… ¿Y cómo hago que no haya tantas bacterias?\nJavier Outon Porras – Universidad de Cádiz\nPlástico Fantástico: Un mundo transformable\nPetra Bacova – Alessandro Innocenti – Universidad de Cádiz\n\nEntrada libre hasta completar aforo \n \n 
URL:https://www.carnavaldecadiz.com/event/pint-of-science-x-llenamos-los-bares-de-cadiz-de-ciencia/
LOCATION:Café Tatro Pay Pay\, C/ Silencio\, Cádiz\, Cádiz\, 11002
CATEGORIES:Mucho más que carnaval
END:VEVENT
END:VCALENDAR