BEGIN:VCALENDAR
VERSION:2.0
PRODID:-//Carnaval de C&aacute;diz - ECPv6.15.20//NONSGML v1.0//EN
CALSCALE:GREGORIAN
METHOD:PUBLISH
X-WR-CALNAME:Carnaval de C&aacute;diz
X-ORIGINAL-URL:https://www.carnavaldecadiz.com
X-WR-CALDESC:Eventos para Carnaval de C&aacute;diz
REFRESH-INTERVAL;VALUE=DURATION:PT1H
X-Robots-Tag:noindex
X-PUBLISHED-TTL:PT1H
BEGIN:VTIMEZONE
TZID:Europe/Madrid
BEGIN:DAYLIGHT
TZOFFSETFROM:+0100
TZOFFSETTO:+0200
TZNAME:CEST
DTSTART:20240331T010000
END:DAYLIGHT
BEGIN:STANDARD
TZOFFSETFROM:+0200
TZOFFSETTO:+0100
TZNAME:CET
DTSTART:20241027T010000
END:STANDARD
BEGIN:DAYLIGHT
TZOFFSETFROM:+0100
TZOFFSETTO:+0200
TZNAME:CEST
DTSTART:20250330T010000
END:DAYLIGHT
BEGIN:STANDARD
TZOFFSETFROM:+0200
TZOFFSETTO:+0100
TZNAME:CET
DTSTART:20251026T010000
END:STANDARD
BEGIN:DAYLIGHT
TZOFFSETFROM:+0100
TZOFFSETTO:+0200
TZNAME:CEST
DTSTART:20260329T010000
END:DAYLIGHT
BEGIN:STANDARD
TZOFFSETFROM:+0200
TZOFFSETTO:+0100
TZNAME:CET
DTSTART:20261025T010000
END:STANDARD
END:VTIMEZONE
BEGIN:VEVENT
DTSTART;VALUE=DATE:20250517
DTEND;VALUE=DATE:20250518
DTSTAMP:20260421T164258
CREATED:20250515T191349Z
LAST-MODIFIED:20250515T191349Z
UID:20853-1747440000-1747526399@www.carnavaldecadiz.com
SUMMARY:VI Aniversario del fallecimiento de Juan Carlos Aragón
DESCRIPTION:Seis años sin Juan Carlos Aragón. \nOrganizado por la fundación Juan Carlos Aragón\, con la colaboración del Ayuntamiento de Cádiz \nEl tiempo pasa\, pero sus coplas siguen vivas en la garganta y el corazón del aficionado. \n\nA las 𝟏𝟒:𝟎𝟎 𝐡\, en la 𝐏𝐥𝐚𝐳𝐚 𝐅𝐫𝐚𝐠𝐞𝐥𝐚:\nAgrupaciones del Carnaval de Cádiz y solistas de la fiesta gaditana se reunirán para cantar sus coplas\, esas que nos siguen emocionando como el primer día. Un acto abierto\, popular y cargado de sentimiento\, como a él le habría gustado.\nA las 𝟏𝟖:𝟎𝟎 𝐡\, en la 𝐂𝐚𝐬𝐚 𝐝𝐞𝐥 𝐂𝐚𝐫𝐧𝐚𝐯𝐚𝐥:\nC𝐡𝐚𝐫𝐥𝐚-𝐜𝐨𝐥𝐨𝐪𝐮𝐢𝐨 moderada por Miriam Peralta\, con la participación de Calixto Revuelta\, José Fernández y Antonio Pedro Serrano “El Canijo” de Carmona\, quienes compartirán anécdotas\, pensamientos y miradas sobre su figura y su obra.\n\nEventos públicos de libre acceso
URL:https://www.carnavaldecadiz.com/event/vi-aniversario-del-fallecimiento-de-juan-carlos-aragon/
LOCATION:Cádiz\, Cádiz\, Cádiz\, España
CATEGORIES:actuaciones de carnaval,conferencia de carnaval,Mucho más que carnaval
END:VEVENT
END:VCALENDAR