BEGIN:VCALENDAR
VERSION:2.0
PRODID:-//Carnaval de C&aacute;diz - ECPv6.15.20//NONSGML v1.0//EN
CALSCALE:GREGORIAN
METHOD:PUBLISH
X-WR-CALNAME:Carnaval de C&aacute;diz
X-ORIGINAL-URL:https://www.carnavaldecadiz.com
X-WR-CALDESC:Eventos para Carnaval de C&aacute;diz
REFRESH-INTERVAL;VALUE=DURATION:PT1H
X-Robots-Tag:noindex
X-PUBLISHED-TTL:PT1H
BEGIN:VTIMEZONE
TZID:Europe/Madrid
BEGIN:DAYLIGHT
TZOFFSETFROM:+0100
TZOFFSETTO:+0200
TZNAME:CEST
DTSTART:20240331T010000
END:DAYLIGHT
BEGIN:STANDARD
TZOFFSETFROM:+0200
TZOFFSETTO:+0100
TZNAME:CET
DTSTART:20241027T010000
END:STANDARD
BEGIN:DAYLIGHT
TZOFFSETFROM:+0100
TZOFFSETTO:+0200
TZNAME:CEST
DTSTART:20250330T010000
END:DAYLIGHT
BEGIN:STANDARD
TZOFFSETFROM:+0200
TZOFFSETTO:+0100
TZNAME:CET
DTSTART:20251026T010000
END:STANDARD
BEGIN:DAYLIGHT
TZOFFSETFROM:+0100
TZOFFSETTO:+0200
TZNAME:CEST
DTSTART:20260329T010000
END:DAYLIGHT
BEGIN:STANDARD
TZOFFSETFROM:+0200
TZOFFSETTO:+0100
TZNAME:CET
DTSTART:20261025T010000
END:STANDARD
END:VTIMEZONE
BEGIN:VEVENT
DTSTART;TZID=Europe/Madrid:20250514T203000
DTEND;TZID=Europe/Madrid:20250514T223000
DTSTAMP:20260421T165020
CREATED:20250505T150135Z
LAST-MODIFIED:20250505T150135Z
UID:20645-1747254600-1747261800@www.carnavaldecadiz.com
SUMMARY:Proyección de 'La balada perdida'
DESCRIPTION:En los años 70 en España nace el teatro independiente. En Cádiz una compañía llamada Teatro Carrusel impacta en una sociedad sumida en la oscuridad. \nUnidos a esta corriente surge en Cádiz una compañía llamada Teatro Carrusel\, que con su original estética\, plasticidad y brillo sobre el escenario impacta en una sociedad sumida en la oscuridad. Con la noticia del fallecimiento de uno de sus fundadores sonando en la radio y en la mente de sus protagonistas\, este documental muestra la búsqueda de los componentes de esta compañía única y de los testigos de esta época dorada del teatro gaditano\, con el objetivo de recuperar el recuerdo de sus valientes montajes que el pasar del tiempo ha hecho olvidar como si se tratara de una balada perdida. \nEn la Compañía de Teatro ‘Carrusel’ comienza a trabajar como maquillador Paco Leal\, que posteriórmente fue el precursor de del maquillaje en el carnaval de Cádiz.
URL:https://www.carnavaldecadiz.com/event/proyeccion-de-la-balada-perdida/
LOCATION:Teatro Principal\, Puerto real\, Calle Amargura 59\, Puerto Real\, Cádiz\, 11510\, España
CATEGORIES:Mucho más que carnaval
END:VEVENT
END:VCALENDAR