BEGIN:VCALENDAR
VERSION:2.0
PRODID:-//Carnaval de C&aacute;diz - ECPv6.15.20//NONSGML v1.0//EN
CALSCALE:GREGORIAN
METHOD:PUBLISH
X-ORIGINAL-URL:https://www.carnavaldecadiz.com
X-WR-CALDESC:Eventos para Carnaval de C&aacute;diz
REFRESH-INTERVAL;VALUE=DURATION:PT1H
X-Robots-Tag:noindex
X-PUBLISHED-TTL:PT1H
BEGIN:VTIMEZONE
TZID:Europe/Madrid
BEGIN:DAYLIGHT
TZOFFSETFROM:+0100
TZOFFSETTO:+0200
TZNAME:CEST
DTSTART:20240331T010000
END:DAYLIGHT
BEGIN:STANDARD
TZOFFSETFROM:+0200
TZOFFSETTO:+0100
TZNAME:CET
DTSTART:20241027T010000
END:STANDARD
BEGIN:DAYLIGHT
TZOFFSETFROM:+0100
TZOFFSETTO:+0200
TZNAME:CEST
DTSTART:20250330T010000
END:DAYLIGHT
BEGIN:STANDARD
TZOFFSETFROM:+0200
TZOFFSETTO:+0100
TZNAME:CET
DTSTART:20251026T010000
END:STANDARD
BEGIN:DAYLIGHT
TZOFFSETFROM:+0100
TZOFFSETTO:+0200
TZNAME:CEST
DTSTART:20260329T010000
END:DAYLIGHT
BEGIN:STANDARD
TZOFFSETFROM:+0200
TZOFFSETTO:+0100
TZNAME:CET
DTSTART:20261025T010000
END:STANDARD
END:VTIMEZONE
BEGIN:VEVENT
DTSTART;TZID=Europe/Madrid:20250329T120000
DTEND;TZID=Europe/Madrid:20250330T030000
DTSTAMP:20260421T195341
CREATED:20250318T141347Z
LAST-MODIFIED:20250328T153037Z
UID:19333-1743249600-1743303600@www.carnavaldecadiz.com
SUMMARY:SORORAMA - Festival Feminista de Cádiz
DESCRIPTION:Programa sábado 29 de marzo\n12:00h – Apertura de puertas \n12:30h – SALA 1 – Presentación de libros \n\nMarta Ortíz\nThais Gamaza\nIrene Carrasco\n\n13:30h – Danza y acto de concienciación social. Con Irene Súnico Vega. \n14:00h – Dj. \n16:30h – Mesa Redonda. Mujer y Carnaval \n18:00h – Actuación de la Chirigota Callejera ‘ALDI’ \n19:00h – Actuación de un Romancero \n19:30h – Actuación de la Comparsa Feminista ‘La valla’ \n20:30h – Dj \n22:30h – Concierto de ‘María la Mónica’ \n00:00h – 02:00h – Dj \nTodas las actividades de este programa son públicos de libre acceso.
URL:https://www.carnavaldecadiz.com/event/sororama-festival-feminista-de-cadiz-2/
LOCATION:Baluarte de Candelaria\, Alameda Hermanas Carvia Bernal 6\, Cádiz\, Cádiz\, 11003\, España
CATEGORIES:actuaciones de carnaval,carnaval callejero,carnaval feminista,conferencia de carnaval,mesa de debate,Mucho más que carnaval
END:VEVENT
BEGIN:VEVENT
DTSTART;TZID=Europe/Madrid:20250330T120000
DTEND;TZID=Europe/Madrid:20250330T143000
DTSTAMP:20260421T195341
CREATED:20250323T205041Z
LAST-MODIFIED:20250323T205041Z
UID:19613-1743336000-1743345000@www.carnavaldecadiz.com
SUMMARY:Ruta 'Cádiz y su teatro Falla'
DESCRIPTION:Nuevas oportunidades de visitar el Gran Teatro Falla con nuestra ruta contada y cantada!Reservad antes de que se acaben las plazas limitadas:Información y reservas en reservas@1d3milhistorias.com www.1d3milhisto
URL:https://www.carnavaldecadiz.com/event/ruta-cadiz-y-su-teatro-falla-3/
LOCATION:Plaza Fragela\, Cádiz\, Plaza Fragela\, Cádiz\, Cádiz\, 11003\, España
CATEGORIES:Mucho más que carnaval
END:VEVENT
END:VCALENDAR