BEGIN:VCALENDAR
VERSION:2.0
PRODID:-//Carnaval de C&aacute;diz - ECPv6.15.20//NONSGML v1.0//EN
CALSCALE:GREGORIAN
METHOD:PUBLISH
X-WR-CALNAME:Carnaval de C&aacute;diz
X-ORIGINAL-URL:https://www.carnavaldecadiz.com
X-WR-CALDESC:Eventos para Carnaval de C&aacute;diz
REFRESH-INTERVAL;VALUE=DURATION:PT1H
X-Robots-Tag:noindex
X-PUBLISHED-TTL:PT1H
BEGIN:VTIMEZONE
TZID:Europe/Madrid
BEGIN:DAYLIGHT
TZOFFSETFROM:+0100
TZOFFSETTO:+0200
TZNAME:CEST
DTSTART:20240331T010000
END:DAYLIGHT
BEGIN:STANDARD
TZOFFSETFROM:+0200
TZOFFSETTO:+0100
TZNAME:CET
DTSTART:20241027T010000
END:STANDARD
BEGIN:DAYLIGHT
TZOFFSETFROM:+0100
TZOFFSETTO:+0200
TZNAME:CEST
DTSTART:20250330T010000
END:DAYLIGHT
BEGIN:STANDARD
TZOFFSETFROM:+0200
TZOFFSETTO:+0100
TZNAME:CET
DTSTART:20251026T010000
END:STANDARD
BEGIN:DAYLIGHT
TZOFFSETFROM:+0100
TZOFFSETTO:+0200
TZNAME:CEST
DTSTART:20260329T010000
END:DAYLIGHT
BEGIN:STANDARD
TZOFFSETFROM:+0200
TZOFFSETTO:+0100
TZNAME:CET
DTSTART:20261025T010000
END:STANDARD
END:VTIMEZONE
BEGIN:VEVENT
DTSTART;TZID=Europe/Madrid:20250325T170000
DTEND;TZID=Europe/Madrid:20250325T193000
DTSTAMP:20260421T195054
CREATED:20250323T204806Z
LAST-MODIFIED:20250323T205105Z
UID:19610-1742922000-1742931000@www.carnavaldecadiz.com
SUMMARY:Ruta 'Cádiz y su teatro Falla'
DESCRIPTION:Nuevas oportunidades de visitar el Gran Teatro Falla con nuestra ruta contada y cantada!Reservad antes de que se acaben las plazas limitadas:Información y reservas en reservas@1d3milhistorias.com www.1d3milhistorias.com
URL:https://www.carnavaldecadiz.com/event/ruta-cadiz-y-su-teatro-falla-2/
LOCATION:Plaza Fragela\, Cádiz\, Plaza Fragela\, Cádiz\, Cádiz\, 11003\, España
CATEGORIES:Mucho más que carnaval
END:VEVENT
BEGIN:VEVENT
DTSTART;TZID=Europe/Madrid:20250325T180000
DTEND;TZID=Europe/Madrid:20250325T200000
DTSTAMP:20260421T195054
CREATED:20250323T203920Z
LAST-MODIFIED:20250323T203920Z
UID:19606-1742925600-1742932800@www.carnavaldecadiz.com
SUMMARY:Presentación del libro 'Anecdotario de hospital\, y tal...'
DESCRIPTION:Evento público de libre acceso.
URL:https://www.carnavaldecadiz.com/event/presentacion-del-libro-anecdotario-de-hospital-y-tal/
LOCATION:Sede Ganar Cádiz\, calle Libertad 11\, Cádiz\, Cádiz\, 11005\, Spain
CATEGORIES:Mucho más que carnaval
END:VEVENT
END:VCALENDAR