BEGIN:VCALENDAR
VERSION:2.0
PRODID:-//Carnaval de C&aacute;diz - ECPv6.15.20//NONSGML v1.0//EN
CALSCALE:GREGORIAN
METHOD:PUBLISH
X-ORIGINAL-URL:https://www.carnavaldecadiz.com
X-WR-CALDESC:Eventos para Carnaval de C&aacute;diz
REFRESH-INTERVAL;VALUE=DURATION:PT1H
X-Robots-Tag:noindex
X-PUBLISHED-TTL:PT1H
BEGIN:VTIMEZONE
TZID:Europe/Madrid
BEGIN:DAYLIGHT
TZOFFSETFROM:+0100
TZOFFSETTO:+0200
TZNAME:CEST
DTSTART:20240331T010000
END:DAYLIGHT
BEGIN:STANDARD
TZOFFSETFROM:+0200
TZOFFSETTO:+0100
TZNAME:CET
DTSTART:20241027T010000
END:STANDARD
BEGIN:DAYLIGHT
TZOFFSETFROM:+0100
TZOFFSETTO:+0200
TZNAME:CEST
DTSTART:20250330T010000
END:DAYLIGHT
BEGIN:STANDARD
TZOFFSETFROM:+0200
TZOFFSETTO:+0100
TZNAME:CET
DTSTART:20251026T010000
END:STANDARD
BEGIN:DAYLIGHT
TZOFFSETFROM:+0100
TZOFFSETTO:+0200
TZNAME:CEST
DTSTART:20260329T010000
END:DAYLIGHT
BEGIN:STANDARD
TZOFFSETFROM:+0200
TZOFFSETTO:+0100
TZNAME:CET
DTSTART:20261025T010000
END:STANDARD
END:VTIMEZONE
BEGIN:VEVENT
DTSTART;TZID=Europe/Madrid:20250320T190000
DTEND;TZID=Europe/Madrid:20250320T210000
DTSTAMP:20260421T195419
CREATED:20250319T132956Z
LAST-MODIFIED:20250319T132956Z
UID:19391-1742497200-1742504400@www.carnavaldecadiz.com
SUMMARY:Presentación del libro 'Manuel de la escalera' Desde la celda al olvido
DESCRIPTION:Presentación del libro “𝕄𝕒𝕟𝕦𝕖𝕝 𝕕𝕖 𝕝𝕒 𝔼𝕤𝕔𝕒𝕝𝕖𝕣𝕒. 𝔻𝕖𝕤𝕕𝕖 𝕝𝕒 𝕔𝕖𝕝𝕕𝕒 𝕒𝕝 𝕠𝕝𝕧𝕚𝕕𝕠” y contaremos con su autor Alfonso Oñate.\n\n\n\nEsta publicación intenta rescatar del olvido la memoria del artista Manuel de la Escalera (escultor\, divulgador\, realizador\, traductor y escritor) que vivió la Guerra Civil y la cruel represión franquista”.\n\nEvento público de libre acceso.
URL:https://www.carnavaldecadiz.com/event/presentacion-del-libro-manuel-de-la-escalera-desde-la-celda-al-olvido/
LOCATION:Peña Los Adoquines\, calle Sagasta 91\, Cádiz\, Cádiz\, 11002\, España
CATEGORIES:Mucho más que carnaval
END:VEVENT
BEGIN:VEVENT
DTSTART;TZID=Europe/Madrid:20250320T203000
DTEND;TZID=Europe/Madrid:20250320T220000
DTSTAMP:20260421T195419
CREATED:20250317T210645Z
LAST-MODIFIED:20250317T210645Z
UID:19283-1742502600-1742508000@www.carnavaldecadiz.com
SUMMARY:Los Jueves en 'La Casapuerta'
DESCRIPTION:Hoy Mirian Peralta entrevista a Laura Jurado y viceversa. \nEvento público de libre acceso.
URL:https://www.carnavaldecadiz.com/event/los-jueves-en-la-casapuerta/
LOCATION:Bar La Casapuerta\, calle Sagasta 40\, Cádiz\, Cádiz\, 11001\, España
CATEGORIES:mesa de debate,Mucho más que carnaval
END:VEVENT
END:VCALENDAR