BEGIN:VCALENDAR
VERSION:2.0
PRODID:-//Carnaval de C&aacute;diz - ECPv6.15.20//NONSGML v1.0//EN
CALSCALE:GREGORIAN
METHOD:PUBLISH
X-ORIGINAL-URL:https://www.carnavaldecadiz.com
X-WR-CALDESC:Eventos para Carnaval de C&aacute;diz
REFRESH-INTERVAL;VALUE=DURATION:PT1H
X-Robots-Tag:noindex
X-PUBLISHED-TTL:PT1H
BEGIN:VTIMEZONE
TZID:Europe/Madrid
BEGIN:DAYLIGHT
TZOFFSETFROM:+0100
TZOFFSETTO:+0200
TZNAME:CEST
DTSTART:20230326T010000
END:DAYLIGHT
BEGIN:STANDARD
TZOFFSETFROM:+0200
TZOFFSETTO:+0100
TZNAME:CET
DTSTART:20231029T010000
END:STANDARD
BEGIN:DAYLIGHT
TZOFFSETFROM:+0100
TZOFFSETTO:+0200
TZNAME:CEST
DTSTART:20240331T010000
END:DAYLIGHT
BEGIN:STANDARD
TZOFFSETFROM:+0200
TZOFFSETTO:+0100
TZNAME:CET
DTSTART:20241027T010000
END:STANDARD
BEGIN:DAYLIGHT
TZOFFSETFROM:+0100
TZOFFSETTO:+0200
TZNAME:CEST
DTSTART:20250330T010000
END:DAYLIGHT
BEGIN:STANDARD
TZOFFSETFROM:+0200
TZOFFSETTO:+0100
TZNAME:CET
DTSTART:20251026T010000
END:STANDARD
END:VTIMEZONE
BEGIN:VEVENT
DTSTART;VALUE=DATE:20241204
DTEND;VALUE=DATE:20241219
DTSTAMP:20260422T002846
CREATED:20241211T174151Z
LAST-MODIFIED:20241211T174305Z
UID:15780-1733270400-1734566399@www.carnavaldecadiz.com
SUMMARY:Exposición de Pepe Baena en Madrid
DESCRIPTION:Pepe Baena Nieto (Cádiz\, 1979)\, el cámara de la Diputación de Cádiz que lleva tiempo arrasando en las redes sociales con sus cuadros costumbristas. \nUna parte importante de ese éxito tiene que ver con lo sencillo que es verse reflejado en algo tan cotidiano como un desayuno o una compra desparramada por la mesa de la cocina esperando a ser colocada. \nSe puede visitar todos los días hasta el próximo miércoles 18 de diciembre. Se exponen más de 30 obras del gaditano en el siguiente horario de apertura: \n\nDe lunes a viernes: de 18h a 21h\nSábados: de 11h a 14h y de 17h a 21h\nDomingos: de 11h a 14:30h
URL:https://www.carnavaldecadiz.com/event/exposicion-de-pepe-baena-en-madrid/
LOCATION:Espacio Escorial de Prodigioso Volcán\, calle Escorial 17\, Madrid\, Madrid\, 28004\, Spain
CATEGORIES:Mucho más que carnaval
END:VEVENT
BEGIN:VEVENT
DTSTART;TZID=Europe/Madrid:20241217T193000
DTEND;TZID=Europe/Madrid:20241217T210000
DTSTAMP:20260422T002846
CREATED:20241213T140423Z
LAST-MODIFIED:20241213T140745Z
UID:15807-1734463800-1734469200@www.carnavaldecadiz.com
SUMMARY:Presentación de 'Histeria Sagrada'
DESCRIPTION:En el año 2018\, y fortuitamente\, se lleva a cabo el descubrimiento del valiosísimo corpus documental conocido como los Rollos de Santa María o los Manuscritos de María Moco. \nPara consternación del pensamiento conservador\, dicho material introducía nuevas perspectivas\, cuando no sensibles diferencias\, al abordar la historia sagrada establecida. El hecho más destacable era sin duda el descubrimiento de la importancia capital en dicha historia sagrada de la ciudad de Cádiz y sus habitantes\, ciudad que pasaría entonces a ser la tierra prometida y habitantes que\, en consecuencia\, formarían el pueblo elegido\, siempre según los textos descubiertos. Una nueva interpretación del papel de la ciudad de Cádiz en la granítica mitología judía y cristiana se abría paso a través de nuevas y bizarras interpretaciones. \nY un grupo de audaces investigadores gaditanos se puso manos a la obra. \nComprar el libro on-line \nEvento público de libre acceso.
URL:https://www.carnavaldecadiz.com/event/presentacion-de-histeria-sagrada/
LOCATION:Antigua Parra de Veedor\, Cádiz\, calle Veedor 2\, Cádiz\, Cádiz\, 11003\, España
CATEGORIES:Mucho más que carnaval
END:VEVENT
END:VCALENDAR