BEGIN:VCALENDAR
VERSION:2.0
PRODID:-//Carnaval de C&aacute;diz - ECPv6.15.20//NONSGML v1.0//EN
CALSCALE:GREGORIAN
METHOD:PUBLISH
X-WR-CALNAME:Carnaval de C&aacute;diz
X-ORIGINAL-URL:https://www.carnavaldecadiz.com
X-WR-CALDESC:Eventos para Carnaval de C&aacute;diz
REFRESH-INTERVAL;VALUE=DURATION:PT1H
X-Robots-Tag:noindex
X-PUBLISHED-TTL:PT1H
BEGIN:VTIMEZONE
TZID:Europe/Madrid
BEGIN:DAYLIGHT
TZOFFSETFROM:+0100
TZOFFSETTO:+0200
TZNAME:CEST
DTSTART:20230326T010000
END:DAYLIGHT
BEGIN:STANDARD
TZOFFSETFROM:+0200
TZOFFSETTO:+0100
TZNAME:CET
DTSTART:20231029T010000
END:STANDARD
BEGIN:DAYLIGHT
TZOFFSETFROM:+0100
TZOFFSETTO:+0200
TZNAME:CEST
DTSTART:20240331T010000
END:DAYLIGHT
BEGIN:STANDARD
TZOFFSETFROM:+0200
TZOFFSETTO:+0100
TZNAME:CET
DTSTART:20241027T010000
END:STANDARD
BEGIN:DAYLIGHT
TZOFFSETFROM:+0100
TZOFFSETTO:+0200
TZNAME:CEST
DTSTART:20250330T010000
END:DAYLIGHT
BEGIN:STANDARD
TZOFFSETFROM:+0200
TZOFFSETTO:+0100
TZNAME:CET
DTSTART:20251026T010000
END:STANDARD
END:VTIMEZONE
BEGIN:VEVENT
DTSTART;TZID=Europe/Madrid:20241024T183000
DTEND;TZID=Europe/Madrid:20241024T200000
DTSTAMP:20260422T033703
CREATED:20241023T121853Z
LAST-MODIFIED:20241023T121853Z
UID:14222-1729794600-1729800000@www.carnavaldecadiz.com
SUMMARY:Romance-vindicación por la Salud Pública
DESCRIPTION:Evento público de libre acceso.
URL:https://www.carnavaldecadiz.com/event/romance-vindicacion-por-la-salud-publica/
LOCATION:Casa del Pueblo de Cádiz\, calle Gaspar del Pino\, Cádiz\, Cádiz\, 11001\, Spain
CATEGORIES:actuaciones de carnaval,Mucho más que carnaval
END:VEVENT
BEGIN:VEVENT
DTSTART;TZID=Europe/Madrid:20241024T200000
DTEND;TZID=Europe/Madrid:20241024T213000
DTSTAMP:20260422T033703
CREATED:20241009T192222Z
LAST-MODIFIED:20241009T192222Z
UID:13769-1729800000-1729805400@www.carnavaldecadiz.com
SUMMARY:Presentación del Libro 'EL ASESINO DE VIEJOS' en el Pay-pay
DESCRIPTION:Evento público de libre acceso.
URL:https://www.carnavaldecadiz.com/event/presentacion-del-libro-el-asesino-de-viejos-en-el-pay-pay/
LOCATION:Café Tatro Pay Pay\, C/ Silencio\, Cádiz\, Cádiz\, 11002
CATEGORIES:Mucho más que carnaval
END:VEVENT
END:VCALENDAR