BEGIN:VCALENDAR
VERSION:2.0
PRODID:-//Carnaval de C&aacute;diz - ECPv6.15.20//NONSGML v1.0//EN
CALSCALE:GREGORIAN
METHOD:PUBLISH
X-WR-CALNAME:Carnaval de C&aacute;diz
X-ORIGINAL-URL:https://www.carnavaldecadiz.com
X-WR-CALDESC:Eventos para Carnaval de C&aacute;diz
REFRESH-INTERVAL;VALUE=DURATION:PT1H
X-Robots-Tag:noindex
X-PUBLISHED-TTL:PT1H
BEGIN:VTIMEZONE
TZID:Europe/Madrid
BEGIN:DAYLIGHT
TZOFFSETFROM:+0100
TZOFFSETTO:+0200
TZNAME:CEST
DTSTART:20230326T010000
END:DAYLIGHT
BEGIN:STANDARD
TZOFFSETFROM:+0200
TZOFFSETTO:+0100
TZNAME:CET
DTSTART:20231029T010000
END:STANDARD
BEGIN:DAYLIGHT
TZOFFSETFROM:+0100
TZOFFSETTO:+0200
TZNAME:CEST
DTSTART:20240331T010000
END:DAYLIGHT
BEGIN:STANDARD
TZOFFSETFROM:+0200
TZOFFSETTO:+0100
TZNAME:CET
DTSTART:20241027T010000
END:STANDARD
BEGIN:DAYLIGHT
TZOFFSETFROM:+0100
TZOFFSETTO:+0200
TZNAME:CEST
DTSTART:20250330T010000
END:DAYLIGHT
BEGIN:STANDARD
TZOFFSETFROM:+0200
TZOFFSETTO:+0100
TZNAME:CET
DTSTART:20251026T010000
END:STANDARD
END:VTIMEZONE
BEGIN:VEVENT
DTSTART;TZID=Europe/Madrid:20241019T210000
DTEND;TZID=Europe/Madrid:20241019T223000
DTSTAMP:20260422T035104
CREATED:20241001T211550Z
LAST-MODIFIED:20241001T211550Z
UID:13516-1729371600-1729377000@www.carnavaldecadiz.com
SUMMARY:IMPROSHOW Carlos Meni & Javi Aguilera
DESCRIPTION:Compra de localidades
URL:https://www.carnavaldecadiz.com/event/improshow-carlos-meni-javi-aguilera-3/
LOCATION:Teatro Olivares Veas\, Arcos de la Frontera\, calle Maldonado s/n\, Arcos de la Frontera\, Cádiz\, 11630\, Spain
CATEGORIES:Mucho más que carnaval
END:VEVENT
BEGIN:VEVENT
DTSTART;TZID=Europe/Madrid:20241019T210000
DTEND;TZID=Europe/Madrid:20241019T230000
DTSTAMP:20260422T035104
CREATED:20241016T112641Z
LAST-MODIFIED:20241016T112712Z
UID:13973-1729371600-1729378800@www.carnavaldecadiz.com
SUMMARY:Charlas de Carnaval en Aguilar de la Frontera
DESCRIPTION:Evento público de libre acceso
URL:https://www.carnavaldecadiz.com/event/charlas-de-carnaval-en-aguilar-de-la-frontera/
LOCATION:Asociación Cultural Carnavalesca. Aguilar de la Frontera\, calle Vicente Romero\, Aguilar de la Frontera\, Córdoba\, 14920\, Spain
CATEGORIES:conferencia de carnaval,mesa de debate,Mucho más que carnaval
END:VEVENT
END:VCALENDAR