BEGIN:VCALENDAR
VERSION:2.0
PRODID:-//Carnaval de C&aacute;diz - ECPv6.15.20//NONSGML v1.0//EN
CALSCALE:GREGORIAN
METHOD:PUBLISH
X-ORIGINAL-URL:https://www.carnavaldecadiz.com
X-WR-CALDESC:Eventos para Carnaval de C&aacute;diz
REFRESH-INTERVAL;VALUE=DURATION:PT1H
X-Robots-Tag:noindex
X-PUBLISHED-TTL:PT1H
BEGIN:VTIMEZONE
TZID:Europe/Madrid
BEGIN:DAYLIGHT
TZOFFSETFROM:+0100
TZOFFSETTO:+0200
TZNAME:CEST
DTSTART:20230326T010000
END:DAYLIGHT
BEGIN:STANDARD
TZOFFSETFROM:+0200
TZOFFSETTO:+0100
TZNAME:CET
DTSTART:20231029T010000
END:STANDARD
BEGIN:DAYLIGHT
TZOFFSETFROM:+0100
TZOFFSETTO:+0200
TZNAME:CEST
DTSTART:20240331T010000
END:DAYLIGHT
BEGIN:STANDARD
TZOFFSETFROM:+0200
TZOFFSETTO:+0100
TZNAME:CET
DTSTART:20241027T010000
END:STANDARD
BEGIN:DAYLIGHT
TZOFFSETFROM:+0100
TZOFFSETTO:+0200
TZNAME:CEST
DTSTART:20250330T010000
END:DAYLIGHT
BEGIN:STANDARD
TZOFFSETFROM:+0200
TZOFFSETTO:+0100
TZNAME:CET
DTSTART:20251026T010000
END:STANDARD
END:VTIMEZONE
BEGIN:VEVENT
DTSTART;TZID=Europe/Madrid:20241018T170000
DTEND;TZID=Europe/Madrid:20241018T210000
DTSTAMP:20260422T035353
CREATED:20241001T124856Z
LAST-MODIFIED:20241001T125815Z
UID:13464-1729270800-1729285200@www.carnavaldecadiz.com
SUMMARY:1ª Sesión - El Carnaval también es nuestro. Mujeres Creadoras
DESCRIPTION:Historia de una discriminación: origen de una ausencia\, evolución\, incorporación y primeras mujeres.\n\n17.00 h – Presentación del taller.\nDe 17.15 h a 18.45 h –  Mesa de experiencias (Carmen García González\, Conchi Domínguez Parrrilla\, Ana Barceló Calatayud\, Carmen Ramos Santana y Tamara García del Valle).\n18.45 h a 19.15 h – Descanso\nDe 19.15 h a 21.00 h –  Máster class ‘Claves para el proceso creativo de una chirigota feminista callejera’: Susana Ginesta Gamaza.\n\nMás información CELAMA
URL:https://www.carnavaldecadiz.com/event/el-carnaval-tambien-es-nuestro-mujeres-creadoras/
LOCATION:Facultad de Filosofia y Letras\, UCA\, Avenida Doctor Gómez Ulla 1\, Cádiz\, Cádiz\, 11003\, España
CATEGORIES:Cátedra del Carnaval de Cádiz,conferencia de carnaval,mesa de debate,Mucho más que carnaval
ATTACH;FMTTYPE=image/png:https://www.carnavaldecadiz.com/wp-content/uploads/2024/10/Taller_mujeres_creadoras-2.png
END:VEVENT
END:VCALENDAR