BEGIN:VCALENDAR
VERSION:2.0
PRODID:-//Carnaval de C&aacute;diz - ECPv6.15.20//NONSGML v1.0//EN
CALSCALE:GREGORIAN
METHOD:PUBLISH
X-ORIGINAL-URL:https://www.carnavaldecadiz.com
X-WR-CALDESC:Eventos para Carnaval de C&aacute;diz
REFRESH-INTERVAL;VALUE=DURATION:PT1H
X-Robots-Tag:noindex
X-PUBLISHED-TTL:PT1H
BEGIN:VTIMEZONE
TZID:Europe/Madrid
BEGIN:DAYLIGHT
TZOFFSETFROM:+0100
TZOFFSETTO:+0200
TZNAME:CEST
DTSTART:20230326T010000
END:DAYLIGHT
BEGIN:STANDARD
TZOFFSETFROM:+0200
TZOFFSETTO:+0100
TZNAME:CET
DTSTART:20231029T010000
END:STANDARD
BEGIN:DAYLIGHT
TZOFFSETFROM:+0100
TZOFFSETTO:+0200
TZNAME:CEST
DTSTART:20240331T010000
END:DAYLIGHT
BEGIN:STANDARD
TZOFFSETFROM:+0200
TZOFFSETTO:+0100
TZNAME:CET
DTSTART:20241027T010000
END:STANDARD
BEGIN:DAYLIGHT
TZOFFSETFROM:+0100
TZOFFSETTO:+0200
TZNAME:CEST
DTSTART:20250330T010000
END:DAYLIGHT
BEGIN:STANDARD
TZOFFSETFROM:+0200
TZOFFSETTO:+0100
TZNAME:CET
DTSTART:20251026T010000
END:STANDARD
END:VTIMEZONE
BEGIN:VEVENT
DTSTART;VALUE=DATE:20240913
DTEND;VALUE=DATE:20240929
DTSTAMP:20260422T051255
CREATED:20240903T142455Z
LAST-MODIFIED:20240903T142455Z
UID:12806-1726185600-1727567999@www.carnavaldecadiz.com
SUMMARY:Rutas CÁDIZ DE LEYENDAS
DESCRIPTION:Más información y reservas: historietasdecadiz@gmail.com
URL:https://www.carnavaldecadiz.com/event/rutas-cadiz-de-leyendas/
LOCATION:Cádiz\, Cádiz\, Cádiz\, España
CATEGORIES:Mucho más que carnaval
END:VEVENT
BEGIN:VEVENT
DTSTART;TZID=Europe/Madrid:20240922T210000
DTEND;TZID=Europe/Madrid:20240922T230000
DTSTAMP:20260422T051255
CREATED:20240910T214401Z
LAST-MODIFIED:20240910T214401Z
UID:12967-1727038800-1727046000@www.carnavaldecadiz.com
SUMMARY:Piarlé Fenicia
DESCRIPTION:El mayor espectáculo de maquillaje en Cádiz… Pone el broche de oro a la primera edición del programa cultural ‘Cádiz\, orgullos@s de nuestra historia’\, con este evento que clausura la muestra. \nEvento público de libre acceso.
URL:https://www.carnavaldecadiz.com/event/piarle-fenicia/
LOCATION:Castillo de Santa Catalina\, campo de las balas s/n\, Cádiz\, Cádiz\, España
CATEGORIES:Mucho más que carnaval
END:VEVENT
END:VCALENDAR