BEGIN:VCALENDAR
VERSION:2.0
PRODID:-//Carnaval de C&aacute;diz - ECPv6.15.20//NONSGML v1.0//EN
CALSCALE:GREGORIAN
METHOD:PUBLISH
X-ORIGINAL-URL:https://www.carnavaldecadiz.com
X-WR-CALDESC:Eventos para Carnaval de C&aacute;diz
REFRESH-INTERVAL;VALUE=DURATION:PT1H
X-Robots-Tag:noindex
X-PUBLISHED-TTL:PT1H
BEGIN:VTIMEZONE
TZID:Europe/Madrid
BEGIN:DAYLIGHT
TZOFFSETFROM:+0100
TZOFFSETTO:+0200
TZNAME:CEST
DTSTART:20230326T010000
END:DAYLIGHT
BEGIN:STANDARD
TZOFFSETFROM:+0200
TZOFFSETTO:+0100
TZNAME:CET
DTSTART:20231029T010000
END:STANDARD
BEGIN:DAYLIGHT
TZOFFSETFROM:+0100
TZOFFSETTO:+0200
TZNAME:CEST
DTSTART:20240331T010000
END:DAYLIGHT
BEGIN:STANDARD
TZOFFSETFROM:+0200
TZOFFSETTO:+0100
TZNAME:CET
DTSTART:20241027T010000
END:STANDARD
BEGIN:DAYLIGHT
TZOFFSETFROM:+0100
TZOFFSETTO:+0200
TZNAME:CEST
DTSTART:20250330T010000
END:DAYLIGHT
BEGIN:STANDARD
TZOFFSETFROM:+0200
TZOFFSETTO:+0100
TZNAME:CET
DTSTART:20251026T010000
END:STANDARD
END:VTIMEZONE
BEGIN:VEVENT
DTSTART;VALUE=DATE:20240913
DTEND;VALUE=DATE:20240929
DTSTAMP:20260422T051246
CREATED:20240903T142455Z
LAST-MODIFIED:20240903T142455Z
UID:12806-1726185600-1727567999@www.carnavaldecadiz.com
SUMMARY:Rutas CÁDIZ DE LEYENDAS
DESCRIPTION:Más información y reservas: historietasdecadiz@gmail.com
URL:https://www.carnavaldecadiz.com/event/rutas-cadiz-de-leyendas/
LOCATION:Cádiz\, Cádiz\, Cádiz\, España
CATEGORIES:Mucho más que carnaval
END:VEVENT
BEGIN:VEVENT
DTSTART;TZID=Europe/Madrid:20240919T193000
DTEND;TZID=Europe/Madrid:20240919T210000
DTSTAMP:20260422T051246
CREATED:20240807T130045Z
LAST-MODIFIED:20240807T130045Z
UID:12299-1726774200-1726779600@www.carnavaldecadiz.com
SUMMARY:Lecturas Musicales Internacionales - Andrés Ramírez
DESCRIPTION:Lector: Andrés Ramirez \nRelato: \n‘DISNAE MATTER’ de Irvine Welsh \n‘EL PUEBLO EN LA CARA’ de Miguel Delives \nAcompañamiento Musical: Javi Cabañas\, guitarra eléctrica. \nEvento público de libre acceso
URL:https://www.carnavaldecadiz.com/event/lecturas-musicales-internacionales-andres-ramirez/
LOCATION:Castillo de Santa Catalina\, campo de las balas s/n\, Cádiz\, Cádiz\, España
CATEGORIES:Mucho más que carnaval
END:VEVENT
BEGIN:VEVENT
DTSTART;TZID=Europe/Madrid:20240919T200000
DTEND;TZID=Europe/Madrid:20240919T213000
DTSTAMP:20260422T051246
CREATED:20240904T183412Z
LAST-MODIFIED:20240904T183412Z
UID:12827-1726776000-1726781400@www.carnavaldecadiz.com
SUMMARY:Presentación de 'El asesino de viejos' de David Magrañal
DESCRIPTION:En un futuro no muy lejano y motivado por la superpoblación en la Tierra\, La Corporación decide que las personas solo pueden vivir hasta los 80 años. Si te saltas la norma\, entonces van a por ti. Esta es la historia de Iván\, que en una de sus misiones descubre una información que lo convierte en objetivo \n¿Cual es la vinculación de David Magrañal el autor\, con el carnaval callejero? \nEvento público de libre acceso.
URL:https://www.carnavaldecadiz.com/event/presentacion-de-el-asesino-de-viejos-de-david-magranal/
LOCATION:Blanco y negro\, El Puerto de Santa María\, calle Ricardo Alcón 10\, El Puerto de Santa María\, Cádiz\, 11500\, Spain
CATEGORIES:Mucho más que carnaval
END:VEVENT
END:VCALENDAR