BEGIN:VCALENDAR
VERSION:2.0
PRODID:-//Carnaval de C&aacute;diz - ECPv6.15.20//NONSGML v1.0//EN
CALSCALE:GREGORIAN
METHOD:PUBLISH
X-ORIGINAL-URL:https://www.carnavaldecadiz.com
X-WR-CALDESC:Eventos para Carnaval de C&aacute;diz
REFRESH-INTERVAL;VALUE=DURATION:PT1H
X-Robots-Tag:noindex
X-PUBLISHED-TTL:PT1H
BEGIN:VTIMEZONE
TZID:Europe/Madrid
BEGIN:DAYLIGHT
TZOFFSETFROM:+0100
TZOFFSETTO:+0200
TZNAME:CEST
DTSTART:20230326T010000
END:DAYLIGHT
BEGIN:STANDARD
TZOFFSETFROM:+0200
TZOFFSETTO:+0100
TZNAME:CET
DTSTART:20231029T010000
END:STANDARD
BEGIN:DAYLIGHT
TZOFFSETFROM:+0100
TZOFFSETTO:+0200
TZNAME:CEST
DTSTART:20240331T010000
END:DAYLIGHT
BEGIN:STANDARD
TZOFFSETFROM:+0200
TZOFFSETTO:+0100
TZNAME:CET
DTSTART:20241027T010000
END:STANDARD
BEGIN:DAYLIGHT
TZOFFSETFROM:+0100
TZOFFSETTO:+0200
TZNAME:CEST
DTSTART:20250330T010000
END:DAYLIGHT
BEGIN:STANDARD
TZOFFSETFROM:+0200
TZOFFSETTO:+0100
TZNAME:CET
DTSTART:20251026T010000
END:STANDARD
END:VTIMEZONE
BEGIN:VEVENT
DTSTART;VALUE=DATE:20240623
DTEND;VALUE=DATE:20240914
DTSTAMP:20260422T051116
CREATED:20240622T131416Z
LAST-MODIFIED:20240622T131416Z
UID:11363-1719100800-1726271999@www.carnavaldecadiz.com
SUMMARY:Viernes con arte en El Gastor
DESCRIPTION:Programación: \n\n23 de junio – Leo Power – en Gastronomía de Morales\n5 de julio – Diego Cruz – en Bar ‘Los de Joaquín’\n12 de julio – Maestros Cerveceros – en Bar ‘La Farola’\n19 de julio – Manuel Sevilla y Quique Parodi – en Mesón ‘Los Cuñaos’\n26 de julio – El Lerele – en Bar ‘La cancela’\n9 de agosto – Pérez y Piques – en Pizzería Neiva\n16 de agosto – Germán Rendón – en Bar ‘La posada’\n23 de agosto – Yoli Álvarez y José Cheza – en ‘Pompitas Café y Copas’\n30 de agosto – Los calentitos – en Bar ‘La venta’\n6 de septiembre – Abraham Sevilla – en Bar ‘Mari’\n13 de septiembre – Quique Parodi Trío – en Jacobo Café y Copas
URL:https://www.carnavaldecadiz.com/event/viernes-con-arte-en-el-gastor/
LOCATION:El Gastor\, El Gastor\, Cádiz\, España
CATEGORIES:Mucho más que carnaval
END:VEVENT
BEGIN:VEVENT
DTSTART;TZID=Europe/Madrid:20240829T193000
DTEND;TZID=Europe/Madrid:20240829T203000
DTSTAMP:20260422T051117
CREATED:20240807T121600Z
LAST-MODIFIED:20240807T122110Z
UID:12288-1724959800-1724963400@www.carnavaldecadiz.com
SUMMARY:Lecturas Musicales Internacionales - Koki Sánchez
DESCRIPTION:Lectora: Koki Sánchez \nRelato: ‘RUMIAR’ de Elisa Levi \nAcompañamiento Musical: Chano Robles\, acordeón. \nEvento público de libre acceso \n  \n  \n 
URL:https://www.carnavaldecadiz.com/event/lecturas-musicales-internacionales/
LOCATION:Castillo de Santa Catalina\, campo de las balas s/n\, Cádiz\, Cádiz\, España
CATEGORIES:Mucho más que carnaval
END:VEVENT
BEGIN:VEVENT
DTSTART;TZID=Europe/Madrid:20240829T200000
DTEND;TZID=Europe/Madrid:20240829T230000
DTSTAMP:20260422T051117
CREATED:20240729T081424Z
LAST-MODIFIED:20240828T212212Z
UID:12024-1724961600-1724972400@www.carnavaldecadiz.com
SUMMARY:VII Premios La Casapuerta de Luisa
DESCRIPTION:La VII Edición de los Premios La Casapuerta de Luisa este año recaen: \n\nTeatro – Andrés Alcántara\nComunicación – Ana Candón\nCarnaval – Hermanas González\nIlustración/pintura – Pedro Galván\nHonorífico – Juan Manuel Fernández y Mari Pérez Sucino\nLiteratura – Jesús Maeso de la Torre\nHistoria – Carlos Maura\nGastronomía – Salvador Moreno Rodríguez\nCine – Rocío Sepúlveda\nCliente perruno – Lowi\nNegocio amigo – PapeLeo-By Copistero\n\nEvento público de libre acceso.
URL:https://www.carnavaldecadiz.com/event/premios-bar-la-casapuerta/
LOCATION:Bar La Casapuerta\, calle Sagasta 40\, Cádiz\, Cádiz\, 11001\, España
CATEGORIES:Mucho más que carnaval
END:VEVENT
END:VCALENDAR