BEGIN:VCALENDAR
VERSION:2.0
PRODID:-//Carnaval de C&aacute;diz - ECPv6.15.20//NONSGML v1.0//EN
CALSCALE:GREGORIAN
METHOD:PUBLISH
X-ORIGINAL-URL:https://www.carnavaldecadiz.com
X-WR-CALDESC:Eventos para Carnaval de C&aacute;diz
REFRESH-INTERVAL;VALUE=DURATION:PT1H
X-Robots-Tag:noindex
X-PUBLISHED-TTL:PT1H
BEGIN:VTIMEZONE
TZID:Europe/Madrid
BEGIN:DAYLIGHT
TZOFFSETFROM:+0100
TZOFFSETTO:+0200
TZNAME:CEST
DTSTART:20230326T010000
END:DAYLIGHT
BEGIN:STANDARD
TZOFFSETFROM:+0200
TZOFFSETTO:+0100
TZNAME:CET
DTSTART:20231029T010000
END:STANDARD
BEGIN:DAYLIGHT
TZOFFSETFROM:+0100
TZOFFSETTO:+0200
TZNAME:CEST
DTSTART:20240331T010000
END:DAYLIGHT
BEGIN:STANDARD
TZOFFSETFROM:+0200
TZOFFSETTO:+0100
TZNAME:CET
DTSTART:20241027T010000
END:STANDARD
BEGIN:DAYLIGHT
TZOFFSETFROM:+0100
TZOFFSETTO:+0200
TZNAME:CEST
DTSTART:20250330T010000
END:DAYLIGHT
BEGIN:STANDARD
TZOFFSETFROM:+0200
TZOFFSETTO:+0100
TZNAME:CET
DTSTART:20251026T010000
END:STANDARD
END:VTIMEZONE
BEGIN:VEVENT
DTSTART;VALUE=DATE:20240623
DTEND;VALUE=DATE:20240914
DTSTAMP:20260422T082722
CREATED:20240622T131416Z
LAST-MODIFIED:20240622T131416Z
UID:11363-1719100800-1726271999@www.carnavaldecadiz.com
SUMMARY:Viernes con arte en El Gastor
DESCRIPTION:Programación: \n\n23 de junio – Leo Power – en Gastronomía de Morales\n5 de julio – Diego Cruz – en Bar ‘Los de Joaquín’\n12 de julio – Maestros Cerveceros – en Bar ‘La Farola’\n19 de julio – Manuel Sevilla y Quique Parodi – en Mesón ‘Los Cuñaos’\n26 de julio – El Lerele – en Bar ‘La cancela’\n9 de agosto – Pérez y Piques – en Pizzería Neiva\n16 de agosto – Germán Rendón – en Bar ‘La posada’\n23 de agosto – Yoli Álvarez y José Cheza – en ‘Pompitas Café y Copas’\n30 de agosto – Los calentitos – en Bar ‘La venta’\n6 de septiembre – Abraham Sevilla – en Bar ‘Mari’\n13 de septiembre – Quique Parodi Trío – en Jacobo Café y Copas
URL:https://www.carnavaldecadiz.com/event/viernes-con-arte-en-el-gastor/
LOCATION:El Gastor\, El Gastor\, Cádiz\, España
CATEGORIES:Mucho más que carnaval
END:VEVENT
BEGIN:VEVENT
DTSTART;VALUE=DATE:20240710
DTEND;VALUE=DATE:20240727
DTSTAMP:20260422T082723
CREATED:20240709T232903Z
LAST-MODIFIED:20240709T233239Z
UID:11731-1720569600-1722038399@www.carnavaldecadiz.com
SUMMARY:INSCRIPCIÓN - Curso Romancero Gaditano
DESCRIPTION:Acción formativa para las personas enamoradas del Romancero\, una de las modalidades de nuestro Carnaval de calle. La persona que lo imparte es Helen Lorenzo\, nuestra más conocida y reconocida romancera. En el cartel tenéis la información. \n Un taller gratuito con la colaboración de las Delegaciones de Igualdad y de Participación Ciudadana. \nInscripción por wathsaapp 645205915
URL:https://www.carnavaldecadiz.com/event/inscripcion-curso-romancero-gaditano/
LOCATION:Sede ASEFICHI\, Chipiona\, Camacho Baños 19\, Chipiona\, Cádiz\, 11550\, España
CATEGORIES:Mucho más que carnaval
END:VEVENT
BEGIN:VEVENT
DTSTART;TZID=Europe/Madrid:20240725T183000
DTEND;TZID=Europe/Madrid:20240725T210000
DTSTAMP:20260422T082723
CREATED:20240709T235340Z
LAST-MODIFIED:20240709T235340Z
UID:11737-1721932200-1721941200@www.carnavaldecadiz.com
SUMMARY:Tertulia Feminista de Carnaval
DESCRIPTION:¿Cansada de ver como las tertulias o mesas de debate sean territorio casi exclusivo de los CARNAVALEROS\, y que siempre se cuenta con las mismas compañeras? \nOrganizada por CarnavaldeCadiz.com nace la Tertulia Feminista de Carnaval\, con el objetivo de visibilizar a las autoras y agrupaciones femeninas y mixtas. \nEn esta segunda tertulia Beatriz González Presidenta de la Asociación Cádiz Mujeres y Carnaval\, nos hablará de la asociación\, para seguidamente abrir un debate. \nEvento público de libre acceso. ¡No vengas sola!
URL:https://www.carnavaldecadiz.com/event/tertulia-feminista-de-carnaval-2/
LOCATION:Casa del Carnaval\, Cádiz\, calle Marqués del Real Tesoro 15\, 17\, Cádiz\, Cádiz\, 11001\, España
CATEGORIES:Mucho más que carnaval
ATTACH;FMTTYPE=image/png:https://www.carnavaldecadiz.com/wp-content/uploads/2024/07/Cartel_07_25_2024B.png
END:VEVENT
BEGIN:VEVENT
DTSTART;TZID=Europe/Madrid:20240725T210000
DTEND;TZID=Europe/Madrid:20240725T223000
DTSTAMP:20260422T082723
CREATED:20240723T191152Z
LAST-MODIFIED:20240723T191152Z
UID:11957-1721941200-1721946600@www.carnavaldecadiz.com
SUMMARY:Representación de ABUELAS
DESCRIPTION:ABUELAS es una obra de teatro escrita y dirigida por Mercedes García Gomar ‘Meme’ \n 
URL:https://www.carnavaldecadiz.com/event/representacion-de-abuelas/
LOCATION:Asociación Aires de Cádiz\, Bóbedas de Santa Elena\, Cádiz\, Cádiz\, 11006\, España
CATEGORIES:Mucho más que carnaval
END:VEVENT
END:VCALENDAR