BEGIN:VCALENDAR
VERSION:2.0
PRODID:-//Carnaval de C&aacute;diz - ECPv6.15.20//NONSGML v1.0//EN
CALSCALE:GREGORIAN
METHOD:PUBLISH
X-ORIGINAL-URL:https://www.carnavaldecadiz.com
X-WR-CALDESC:Eventos para Carnaval de C&aacute;diz
REFRESH-INTERVAL;VALUE=DURATION:PT1H
X-Robots-Tag:noindex
X-PUBLISHED-TTL:PT1H
BEGIN:VTIMEZONE
TZID:Europe/Madrid
BEGIN:DAYLIGHT
TZOFFSETFROM:+0100
TZOFFSETTO:+0200
TZNAME:CEST
DTSTART:20230326T010000
END:DAYLIGHT
BEGIN:STANDARD
TZOFFSETFROM:+0200
TZOFFSETTO:+0100
TZNAME:CET
DTSTART:20231029T010000
END:STANDARD
BEGIN:DAYLIGHT
TZOFFSETFROM:+0100
TZOFFSETTO:+0200
TZNAME:CEST
DTSTART:20240331T010000
END:DAYLIGHT
BEGIN:STANDARD
TZOFFSETFROM:+0200
TZOFFSETTO:+0100
TZNAME:CET
DTSTART:20241027T010000
END:STANDARD
BEGIN:DAYLIGHT
TZOFFSETFROM:+0100
TZOFFSETTO:+0200
TZNAME:CEST
DTSTART:20250330T010000
END:DAYLIGHT
BEGIN:STANDARD
TZOFFSETFROM:+0200
TZOFFSETTO:+0100
TZNAME:CET
DTSTART:20251026T010000
END:STANDARD
END:VTIMEZONE
BEGIN:VEVENT
DTSTART;VALUE=DATE:20240503
DTEND;VALUE=DATE:20240701
DTSTAMP:20260422T095104
CREATED:20240503T124028Z
LAST-MODIFIED:20240503T124028Z
UID:10213-1714694400-1719791999@www.carnavaldecadiz.com
SUMMARY:Exposición ECHAR EL RESTO de Paco Marmol
DESCRIPTION:Evento público de libre acceso.
URL:https://www.carnavaldecadiz.com/event/exposicion-echar-el-resto-de-paco-marmol/
LOCATION:Espacio de Cultura Contemporánea ECCO\, Cádiz\, Paseo Carlos III\, 5\, Cádiz\, Cádiz\, 11003\, España
CATEGORIES:Mucho más que carnaval
ATTACH;FMTTYPE=image/jpeg:https://www.carnavaldecadiz.com/wp-content/uploads/2024/05/0503Expo2.jpg
END:VEVENT
BEGIN:VEVENT
DTSTART;VALUE=DATE:20240515
DTEND;VALUE=DATE:20240620
DTSTAMP:20260422T095104
CREATED:20240515T202953Z
LAST-MODIFIED:20240515T203405Z
UID:10482-1715731200-1718841599@www.carnavaldecadiz.com
SUMMARY:Talleres de Escritura - Biblioteca Pública Provincial
DESCRIPTION:EL DIARIO LITERARIO – Escribir desde mi experiencia cotidiana.\nImpartido por María Alcantarilla. \n\nViernes 31 de mayo\nViernes 7 de junio\nViernes 14 de junio\n\nHorario de 19:00h a 20:30h \nInscripciones a partir del 15 de mayo – 600 140 400 \nLAS PALABRAS Y LAS COSAS – Taller de poesía.\nImpartido por Miguel Ángel García Argüéz \n\nMiércoles 12 de junio\nMiércoles 19 de junio\n\nHorario de 18:30h a 20:30h \nInscripciones a partir del 29 de mayo – 600 140 400
URL:https://www.carnavaldecadiz.com/event/talleres-de-escritura-biblioteca-publica-provincial/
LOCATION:Biblioteca Pública Provincial de Cádiz\, Avenida Cuatro de Diciembre de 1977\, 16\, Cádiz\, Cádiz\, 11006\, España
CATEGORIES:Mucho más que carnaval
END:VEVENT
BEGIN:VEVENT
DTSTART;TZID=Europe/Madrid:20240530T190000
DTEND;TZID=Europe/Madrid:20240530T203000
DTSTAMP:20260422T095104
CREATED:20240507T181547Z
LAST-MODIFIED:20240507T181547Z
UID:10239-1717095600-1717101000@www.carnavaldecadiz.com
SUMMARY:Tertulia Presentación del Poemario ESCULTURAS Y ESCRITURAS
DESCRIPTION:Evento público de libre acceso.
URL:https://www.carnavaldecadiz.com/event/tertulia-presentacion-del-poemario-esculturas-y-escrituras/
LOCATION:Asociación Amigos de Quiñones\, Cádiz\, calle Ancha 16\, Cádiz\, Cádiz\, 11001\, España
CATEGORIES:Mucho más que carnaval
END:VEVENT
BEGIN:VEVENT
DTSTART;TZID=Europe/Madrid:20240530T200000
DTEND;TZID=Europe/Madrid:20240530T213000
DTSTAMP:20260422T095104
CREATED:20240405T123312Z
LAST-MODIFIED:20240405T123312Z
UID:9357-1717099200-1717104600@www.carnavaldecadiz.com
SUMMARY:Garrapata Vs Trinchera ¡Sólo puede quedar uno!
DESCRIPTION:Compra de localidades
URL:https://www.carnavaldecadiz.com/event/garrapata-vs-trinchera-solo-puede-quedar-uno-2/
LOCATION:Teatro Garnelo\, Montilla\, Plaza de la Rosa\, Montilla\, Córdoba\, España
CATEGORIES:Mucho más que carnaval
END:VEVENT
BEGIN:VEVENT
DTSTART;TZID=Europe/Madrid:20240530T210000
DTEND;TZID=Europe/Madrid:20240530T230000
DTSTAMP:20260422T095104
CREATED:20240419T090924Z
LAST-MODIFIED:20240419T090924Z
UID:9855-1717102800-1717110000@www.carnavaldecadiz.com
SUMMARY:Félix Slim en el Pay-pay
DESCRIPTION:Reservas en el Café Teatro Pay-pay
URL:https://www.carnavaldecadiz.com/event/felix-slim-en-el-pay-pay/
LOCATION:Café Tatro Pay Pay\, C/ Silencio\, Cádiz\, Cádiz\, 11002
CATEGORIES:Mucho más que carnaval
END:VEVENT
END:VCALENDAR