BEGIN:VCALENDAR
VERSION:2.0
PRODID:-//Carnaval de C&aacute;diz - ECPv6.15.20//NONSGML v1.0//EN
CALSCALE:GREGORIAN
METHOD:PUBLISH
X-WR-CALNAME:Carnaval de C&aacute;diz
X-ORIGINAL-URL:https://www.carnavaldecadiz.com
X-WR-CALDESC:Eventos para Carnaval de C&aacute;diz
REFRESH-INTERVAL;VALUE=DURATION:PT1H
X-Robots-Tag:noindex
X-PUBLISHED-TTL:PT1H
BEGIN:VTIMEZONE
TZID:Europe/Madrid
BEGIN:DAYLIGHT
TZOFFSETFROM:+0100
TZOFFSETTO:+0200
TZNAME:CEST
DTSTART:20230326T010000
END:DAYLIGHT
BEGIN:STANDARD
TZOFFSETFROM:+0200
TZOFFSETTO:+0100
TZNAME:CET
DTSTART:20231029T010000
END:STANDARD
BEGIN:DAYLIGHT
TZOFFSETFROM:+0100
TZOFFSETTO:+0200
TZNAME:CEST
DTSTART:20240331T010000
END:DAYLIGHT
BEGIN:STANDARD
TZOFFSETFROM:+0200
TZOFFSETTO:+0100
TZNAME:CET
DTSTART:20241027T010000
END:STANDARD
BEGIN:DAYLIGHT
TZOFFSETFROM:+0100
TZOFFSETTO:+0200
TZNAME:CEST
DTSTART:20250330T010000
END:DAYLIGHT
BEGIN:STANDARD
TZOFFSETFROM:+0200
TZOFFSETTO:+0100
TZNAME:CET
DTSTART:20251026T010000
END:STANDARD
END:VTIMEZONE
BEGIN:VEVENT
DTSTART;VALUE=DATE:20240411
DTEND;VALUE=DATE:20240525
DTSTAMP:20260422T125402
CREATED:20240415T191206Z
LAST-MODIFIED:20240521T163509Z
UID:9650-1712793600-1716595199@www.carnavaldecadiz.com
SUMMARY:CHEAP THRILLS - Cine y literatura
DESCRIPTION:Ciclo coordinado por BW y patrocinado por: Fundación Unicaja\, Fundación Carlos Edmundo de Ory\, Delegación Municipal de Cultura\, Escuela de Cine de la Universidad de Cádiz\, UCA Cultura Cádiz\, colabora FACC. \n\n11 de abril\, 19.30. Teatro Principal de Puerto Real.\nProyección de La manzana de oro\, de Jaime Chavarri\, y coloquio con el autor sobre cine y literatura \n18 de abril\, 18.00. Centro Cultural Fundación Unicaja.\nProyección de Memorias de África\, de Sidney Pollack\, y coloquio con Koki Sánchez sobre la experiencia de la lectura de una novela y su versión cinematográfica \n24 de abril\, 18.00. Centro Cultural Fundación Unicaja.\nProyección de Sangre sabia\, de John Huston\, y coloquio con Mari Paz Fernández Montañés sobre héroes y antihéroes. \n2 de mayo\, 18.00. Centro Cultural Fundación Unicaja.\nProyección de El sur\, de Víctor Erice\, y coloquio con Vicente Molina Foix sobre literatura y cine. \n9 de mayo\, 19.00. Colegio de arquitectos.\nProyección de Orfeo\, de Jean Cocteau\, y coloquio con Salvador García sobre cine órfico \n16 de mayo. 12.30. Centro Cultural Fundación Unicaja.\nEncuentro con la actriz Emma Suárez\, en coloquio con Manuel Iborra sobre cine y literatura. \n16 de mayo. 19.00. Teatro Principal de Puerto Real.\nProyección de Julieta\, de Pedro Almodóvar \n24 de mayo\, 18.00. Centro Cultural Fundación Unicaja.\nProyección de Despertares de Penny Marshall y coloquio con María Alcantarilla sobre la singularidad de la adaptación cinematográfica.\n\n\n \nEventos públicos de libre acceso
URL:https://www.carnavaldecadiz.com/event/cheap-thrills-cine-y-literatura/
LOCATION:Centro Cultural Fundación Unicaja\, Cádiz\, calle San Francisco 26\, Cádiz\, Cádiz\, 11004\, España
CATEGORIES:Mucho más que carnaval
END:VEVENT
BEGIN:VEVENT
DTSTART;VALUE=DATE:20240503
DTEND;VALUE=DATE:20240527
DTSTAMP:20260422T125402
CREATED:20240503T123242Z
LAST-MODIFIED:20240503T123242Z
UID:10209-1714694400-1716767999@www.carnavaldecadiz.com
SUMMARY:Exposición TRAZOS Y PUNTADAS
DESCRIPTION:Horario de visitas:\n\nDe lunes a viernes de 10:00h a 13:00h y de 18:00h a 21:00h\nSábados y domingos de 11:00h a 14:00h\n\nEvento público de libre acceso.
URL:https://www.carnavaldecadiz.com/event/exposicion-trazos-y-puntadas/
LOCATION:Centro Cultural Rosa Butler\, Puerto Real\, Plaza Almudena Grandes s/n\, Puerto Real\, Cádiz\, 11510\, España
CATEGORIES:Mucho más que carnaval
END:VEVENT
BEGIN:VEVENT
DTSTART;VALUE=DATE:20240503
DTEND;VALUE=DATE:20240701
DTSTAMP:20260422T125403
CREATED:20240503T124028Z
LAST-MODIFIED:20240503T124028Z
UID:10213-1714694400-1719791999@www.carnavaldecadiz.com
SUMMARY:Exposición ECHAR EL RESTO de Paco Marmol
DESCRIPTION:Evento público de libre acceso.
URL:https://www.carnavaldecadiz.com/event/exposicion-echar-el-resto-de-paco-marmol/
LOCATION:Espacio de Cultura Contemporánea ECCO\, Cádiz\, Paseo Carlos III\, 5\, Cádiz\, Cádiz\, 11003\, España
CATEGORIES:Mucho más que carnaval
ATTACH;FMTTYPE=image/jpeg:https://www.carnavaldecadiz.com/wp-content/uploads/2024/05/0503Expo2.jpg
END:VEVENT
BEGIN:VEVENT
DTSTART;VALUE=DATE:20240515
DTEND;VALUE=DATE:20240620
DTSTAMP:20260422T125403
CREATED:20240515T202953Z
LAST-MODIFIED:20240515T203405Z
UID:10482-1715731200-1718841599@www.carnavaldecadiz.com
SUMMARY:Talleres de Escritura - Biblioteca Pública Provincial
DESCRIPTION:EL DIARIO LITERARIO – Escribir desde mi experiencia cotidiana.\nImpartido por María Alcantarilla. \n\nViernes 31 de mayo\nViernes 7 de junio\nViernes 14 de junio\n\nHorario de 19:00h a 20:30h \nInscripciones a partir del 15 de mayo – 600 140 400 \nLAS PALABRAS Y LAS COSAS – Taller de poesía.\nImpartido por Miguel Ángel García Argüéz \n\nMiércoles 12 de junio\nMiércoles 19 de junio\n\nHorario de 18:30h a 20:30h \nInscripciones a partir del 29 de mayo – 600 140 400
URL:https://www.carnavaldecadiz.com/event/talleres-de-escritura-biblioteca-publica-provincial/
LOCATION:Biblioteca Pública Provincial de Cádiz\, Avenida Cuatro de Diciembre de 1977\, 16\, Cádiz\, Cádiz\, 11006\, España
CATEGORIES:Mucho más que carnaval
END:VEVENT
BEGIN:VEVENT
DTSTART;VALUE=DATE:20240524
DTEND;VALUE=DATE:20240526
DTSTAMP:20260422T125403
CREATED:20240330T230343Z
LAST-MODIFIED:20240330T230343Z
UID:9181-1716508800-1716681599@www.carnavaldecadiz.com
SUMMARY:'EL RAMPER' de Jesús Bienvenido en Sevilla
DESCRIPTION:La obra tiene como protagonista a un autor del carnaval de Cádiz en la II República apodado “El Rámper” en referencia a su exitosa murga Los Rámpers catastróficos\, inspirada en el famoso payaso Ramón Álvarez Escudero\, considerado el mejor payaso de las décadas 20\, 30 y 40 del siglo XX en España. \nSe representará en dos sesiones: \n\nViernes 24 de mayo a las 21:30h\nSábado 25 de mayo a las 21:30h\n\nVenta de localidades
URL:https://www.carnavaldecadiz.com/event/el-ramper-de-jesus-bienvenido-en-sevilla/
LOCATION:Teatro Pathé\, Sevilla\, calle cuna 15\, Sevilla\, Sevilla\, 41004\, España
CATEGORIES:actuaciones de carnaval,Mucho más que carnaval
END:VEVENT
BEGIN:VEVENT
DTSTART;TZID=Europe/Madrid:20240524T190000
DTEND;TZID=Europe/Madrid:20240524T210000
DTSTAMP:20260422T125403
CREATED:20240522T111846Z
LAST-MODIFIED:20240522T111846Z
UID:10595-1716577200-1716584400@www.carnavaldecadiz.com
SUMMARY:Cádiz ciudad protectora y medioambiental. Un poco de historia
DESCRIPTION:Primera sesión del ciclo “Cádiz\, letra a letra”\, una serie de eventos que hemos creado desde La Maga para hablar sobre nuestra ciudad\, su historia\, sus características y su gente. En esta primera sesión contaremos con Pepe Marchena (Coro LA DAMA DE CÁDIZ)\, profesor de historia de la Universidad de Cádiz además de autor y corista de carnaval\, que tratará el tema “Cádiz\, ciudad protectora y medio ambiental. Un poco de historia”. \nEvento público de libre acceso.
URL:https://www.carnavaldecadiz.com/event/cadiz-ciudad-protectora-y-medioambiental-un-poco-de-historia/
LOCATION:Taberna Nueva Hispaniola\, Cádiz\, Paseo Marítimo 23\, Cádiz\, Cádiz\, 11011\, España
CATEGORIES:Mucho más que carnaval
END:VEVENT
BEGIN:VEVENT
DTSTART;TZID=Europe/Madrid:20240524T190000
DTEND;TZID=Europe/Madrid:20240524T220000
DTSTAMP:20260422T125403
CREATED:20240522T113530Z
LAST-MODIFIED:20240522T113530Z
UID:10599-1716577200-1716588000@www.carnavaldecadiz.com
SUMMARY:Documental LA NOCHE DEL MUNDO
DESCRIPTION:Cita con el cine documental y comprometido. \nLA NOCHE DEL MUNDO documental dirigido por Nacho Sacaluga. \nTras la proyección habrá un coloquio moderado por el actor Paco Clares\, en el que participarán además del director\, Nacho Sacaluga\, Santiago Moreno y Asociación por la Recuperación de la Memoria Democrática\, Social y Política (AMEDE) \nSinopsis: \nAl norte de Argentina\, en la provincia de Tucumán\, casi 40 años después de la última Dictadura Militar (1976-1983)\, han comenzado a aparecer restos de personas desaparecidas. La noche del mundo cuenta la historia del Pozo de Vargas\, una fosa clandestina en la que durante un tiempo fueron arrojadas más de 70 personas\, algunas incluso con vida. La aparición de restos humanos está suponiendo un profundo cambio tanto en materia de justicia como en cuestiones relacionadas con los derechos humanos y la memoria histórica. La noche del mundo desciende a lo más profundo del pozo para rescatar\, a través de las voces de sus familiares\, las historias de aquellos que durante décadas permanecieron enterrados en esta fosa. \nEvento público de libre acceso.
URL:https://www.carnavaldecadiz.com/event/documental-la-noche-del-mundo/
LOCATION:Centro de Congresos Cortes de la Real Isla de León\, calle Real 83\, San Fernando\, Cádiz\, 11100\, España
CATEGORIES:Mucho más que carnaval
END:VEVENT
BEGIN:VEVENT
DTSTART;TZID=Europe/Madrid:20240524T210000
DTEND;TZID=Europe/Madrid:20240524T230000
DTSTAMP:20260422T125403
CREATED:20240521T170727Z
LAST-MODIFIED:20240521T170727Z
UID:10546-1716584400-1716591600@www.carnavaldecadiz.com
SUMMARY:Norberto Iglesias en la Peña Nuestra Andalucía
DESCRIPTION:Más información y reservas en 615532153
URL:https://www.carnavaldecadiz.com/event/norberto-iglesias-en-la-pena-nuestra-andalucia/
LOCATION:Peña Nuestra Andalucía\, Cádiz\, calle María Arteaga 25\, Cádiz\, Cádiz\, 11002\, España
CATEGORIES:actuaciones de carnaval,mesa de debate,Mucho más que carnaval
END:VEVENT
END:VCALENDAR