BEGIN:VCALENDAR
VERSION:2.0
PRODID:-//Carnaval de C&aacute;diz - ECPv6.15.20//NONSGML v1.0//EN
CALSCALE:GREGORIAN
METHOD:PUBLISH
X-WR-CALNAME:Carnaval de C&aacute;diz
X-ORIGINAL-URL:https://www.carnavaldecadiz.com
X-WR-CALDESC:Eventos para Carnaval de C&aacute;diz
REFRESH-INTERVAL;VALUE=DURATION:PT1H
X-Robots-Tag:noindex
X-PUBLISHED-TTL:PT1H
BEGIN:VTIMEZONE
TZID:Europe/Madrid
BEGIN:DAYLIGHT
TZOFFSETFROM:+0100
TZOFFSETTO:+0200
TZNAME:CEST
DTSTART:20230326T010000
END:DAYLIGHT
BEGIN:STANDARD
TZOFFSETFROM:+0200
TZOFFSETTO:+0100
TZNAME:CET
DTSTART:20231029T010000
END:STANDARD
BEGIN:DAYLIGHT
TZOFFSETFROM:+0100
TZOFFSETTO:+0200
TZNAME:CEST
DTSTART:20240331T010000
END:DAYLIGHT
BEGIN:STANDARD
TZOFFSETFROM:+0200
TZOFFSETTO:+0100
TZNAME:CET
DTSTART:20241027T010000
END:STANDARD
BEGIN:DAYLIGHT
TZOFFSETFROM:+0100
TZOFFSETTO:+0200
TZNAME:CEST
DTSTART:20250330T010000
END:DAYLIGHT
BEGIN:STANDARD
TZOFFSETFROM:+0200
TZOFFSETTO:+0100
TZNAME:CET
DTSTART:20251026T010000
END:STANDARD
END:VTIMEZONE
BEGIN:VEVENT
DTSTART;VALUE=DATE:20240411
DTEND;VALUE=DATE:20240525
DTSTAMP:20260422T130259
CREATED:20240415T191206Z
LAST-MODIFIED:20240521T163509Z
UID:9650-1712793600-1716595199@www.carnavaldecadiz.com
SUMMARY:CHEAP THRILLS - Cine y literatura
DESCRIPTION:Ciclo coordinado por BW y patrocinado por: Fundación Unicaja\, Fundación Carlos Edmundo de Ory\, Delegación Municipal de Cultura\, Escuela de Cine de la Universidad de Cádiz\, UCA Cultura Cádiz\, colabora FACC. \n\n11 de abril\, 19.30. Teatro Principal de Puerto Real.\nProyección de La manzana de oro\, de Jaime Chavarri\, y coloquio con el autor sobre cine y literatura \n18 de abril\, 18.00. Centro Cultural Fundación Unicaja.\nProyección de Memorias de África\, de Sidney Pollack\, y coloquio con Koki Sánchez sobre la experiencia de la lectura de una novela y su versión cinematográfica \n24 de abril\, 18.00. Centro Cultural Fundación Unicaja.\nProyección de Sangre sabia\, de John Huston\, y coloquio con Mari Paz Fernández Montañés sobre héroes y antihéroes. \n2 de mayo\, 18.00. Centro Cultural Fundación Unicaja.\nProyección de El sur\, de Víctor Erice\, y coloquio con Vicente Molina Foix sobre literatura y cine. \n9 de mayo\, 19.00. Colegio de arquitectos.\nProyección de Orfeo\, de Jean Cocteau\, y coloquio con Salvador García sobre cine órfico \n16 de mayo. 12.30. Centro Cultural Fundación Unicaja.\nEncuentro con la actriz Emma Suárez\, en coloquio con Manuel Iborra sobre cine y literatura. \n16 de mayo. 19.00. Teatro Principal de Puerto Real.\nProyección de Julieta\, de Pedro Almodóvar \n24 de mayo\, 18.00. Centro Cultural Fundación Unicaja.\nProyección de Despertares de Penny Marshall y coloquio con María Alcantarilla sobre la singularidad de la adaptación cinematográfica.\n\n\n \nEventos públicos de libre acceso
URL:https://www.carnavaldecadiz.com/event/cheap-thrills-cine-y-literatura/
LOCATION:Centro Cultural Fundación Unicaja\, Cádiz\, calle San Francisco 26\, Cádiz\, Cádiz\, 11004\, España
CATEGORIES:Mucho más que carnaval
END:VEVENT
BEGIN:VEVENT
DTSTART;VALUE=DATE:20240422
DTEND;VALUE=DATE:20240520
DTSTAMP:20260422T130259
CREATED:20240422T193650Z
LAST-MODIFIED:20240422T193650Z
UID:9928-1713744000-1716163199@www.carnavaldecadiz.com
SUMMARY:El museo del Prado en Cádiz
DESCRIPTION:Se podrá ver una selección de 50 de los cuadros más destacados del Museo a tamaño real\, que se completa con las cartelas informativas de cada una de las obras\, así como con varios paneles con datos sobre la historia del Prado y sus colecciones. \nEvento público de libre acceso
URL:https://www.carnavaldecadiz.com/event/el-museo-del-prado-en-cadiz/
LOCATION:Plaza de Epaña\, Plaza de España\, Cádiz\, Cádiz\, 11006\, España
CATEGORIES:Mucho más que carnaval
END:VEVENT
BEGIN:VEVENT
DTSTART;VALUE=DATE:20240503
DTEND;VALUE=DATE:20240527
DTSTAMP:20260422T130259
CREATED:20240503T123242Z
LAST-MODIFIED:20240503T123242Z
UID:10209-1714694400-1716767999@www.carnavaldecadiz.com
SUMMARY:Exposición TRAZOS Y PUNTADAS
DESCRIPTION:Horario de visitas:\n\nDe lunes a viernes de 10:00h a 13:00h y de 18:00h a 21:00h\nSábados y domingos de 11:00h a 14:00h\n\nEvento público de libre acceso.
URL:https://www.carnavaldecadiz.com/event/exposicion-trazos-y-puntadas/
LOCATION:Centro Cultural Rosa Butler\, Puerto Real\, Plaza Almudena Grandes s/n\, Puerto Real\, Cádiz\, 11510\, España
CATEGORIES:Mucho más que carnaval
END:VEVENT
BEGIN:VEVENT
DTSTART;VALUE=DATE:20240503
DTEND;VALUE=DATE:20240701
DTSTAMP:20260422T130259
CREATED:20240503T124028Z
LAST-MODIFIED:20240503T124028Z
UID:10213-1714694400-1719791999@www.carnavaldecadiz.com
SUMMARY:Exposición ECHAR EL RESTO de Paco Marmol
DESCRIPTION:Evento público de libre acceso.
URL:https://www.carnavaldecadiz.com/event/exposicion-echar-el-resto-de-paco-marmol/
LOCATION:Espacio de Cultura Contemporánea ECCO\, Cádiz\, Paseo Carlos III\, 5\, Cádiz\, Cádiz\, 11003\, España
CATEGORIES:Mucho más que carnaval
ATTACH;FMTTYPE=image/jpeg:https://www.carnavaldecadiz.com/wp-content/uploads/2024/05/0503Expo2.jpg
END:VEVENT
BEGIN:VEVENT
DTSTART;TZID=Europe/Madrid:20240503T080000
DTEND;TZID=Europe/Madrid:20240518T170000
DTSTAMP:20260422T130259
CREATED:20240515T130500Z
LAST-MODIFIED:20240515T130526Z
UID:10461-1714723200-1716051600@www.carnavaldecadiz.com
SUMMARY:'EL SAINETE' en el XL Festival del Títere Ciudad de Cádiz
DESCRIPTION:LA COMPAÑÍA ‘TÍA NORICA’\nMedalla de Oro al Mérito en las Bellas Artes y su conjunto artesanal declarado Bien de Interés Cultural\n\n“EL SAINETE”\n\n\nEl disparate cómico de una vieja y de un “sobrino-nieto”\, simbolizan el sentir y la manera de entender la vida de todo un pueblo\, todo un legado de gaditanismo.\n\n\n\nDías: 3\, 4\, 10\, 11 \, 16\, 17 y 18 de mayo a las 18:00 h.\nDías: 19 de mayo a las 13:00 h.\nPrecio: 7€\nTécnica: percha gaditana\nEdad: a partir de 5 años\nDuración: 60 minutos
URL:https://www.carnavaldecadiz.com/event/el-sainete-en-el-xl-festival-del-titere-ciudad-de-cadiz/
LOCATION:Teatro Tía Norica\, Cádiz\, calle San Miguel 15\, Cádiz\, Cádiz\, 11001\, España
CATEGORIES:Mucho más que carnaval
END:VEVENT
BEGIN:VEVENT
DTSTART;VALUE=DATE:20240513
DTEND;VALUE=DATE:20240516
DTSTAMP:20260422T130259
CREATED:20240424T202839Z
LAST-MODIFIED:20240424T202839Z
UID:10021-1715558400-1715817599@www.carnavaldecadiz.com
SUMMARY:Jornadas científicas Pint of Science en el Pay-pay
DESCRIPTION:Lunes 13: Ponenciasa partir de las 20:00h \n\n‘Mente maravillosa’ con Ana Belén Muño ‘Puzzleando con tu cerebro’\nNoelia Garibaldi ‘Los pájaros\, la música y el cerebro’.\nPara acabar\, el romancero ‘Quillo\, tómatelo con filosofía’ de Javi Outón\n\nMartes 14: Ponenciasa partir de las 20h \n\n‘Planeta Tierra’ con María de Andrés ‘Los ecosistemas en las ciudades costeras’\nPilar Martín ‘Observar desde lejos para entender los ecosistemas’\n\nMiércoles 15: Ponencias a partir de las 20:00h \n\n‘Átomos a galaxias’ con Óscar Bonmati ‘Un viaje por el nanomundo’\nJosé M.ª Abelleira ‘Procesos hidrotérmicos en la economía circular’.\nPondrá el punto final el romancero ‘Quillo\, relativiza un poco’ de Javi Outón\n\nEventos públicos de libre acceso.
URL:https://www.carnavaldecadiz.com/event/jornadas-cientificas-pint-of-science-en-el-pay-pay/
LOCATION:Café Tatro Pay Pay\, C/ Silencio\, Cádiz\, Cádiz\, 11002
CATEGORIES:Mucho más que carnaval
END:VEVENT
BEGIN:VEVENT
DTSTART;VALUE=DATE:20240515
DTEND;VALUE=DATE:20240620
DTSTAMP:20260422T130259
CREATED:20240515T202953Z
LAST-MODIFIED:20240515T203405Z
UID:10482-1715731200-1718841599@www.carnavaldecadiz.com
SUMMARY:Talleres de Escritura - Biblioteca Pública Provincial
DESCRIPTION:EL DIARIO LITERARIO – Escribir desde mi experiencia cotidiana.\nImpartido por María Alcantarilla. \n\nViernes 31 de mayo\nViernes 7 de junio\nViernes 14 de junio\n\nHorario de 19:00h a 20:30h \nInscripciones a partir del 15 de mayo – 600 140 400 \nLAS PALABRAS Y LAS COSAS – Taller de poesía.\nImpartido por Miguel Ángel García Argüéz \n\nMiércoles 12 de junio\nMiércoles 19 de junio\n\nHorario de 18:30h a 20:30h \nInscripciones a partir del 29 de mayo – 600 140 400
URL:https://www.carnavaldecadiz.com/event/talleres-de-escritura-biblioteca-publica-provincial/
LOCATION:Biblioteca Pública Provincial de Cádiz\, Avenida Cuatro de Diciembre de 1977\, 16\, Cádiz\, Cádiz\, 11006\, España
CATEGORIES:Mucho más que carnaval
END:VEVENT
BEGIN:VEVENT
DTSTART;TZID=Europe/Madrid:20240515T190000
DTEND;TZID=Europe/Madrid:20240515T203000
DTSTAMP:20260422T130259
CREATED:20240514T192829Z
LAST-MODIFIED:20240514T193037Z
UID:10404-1715799600-1715805000@www.carnavaldecadiz.com
SUMMARY:Quiñones en familia
DESCRIPTION:Mauro Quiñones rememorará la figura de su padre en conversación con Juan José TéllezLa actividad\, enmarcada dentro del ciclo ‘Universo Quiñones’. \nEvento público de libre acceso.
URL:https://www.carnavaldecadiz.com/event/quinones-en-familia/
LOCATION:Museo de Chiclana\, Plaza Mayor 7\, Chiclana de la Frontera\, Cádiz\, 11130\, España
CATEGORIES:Mucho más que carnaval
END:VEVENT
BEGIN:VEVENT
DTSTART;TZID=Europe/Madrid:20240515T203000
DTEND;TZID=Europe/Madrid:20240515T213000
DTSTAMP:20260422T130259
CREATED:20240409T185552Z
LAST-MODIFIED:20240409T185552Z
UID:9425-1715805000-1715808600@www.carnavaldecadiz.com
SUMMARY:'La Pícara de Cervantes' en Málaga
DESCRIPTION:La Pícara de Cervantes nos traslada a la época del autor del Quijote y a través de sus versos la protagonista\, una pícara y comedianta\, nos cuenta su vida llena de aventuras y desventuras; historias de amores y celos\, fugas\, robos\, en definitiva una historia de supervivencia en tono de sátira que harán las delicias del respetable. ‘Selección y adaptación de las Comedias y Entremeses de Miguel de Cervantes’. \nUna comedia\, una actriz\, un bululú\, más de diez personajes. Pasen y vean… \nEntradas con invitación www.mientrada.net \nReservas a partir del 13 de mayo
URL:https://www.carnavaldecadiz.com/event/la-picara-de-cervantes-en-malaga/
LOCATION:Centro Cultural MVA\, Málaga\, calle Ollerías 34\, Distrito Centro\, Málaga\, Málaga\, 29012\, España
CATEGORIES:Mucho más que carnaval
END:VEVENT
END:VCALENDAR