BEGIN:VCALENDAR
VERSION:2.0
PRODID:-//Carnaval de C&aacute;diz - ECPv6.15.20//NONSGML v1.0//EN
CALSCALE:GREGORIAN
METHOD:PUBLISH
X-ORIGINAL-URL:https://www.carnavaldecadiz.com
X-WR-CALDESC:Eventos para Carnaval de C&aacute;diz
REFRESH-INTERVAL;VALUE=DURATION:PT1H
X-Robots-Tag:noindex
X-PUBLISHED-TTL:PT1H
BEGIN:VTIMEZONE
TZID:Europe/Madrid
BEGIN:DAYLIGHT
TZOFFSETFROM:+0100
TZOFFSETTO:+0200
TZNAME:CEST
DTSTART:20230326T010000
END:DAYLIGHT
BEGIN:STANDARD
TZOFFSETFROM:+0200
TZOFFSETTO:+0100
TZNAME:CET
DTSTART:20231029T010000
END:STANDARD
BEGIN:DAYLIGHT
TZOFFSETFROM:+0100
TZOFFSETTO:+0200
TZNAME:CEST
DTSTART:20240331T010000
END:DAYLIGHT
BEGIN:STANDARD
TZOFFSETFROM:+0200
TZOFFSETTO:+0100
TZNAME:CET
DTSTART:20241027T010000
END:STANDARD
BEGIN:DAYLIGHT
TZOFFSETFROM:+0100
TZOFFSETTO:+0200
TZNAME:CEST
DTSTART:20250330T010000
END:DAYLIGHT
BEGIN:STANDARD
TZOFFSETFROM:+0200
TZOFFSETTO:+0100
TZNAME:CET
DTSTART:20251026T010000
END:STANDARD
END:VTIMEZONE
BEGIN:VEVENT
DTSTART;VALUE=DATE:20240411
DTEND;VALUE=DATE:20240525
DTSTAMP:20260422T112409
CREATED:20240415T191206Z
LAST-MODIFIED:20240521T163509Z
UID:9650-1712793600-1716595199@www.carnavaldecadiz.com
SUMMARY:CHEAP THRILLS - Cine y literatura
DESCRIPTION:Ciclo coordinado por BW y patrocinado por: Fundación Unicaja\, Fundación Carlos Edmundo de Ory\, Delegación Municipal de Cultura\, Escuela de Cine de la Universidad de Cádiz\, UCA Cultura Cádiz\, colabora FACC. \n\n11 de abril\, 19.30. Teatro Principal de Puerto Real.\nProyección de La manzana de oro\, de Jaime Chavarri\, y coloquio con el autor sobre cine y literatura \n18 de abril\, 18.00. Centro Cultural Fundación Unicaja.\nProyección de Memorias de África\, de Sidney Pollack\, y coloquio con Koki Sánchez sobre la experiencia de la lectura de una novela y su versión cinematográfica \n24 de abril\, 18.00. Centro Cultural Fundación Unicaja.\nProyección de Sangre sabia\, de John Huston\, y coloquio con Mari Paz Fernández Montañés sobre héroes y antihéroes. \n2 de mayo\, 18.00. Centro Cultural Fundación Unicaja.\nProyección de El sur\, de Víctor Erice\, y coloquio con Vicente Molina Foix sobre literatura y cine. \n9 de mayo\, 19.00. Colegio de arquitectos.\nProyección de Orfeo\, de Jean Cocteau\, y coloquio con Salvador García sobre cine órfico \n16 de mayo. 12.30. Centro Cultural Fundación Unicaja.\nEncuentro con la actriz Emma Suárez\, en coloquio con Manuel Iborra sobre cine y literatura. \n16 de mayo. 19.00. Teatro Principal de Puerto Real.\nProyección de Julieta\, de Pedro Almodóvar \n24 de mayo\, 18.00. Centro Cultural Fundación Unicaja.\nProyección de Despertares de Penny Marshall y coloquio con María Alcantarilla sobre la singularidad de la adaptación cinematográfica.\n\n\n \nEventos públicos de libre acceso
URL:https://www.carnavaldecadiz.com/event/cheap-thrills-cine-y-literatura/
LOCATION:Centro Cultural Fundación Unicaja\, Cádiz\, calle San Francisco 26\, Cádiz\, Cádiz\, 11004\, España
CATEGORIES:Mucho más que carnaval
END:VEVENT
BEGIN:VEVENT
DTSTART;VALUE=DATE:20240422
DTEND;VALUE=DATE:20240520
DTSTAMP:20260422T112409
CREATED:20240422T193650Z
LAST-MODIFIED:20240422T193650Z
UID:9928-1713744000-1716163199@www.carnavaldecadiz.com
SUMMARY:El museo del Prado en Cádiz
DESCRIPTION:Se podrá ver una selección de 50 de los cuadros más destacados del Museo a tamaño real\, que se completa con las cartelas informativas de cada una de las obras\, así como con varios paneles con datos sobre la historia del Prado y sus colecciones. \nEvento público de libre acceso
URL:https://www.carnavaldecadiz.com/event/el-museo-del-prado-en-cadiz/
LOCATION:Plaza de Epaña\, Plaza de España\, Cádiz\, Cádiz\, 11006\, España
CATEGORIES:Mucho más que carnaval
END:VEVENT
BEGIN:VEVENT
DTSTART;VALUE=DATE:20240503
DTEND;VALUE=DATE:20240527
DTSTAMP:20260422T112409
CREATED:20240503T123242Z
LAST-MODIFIED:20240503T123242Z
UID:10209-1714694400-1716767999@www.carnavaldecadiz.com
SUMMARY:Exposición TRAZOS Y PUNTADAS
DESCRIPTION:Horario de visitas:\n\nDe lunes a viernes de 10:00h a 13:00h y de 18:00h a 21:00h\nSábados y domingos de 11:00h a 14:00h\n\nEvento público de libre acceso.
URL:https://www.carnavaldecadiz.com/event/exposicion-trazos-y-puntadas/
LOCATION:Centro Cultural Rosa Butler\, Puerto Real\, Plaza Almudena Grandes s/n\, Puerto Real\, Cádiz\, 11510\, España
CATEGORIES:Mucho más que carnaval
END:VEVENT
BEGIN:VEVENT
DTSTART;VALUE=DATE:20240503
DTEND;VALUE=DATE:20240701
DTSTAMP:20260422T112409
CREATED:20240503T124028Z
LAST-MODIFIED:20240503T124028Z
UID:10213-1714694400-1719791999@www.carnavaldecadiz.com
SUMMARY:Exposición ECHAR EL RESTO de Paco Marmol
DESCRIPTION:Evento público de libre acceso.
URL:https://www.carnavaldecadiz.com/event/exposicion-echar-el-resto-de-paco-marmol/
LOCATION:Espacio de Cultura Contemporánea ECCO\, Cádiz\, Paseo Carlos III\, 5\, Cádiz\, Cádiz\, 11003\, España
CATEGORIES:Mucho más que carnaval
ATTACH;FMTTYPE=image/jpeg:https://www.carnavaldecadiz.com/wp-content/uploads/2024/05/0503Expo2.jpg
END:VEVENT
BEGIN:VEVENT
DTSTART;TZID=Europe/Madrid:20240503T080000
DTEND;TZID=Europe/Madrid:20240518T170000
DTSTAMP:20260422T112409
CREATED:20240515T130500Z
LAST-MODIFIED:20240515T130526Z
UID:10461-1714723200-1716051600@www.carnavaldecadiz.com
SUMMARY:'EL SAINETE' en el XL Festival del Títere Ciudad de Cádiz
DESCRIPTION:LA COMPAÑÍA ‘TÍA NORICA’\nMedalla de Oro al Mérito en las Bellas Artes y su conjunto artesanal declarado Bien de Interés Cultural\n\n“EL SAINETE”\n\n\nEl disparate cómico de una vieja y de un “sobrino-nieto”\, simbolizan el sentir y la manera de entender la vida de todo un pueblo\, todo un legado de gaditanismo.\n\n\n\nDías: 3\, 4\, 10\, 11 \, 16\, 17 y 18 de mayo a las 18:00 h.\nDías: 19 de mayo a las 13:00 h.\nPrecio: 7€\nTécnica: percha gaditana\nEdad: a partir de 5 años\nDuración: 60 minutos
URL:https://www.carnavaldecadiz.com/event/el-sainete-en-el-xl-festival-del-titere-ciudad-de-cadiz/
LOCATION:Teatro Tía Norica\, Cádiz\, calle San Miguel 15\, Cádiz\, Cádiz\, 11001\, España
CATEGORIES:Mucho más que carnaval
END:VEVENT
BEGIN:VEVENT
DTSTART;VALUE=DATE:20240509
DTEND;VALUE=DATE:20240511
DTSTAMP:20260422T112409
CREATED:20240424T201637Z
LAST-MODIFIED:20240424T201637Z
UID:10018-1715212800-1715385599@www.carnavaldecadiz.com
SUMMARY:'EL RAMPER' de Jesús Bienvenido en el Pay-pay
DESCRIPTION:El espectáculo comienza a las 21:00h y dos días\, 9 y 10 de mayo. \nAforo limitado. \nCompra de localidades
URL:https://www.carnavaldecadiz.com/event/el-ramper-de-jesus-bienvenido-en-el-pay-pay-2/
LOCATION:Café Tatro Pay Pay\, C/ Silencio\, Cádiz\, Cádiz\, 11002
CATEGORIES:actuaciones de carnaval,Mucho más que carnaval
ATTACH;FMTTYPE=image/png:https://www.carnavaldecadiz.com/wp-content/uploads/2024/04/0509Pay.png
END:VEVENT
BEGIN:VEVENT
DTSTART;TZID=Europe/Madrid:20240510T190000
DTEND;TZID=Europe/Madrid:20240510T203000
DTSTAMP:20260422T112409
CREATED:20240509T081846Z
LAST-MODIFIED:20240509T081846Z
UID:10297-1715367600-1715373000@www.carnavaldecadiz.com
SUMMARY:II Jornadas de Periodismo en Español
DESCRIPTION:Hablamos de la presencia de la mujer en el deporte de la mano de dos pioneras del periodismo deportivo: Olga Viza y Paloma del Río.\n\n\nSe trata de la segunda sesión de las Jornadas ‘Periodismo con Ñ’ que tendremos en la Asociación de la Prensa de Cádiz cada viernes por la tarde durante este mes de mayo.\n\n\n\nLa entrada es libre hasta completar aforo.
URL:https://www.carnavaldecadiz.com/event/ii-jornadas-de-periodismo-en-espanol/
LOCATION:Asociación de la Prensa\, Cádiz\, calle Ancha 6\, Cádiz\, Cádiz\, 11001\, España
CATEGORIES:Mucho más que carnaval
END:VEVENT
BEGIN:VEVENT
DTSTART;TZID=Europe/Madrid:20240510T200000
DTEND;TZID=Europe/Madrid:20240510T230000
DTSTAMP:20260422T112409
CREATED:20240419T082008Z
LAST-MODIFIED:20240419T082008Z
UID:9830-1715371200-1715382000@www.carnavaldecadiz.com
SUMMARY:Gala Solidaria a favor de MI PRINCESA RETT
DESCRIPTION:Compra de localidades
URL:https://www.carnavaldecadiz.com/event/gala-solidaria-a-favor-de-mi-princesa-rett/
LOCATION:Palacio de Congresos de Cádiz\, Palacio de Congresos\, Cádiz\, Cádiz\, 11006\, España
CATEGORIES:Mucho más que carnaval
END:VEVENT
BEGIN:VEVENT
DTSTART;TZID=Europe/Madrid:20240510T210000
DTEND;TZID=Europe/Madrid:20240510T223000
DTSTAMP:20260422T112409
CREATED:20240507T205311Z
LAST-MODIFIED:20240507T205311Z
UID:10281-1715374800-1715380200@www.carnavaldecadiz.com
SUMMARY:Miguel Ángel García Argüéz en la Peña Nuestra Andalucía
DESCRIPTION:Miguel Ángel García Argüéz nos deleitará con una charla que versará sobre sus inicios en el carnaval\, anécdotas\, etc… \nReservas 615 532 153
URL:https://www.carnavaldecadiz.com/event/miguel-angel-garcia-arguez-en-la-pena-nuestra-andalucia/
LOCATION:Peña Nuestra Andalucía\, Cádiz\, calle María Arteaga 25\, Cádiz\, Cádiz\, 11002\, España
CATEGORIES:Mucho más que carnaval
END:VEVENT
BEGIN:VEVENT
DTSTART;TZID=Europe/Madrid:20240510T213000
DTEND;TZID=Europe/Madrid:20240510T233000
DTSTAMP:20260422T112409
CREATED:20240416T170316Z
LAST-MODIFIED:20240416T170316Z
UID:9701-1715376600-1715383800@www.carnavaldecadiz.com
SUMMARY:Concierto de Antoñito Molina
DESCRIPTION:Compra de localidades
URL:https://www.carnavaldecadiz.com/event/concierto-de-antonito-molina-4/
LOCATION:Estadio La Cartuja\, Sevilla\, Isla de la Cartuja\, Sector Norte\, Sevilla\, Sevilla\, 41092\, España
CATEGORIES:Mucho más que carnaval
END:VEVENT
BEGIN:VEVENT
DTSTART;TZID=Europe/Madrid:20240510T220000
DTEND;TZID=Europe/Madrid:20240510T233000
DTSTAMP:20260422T112409
CREATED:20240507T195550Z
LAST-MODIFIED:20240507T195550Z
UID:10266-1715378400-1715383800@www.carnavaldecadiz.com
SUMMARY:Morera For President en San Roque
DESCRIPTION:Monólogo\, sketch\, improvisación y música son los elementos que combina el humorista gaditano Manolo Morera para ofrecer su nueva y divertida misión. En ella viene a solucionarnos el mundo\, ofreciéndonos una divertidísima filosofía de vida\, basada en la felicidad\, la alegría y el buenrollismo.\nEste Presidente de Gobierno trae consigo un sinfín de soluciones hilarantes que nos harán desconectar y llorar de la risa durante hora y media. \nCompra de localidades
URL:https://www.carnavaldecadiz.com/event/morera-for-president-en-san-roque/
LOCATION:Teatro Juan Luis Galiardo\, San Roque\, Paseo Alameda Alfonso XI\, San Roque\, Cádiz\, 11360\, España
CATEGORIES:Mucho más que carnaval
END:VEVENT
END:VCALENDAR