BEGIN:VCALENDAR
VERSION:2.0
PRODID:-//Carnaval de C&aacute;diz - ECPv6.15.20//NONSGML v1.0//EN
CALSCALE:GREGORIAN
METHOD:PUBLISH
X-ORIGINAL-URL:https://www.carnavaldecadiz.com
X-WR-CALDESC:Eventos para Carnaval de C&aacute;diz
REFRESH-INTERVAL;VALUE=DURATION:PT1H
X-Robots-Tag:noindex
X-PUBLISHED-TTL:PT1H
BEGIN:VTIMEZONE
TZID:Europe/Madrid
BEGIN:DAYLIGHT
TZOFFSETFROM:+0100
TZOFFSETTO:+0200
TZNAME:CEST
DTSTART:20230326T010000
END:DAYLIGHT
BEGIN:STANDARD
TZOFFSETFROM:+0200
TZOFFSETTO:+0100
TZNAME:CET
DTSTART:20231029T010000
END:STANDARD
BEGIN:DAYLIGHT
TZOFFSETFROM:+0100
TZOFFSETTO:+0200
TZNAME:CEST
DTSTART:20240331T010000
END:DAYLIGHT
BEGIN:STANDARD
TZOFFSETFROM:+0200
TZOFFSETTO:+0100
TZNAME:CET
DTSTART:20241027T010000
END:STANDARD
BEGIN:DAYLIGHT
TZOFFSETFROM:+0100
TZOFFSETTO:+0200
TZNAME:CEST
DTSTART:20250330T010000
END:DAYLIGHT
BEGIN:STANDARD
TZOFFSETFROM:+0200
TZOFFSETTO:+0100
TZNAME:CET
DTSTART:20251026T010000
END:STANDARD
END:VTIMEZONE
BEGIN:VEVENT
DTSTART;VALUE=DATE:20240325
DTEND;VALUE=DATE:20240426
DTSTAMP:20260422T130453
CREATED:20240226T121801Z
LAST-MODIFIED:20240326T193806Z
UID:8270-1711324800-1714089599@www.carnavaldecadiz.com
SUMMARY:Taller UCA. Como se hace un ROMANCERO de Carnaval
DESCRIPTION:El Romancero es probablemente una de las formas de hacer carnaval más antiguas de nuestra fiesta. Aunque con concurso propio\, sigue siendo una agrupación fundamentalmente callejera. Denostada hasta hace poco\, en los últimos años ha experimentado una expansión tanto en número de participantes como en formatos. \nEn este taller hablaremos del origen\, evolución y el momento actual del Romancero. Abordaremos también\, como en el resto de talleres\, los principales procesos creativos que se dan en ellos: el texto\, el humor\, la interpretación\, el cartelón y la puesta en escena. En las seis sesiones (24 horas) participarán como docentes y/o colaboradores algunas de las personas (autores/as e intérpretes) más influyentes de los últimos años. \n  \nMás información e inscripciones: https://celama.uca.es/escuela-carnaval/romancero2/
URL:https://www.carnavaldecadiz.com/event/taller-uca-como-se-hace-un-romancero-de-carnaval/
LOCATION:Facultad de Filosofia y Letras\, UCA\, Avenida Doctor Gómez Ulla 1\, Cádiz\, Cádiz\, 11003\, España
CATEGORIES:Mucho más que carnaval
ATTACH;FMTTYPE=image/png:https://www.carnavaldecadiz.com/wp-content/uploads/2024/02/aa3.png
END:VEVENT
BEGIN:VEVENT
DTSTART;VALUE=DATE:20240404
DTEND;VALUE=DATE:20240422
DTSTAMP:20260422T130453
CREATED:20240403T192249Z
LAST-MODIFIED:20240403T192249Z
UID:9310-1712188800-1713743999@www.carnavaldecadiz.com
SUMMARY:Las Bingueras de Eurípides
DESCRIPTION:En un local semioculto de un viejo barrio\, un grupo de mujeres\, lideradas por la misteriosa Dionisia\, se reúnen por las tardes en torno a un bingo clandestino. El juego\, en el fondo\, no es sino una excusa para juntarse\, merendar\, contarse sus penas\, compartir alegrías y preocupaciones y huir de una realidad triste y monótona. Sin embargo\, hay un policía que está empeñado en hacerles la vida imposible\, permaneciendo siempre al acecho para cerrarles el local con el pretexto de que se trata un bingo ilegal. Ellas buscarán la manera de evitarlo\, pero en el camino surgirán sorpresas y encuentros inesperados\, que desembocarán en un final trágico y salvaje… \nCompra de localidades
URL:https://www.carnavaldecadiz.com/event/las-bingueras-de-euripides-2/
LOCATION:Teatro Quique San Francisco\, Madrid\, calle Galileo 39 Camberí\, Madrid\, Madrid\, 28015\, España
CATEGORIES:Mucho más que carnaval
END:VEVENT
BEGIN:VEVENT
DTSTART;VALUE=DATE:20240411
DTEND;VALUE=DATE:20240525
DTSTAMP:20260422T130453
CREATED:20240415T191206Z
LAST-MODIFIED:20240521T163509Z
UID:9650-1712793600-1716595199@www.carnavaldecadiz.com
SUMMARY:CHEAP THRILLS - Cine y literatura
DESCRIPTION:Ciclo coordinado por BW y patrocinado por: Fundación Unicaja\, Fundación Carlos Edmundo de Ory\, Delegación Municipal de Cultura\, Escuela de Cine de la Universidad de Cádiz\, UCA Cultura Cádiz\, colabora FACC. \n\n11 de abril\, 19.30. Teatro Principal de Puerto Real.\nProyección de La manzana de oro\, de Jaime Chavarri\, y coloquio con el autor sobre cine y literatura \n18 de abril\, 18.00. Centro Cultural Fundación Unicaja.\nProyección de Memorias de África\, de Sidney Pollack\, y coloquio con Koki Sánchez sobre la experiencia de la lectura de una novela y su versión cinematográfica \n24 de abril\, 18.00. Centro Cultural Fundación Unicaja.\nProyección de Sangre sabia\, de John Huston\, y coloquio con Mari Paz Fernández Montañés sobre héroes y antihéroes. \n2 de mayo\, 18.00. Centro Cultural Fundación Unicaja.\nProyección de El sur\, de Víctor Erice\, y coloquio con Vicente Molina Foix sobre literatura y cine. \n9 de mayo\, 19.00. Colegio de arquitectos.\nProyección de Orfeo\, de Jean Cocteau\, y coloquio con Salvador García sobre cine órfico \n16 de mayo. 12.30. Centro Cultural Fundación Unicaja.\nEncuentro con la actriz Emma Suárez\, en coloquio con Manuel Iborra sobre cine y literatura. \n16 de mayo. 19.00. Teatro Principal de Puerto Real.\nProyección de Julieta\, de Pedro Almodóvar \n24 de mayo\, 18.00. Centro Cultural Fundación Unicaja.\nProyección de Despertares de Penny Marshall y coloquio con María Alcantarilla sobre la singularidad de la adaptación cinematográfica.\n\n\n \nEventos públicos de libre acceso
URL:https://www.carnavaldecadiz.com/event/cheap-thrills-cine-y-literatura/
LOCATION:Centro Cultural Fundación Unicaja\, Cádiz\, calle San Francisco 26\, Cádiz\, Cádiz\, 11004\, España
CATEGORIES:Mucho más que carnaval
END:VEVENT
BEGIN:VEVENT
DTSTART;VALUE=DATE:20240416
DTEND;VALUE=DATE:20240428
DTSTAMP:20260422T130453
CREATED:20240416T094928Z
LAST-MODIFIED:20240416T095112Z
UID:9662-1713225600-1714262399@www.carnavaldecadiz.com
SUMMARY:Historietas de Cádiz
DESCRIPTION:Ya están abiertas las plazas para los paseítos de Abril\,20 y 27 a las 19:00h\n \nSi os apetece venir algún día\, ponerse en contacto por privado en mis perfiles de Historietas de Cádiz para más información y reservas:  \n\n Facebook \n Instagram\nMario Del Valle González
URL:https://www.carnavaldecadiz.com/event/historietas-de-cadiz/
LOCATION:Cádiz\, Cádiz\, Cádiz\, España
CATEGORIES:Mucho más que carnaval
END:VEVENT
BEGIN:VEVENT
DTSTART;TZID=Europe/Madrid:20240420T203000
DTEND;TZID=Europe/Madrid:20240420T230000
DTSTAMP:20260422T130453
CREATED:20240419T075252Z
LAST-MODIFIED:20240419T075252Z
UID:9819-1713645000-1713654000@www.carnavaldecadiz.com
SUMMARY:Encuentro de cantautores en 'Los Adoquines'
DESCRIPTION:Actuarán: \n\nCuqui Baker\nTocayo\nAntonio Flor\nNacho Dueñas\nEl cansautor alopécico\n\nEvento público de libre acceso\, aforo limitado. \n 
URL:https://www.carnavaldecadiz.com/event/encuentro-de-cantautores-en-los-adoquines/
LOCATION:Peña Los Adoquines\, calle Sagasta 91\, Cádiz\, Cádiz\, 11002\, España
CATEGORIES:Mucho más que carnaval
END:VEVENT
BEGIN:VEVENT
DTSTART;TZID=Europe/Madrid:20240420T213000
DTEND;TZID=Europe/Madrid:20240420T230000
DTSTAMP:20260422T130453
CREATED:20240416T164747Z
LAST-MODIFIED:20240416T164747Z
UID:9692-1713648600-1713654000@www.carnavaldecadiz.com
SUMMARY:Concierto de Antoñito Molina
DESCRIPTION:Compra de localidades
URL:https://www.carnavaldecadiz.com/event/concierto-de-antonito-molina/
LOCATION:Plazade Toros de Gijón\, Carr. de Villaviciosa 1 Gijón-Este\, Gijón\, Asturias\, 33204\, España
CATEGORIES:Mucho más que carnaval
END:VEVENT
END:VCALENDAR