BEGIN:VCALENDAR
VERSION:2.0
PRODID:-//Carnaval de C&aacute;diz - ECPv6.15.20//NONSGML v1.0//EN
CALSCALE:GREGORIAN
METHOD:PUBLISH
X-ORIGINAL-URL:https://www.carnavaldecadiz.com
X-WR-CALDESC:Eventos para Carnaval de C&aacute;diz
REFRESH-INTERVAL;VALUE=DURATION:PT1H
X-Robots-Tag:noindex
X-PUBLISHED-TTL:PT1H
BEGIN:VTIMEZONE
TZID:Europe/Madrid
BEGIN:DAYLIGHT
TZOFFSETFROM:+0100
TZOFFSETTO:+0200
TZNAME:CEST
DTSTART:20220327T010000
END:DAYLIGHT
BEGIN:STANDARD
TZOFFSETFROM:+0200
TZOFFSETTO:+0100
TZNAME:CET
DTSTART:20221030T010000
END:STANDARD
BEGIN:DAYLIGHT
TZOFFSETFROM:+0100
TZOFFSETTO:+0200
TZNAME:CEST
DTSTART:20230326T010000
END:DAYLIGHT
BEGIN:STANDARD
TZOFFSETFROM:+0200
TZOFFSETTO:+0100
TZNAME:CET
DTSTART:20231029T010000
END:STANDARD
BEGIN:DAYLIGHT
TZOFFSETFROM:+0100
TZOFFSETTO:+0200
TZNAME:CEST
DTSTART:20240331T010000
END:DAYLIGHT
BEGIN:STANDARD
TZOFFSETFROM:+0200
TZOFFSETTO:+0100
TZNAME:CET
DTSTART:20241027T010000
END:STANDARD
BEGIN:DAYLIGHT
TZOFFSETFROM:+0100
TZOFFSETTO:+0200
TZNAME:CEST
DTSTART:20250330T010000
END:DAYLIGHT
BEGIN:STANDARD
TZOFFSETFROM:+0200
TZOFFSETTO:+0100
TZNAME:CET
DTSTART:20251026T010000
END:STANDARD
END:VTIMEZONE
BEGIN:VEVENT
DTSTART;VALUE=DATE:20231215
DTEND;VALUE=DATE:20240316
DTSTAMP:20260424T113307
CREATED:20231213T125840Z
LAST-MODIFIED:20231213T143057Z
UID:6192-1702598400-1710547199@www.carnavaldecadiz.com
SUMMARY:Exposición colectiva 'Letras ilustradas'
DESCRIPTION:‘Letras ilustradas’ es una muestra colectiva organizada por la Asociación de Ilustración Profesional (AIP) de Cádiz y la Casa de Iberoamérica de Cádiz. En ella se rinde tributo en imágenes a obras\, autoras\, versos\, paisajes y personajes “que forman parte ya de nuestra esencia\, tanto colectiva como individual\, en un año en que Cádiz ha sido sede del IX Congreso Internacional de la Lengua Española. Es por esto que nuestra exposición otorga un peso especial en la literatura iberoamericana”\, explican desde el colectivo de ilustradores. \nSe trata de un conjunto de 35 ilustraciones de socios y socias de la AIP además de otros artistas invitados como Fernando Vicente\, Inma Serrano\, José Luis Ágreda\, Javier Olivares\, Ilu Ros o Daniel Diosdado. \nAdemás de los mencionados la lista se completa con los trabajos de Ágreda\, Albo López\, Ana Salguiero\, Arturo Redondo\, Aurora Villaviejas\, Bea Cuevas\, Conchi Trudier\, Daniel Diosdado\, David Rendo\, Elena Carmona\, Elizabeth Sanduvete\, Fernando Vicente\, Francisco Asencio\, Gema Rodríguez (GemaStarlight)\, Heleneteh\, Ilu Ros\, Inma Otero\, Inma Serrano\, J.E. Izco\, Javier Olivares\, Juan Devesa\, Julio Serrano\, Laura Cortés\, Lucía de la Torre\, Luz Marina G.\, María Rosa Treceño\, MariaLopezCreative\, Mario Gargon\, Milvilla (autora del cartel de la muestra)\, Paula Cuántica\, Paz Ramos\, Puralínea\, Rocío Atrio\, Rosa Olea y Sara Gabandé. \nLas obras incluyen homenajes a Federico García Lorca\, Gabriela Mistral\, J.R.R. Tolkien\, Alejandra Pizarnik\, Gabriel García Márquez\, Toni Morrison\, Neil Gaiman o Laura Esquivel. \nLa exhibición estará abierta en la Sala Blas de Lezo de la Casa de Iberoamérica (antigua Cárcel Real) \nENTRADA LIBRE\nHorario: de 10:00h a 14:00h y de 17:00h a 20:00h
URL:https://www.carnavaldecadiz.com/event/exposicion-colectiva-letras-ilustradas/
LOCATION:Casa de Iberoamerica\, Cádiz\, calle Concepción Arenal s/n\, Cádiz\, Cádiz\, 11006\, España
CATEGORIES:exposiciones,Mucho más que carnaval
END:VEVENT
BEGIN:VEVENT
DTSTART;TZID=Europe/Madrid:20240209T080000
DTEND;TZID=Europe/Madrid:20240407T170000
DTSTAMP:20260424T113307
CREATED:20240210T214448Z
LAST-MODIFIED:20240210T214543Z
UID:7800-1707465600-1712509200@www.carnavaldecadiz.com
SUMMARY:Exposición Aguja de Oro del Carnaval de Cádiz
DESCRIPTION:Horario de visitas: \n\nDe lunes a sábado de 11:00 a 19:00 h. (última entrada a las 18:00h.)\nDomingos y festivos de 11:00 a 14:00h. (última entrada a las 13:00h.)\n\nReserva tu visita: \n\nCorreo electrónico: visita.lacasadelcarnaval@ext.cadiz.es\nTeléfono: 682 378 644\n\nEvento público de libre acceso
URL:https://www.carnavaldecadiz.com/event/exposicion-aguja-de-oro-del-carnaval-de-cadiz/
LOCATION:Casa del Carnaval\, Cádiz\, calle Marqués del Real Tesoro 15\, 17\, Cádiz\, Cádiz\, 11001\, España
CATEGORIES:exposiciones,Mucho más que carnaval
END:VEVENT
BEGIN:VEVENT
DTSTART;VALUE=DATE:20240225
DTEND;VALUE=DATE:20240318
DTSTAMP:20260424T113307
CREATED:20240219T153340Z
LAST-MODIFIED:20240221T203905Z
UID:8043-1708819200-1710719999@www.carnavaldecadiz.com
SUMMARY:XXII Concurso de Baile Por Tanguillos 'La Perla de Cádiz'
DESCRIPTION:Organizado por la Peña Flamenca ‘La Perla de Cádiz’\, las semifinales se desarrollarán los domingos: 25 de febrero\, 3 y 10 de marzo. \nLa gran final se celebrará el 17 de marzo. \nLos espectáculos darán comienzo a las 13:00h. \nMás información en perladecadiz.com \nORDEN DE ACTUACIÓN\nDomingo 25 de febrero ver \nDomingo 3 de marzo ver \nDomingo 10 de marzo ver
URL:https://www.carnavaldecadiz.com/event/xxii-concurso-de-baile-por-tanguillos-la-perla-de-cadiz/
LOCATION:Peña La Perla\, calle Concepción Arenal s/n\, Cádiz\, Cádiz\, 11006\, España
CATEGORIES:Mucho más que carnaval
END:VEVENT
BEGIN:VEVENT
DTSTART;VALUE=DATE:20240303
DTEND;VALUE=DATE:20240331
DTSTAMP:20260424T113307
CREATED:20240227T120730Z
LAST-MODIFIED:20240227T120806Z
UID:8374-1709424000-1711843199@www.carnavaldecadiz.com
SUMMARY:Visita contada y cantada al Gran Teatro Falla
DESCRIPTION:Visita Gran Teatro Falla \nConstruido sobre las ruinas de un antiguo teatro de madera fue pasto de las llamas. \nVive con Santi Moreno que te contará la historia y con Fran Sevilla que te la cantará\, una experiencia única. Conoce las entrañas del Gran Teatro Falla de Cádiz: su escenario\, sus camerinos\, el gallinero… \nMás de cien años de historia\, llenos de pasiones y anécdotas del concurso de coplas de carnaval más antiguo. Espacio histórico de obligado peregrinaje para cientos de aficionados y aficionadas al carnaval de toda España. \nDuración de la visita: 2 horas aproximadamente. \nPunto de encuentro e inicio de la visita: Puerta principal del Teatro\, Plaza Fragela. \nMenores de 12 años visita gratuita. \nPrecios especiales para grupos\, solicite información. \nFechas y horarios:\nDomingo 3\, 11:00 h.\nDomingo 10\, 11:00 h.\nDomingo 24\, 19:00 h.\nMartes 26\, 18:00 h.\nJueves 28\, 11:30 h.\nSábado 30\, 19:00 h.\nMás información y reservas: reservasvgtf@carnavaldecadiz.com
URL:https://www.carnavaldecadiz.com/event/visita-contada-y-cantada-al-gran-teatro-falla-28/
LOCATION:Plaza Fragela\, Cádiz\, Plaza Fragela\, Cádiz\, Cádiz\, 11003\, España
CATEGORIES:Mucho más que carnaval
END:VEVENT
BEGIN:VEVENT
DTSTART;TZID=Europe/Madrid:20240303T130000
DTEND;TZID=Europe/Madrid:20240303T170000
DTSTAMP:20260424T113307
CREATED:20240226T201815Z
LAST-MODIFIED:20240226T201815Z
UID:8324-1709470800-1709485200@www.carnavaldecadiz.com
SUMMARY:XIV Homenajes Carnavalescos Rincón del Arte
DESCRIPTION:Pepito Martinez de Cádiz\, Antonio Pedro Serrano “El Canijo de Carmona”\, Javier El Gran Visir\, Antonio Fuentes Cueva “El Yaye” y Antología Los Majaras recibirán un merecido reconocimiento por su aportación y vinculación a la fiesta del carnaval. \nEl acto\, que contará con la presentación de Luis Angel Iñigo\, y se podrá disfrutar de las siguientes actuaciones: \n\nAcademia de Araceli Arias\nAcademia de baile Carmen Morales\nComparsa infantil ‘Los discípulos’\nMiguel Ciria\, Miguelito Ciria y Javier López\nComparsa ‘La calle de la curva’\nAntología de ‘Los majaras’\nComparsa ‘Los figurantes’\nChiriparsa ‘Los que sacan el dolor’\n\n\nEl aforo es limitado por lo que rogamos reserven sus mesas con antelación.  \n𝐓𝐞𝐥é𝐟𝐨𝐧𝐨 𝐝𝐞 𝐫𝐞𝐬𝐞𝐫𝐯𝐚: 𝟔𝟎𝟔 𝟔𝟎 𝟒𝟔 𝟎𝟎
URL:https://www.carnavaldecadiz.com/event/xiv-homenajes-carnavalescos-rincon-del-arte/
LOCATION:Bar Olé Tú\, El Puerto de Santa María\, calle Almonte 17\, El Puerto de Santa María\, Cádiz\, 11500\, España
CATEGORIES:actuaciones de carnaval,Mucho más que carnaval
END:VEVENT
BEGIN:VEVENT
DTSTART;TZID=Europe/Madrid:20240303T180000
DTEND;TZID=Europe/Madrid:20240303T193000
DTSTAMP:20260424T113307
CREATED:20240229T171509Z
LAST-MODIFIED:20240229T171606Z
UID:8444-1709488800-1709494200@www.carnavaldecadiz.com
SUMMARY:Ocho Apellidos Andaluces
DESCRIPTION:Aunque no es un evento carnavalesco desde en CarnavaldeCadiz.com apoyamos toda la actividad cultural que emana o se nutre de las personas que hacen posible el carnaval de Cádiz\, y ‘El Txapela de Cádiz’ es un reconocido autor e intérprete de romanceros. \nventa de entradas
URL:https://www.carnavaldecadiz.com/event/ocho-apellidos-andaluces/
LOCATION:Auditorio Riberas del Guadaira\, calle Roberto Leal s/n\, Alcalá de Guadaira\, Sevilla\, 41500\, España
CATEGORIES:Mucho más que carnaval
END:VEVENT
BEGIN:VEVENT
DTSTART;TZID=Europe/Madrid:20240303T190000
DTEND;TZID=Europe/Madrid:20240303T210000
DTSTAMP:20260424T113307
CREATED:20240226T182649Z
LAST-MODIFIED:20240226T182649Z
UID:8295-1709492400-1709499600@www.carnavaldecadiz.com
SUMMARY:Piratas\, más que piratas
DESCRIPTION:Nuevo espectáculo que recopila\, historia\, anécdotas\, coplas… de una selección de intérpretes increibles: \nPacoli\, Dani Obregón\, Ángel Subiela\, Carli Briruega\, Pedro Campos y Sergio \nVenta de localidades \n  \n 
URL:https://www.carnavaldecadiz.com/event/piratas-mas-que-piratas/
LOCATION:Auditorio Nissan Cartuja\, Sevilla\, calle Albert Einstein s/n\, Sevilla\, Sevilla\, 41092\, España
CATEGORIES:actuaciones de carnaval,Mucho más que carnaval
END:VEVENT
END:VCALENDAR