BEGIN:VCALENDAR
VERSION:2.0
PRODID:-//Carnaval de C&aacute;diz - ECPv6.15.20//NONSGML v1.0//EN
CALSCALE:GREGORIAN
METHOD:PUBLISH
X-ORIGINAL-URL:https://www.carnavaldecadiz.com
X-WR-CALDESC:Eventos para Carnaval de C&aacute;diz
REFRESH-INTERVAL;VALUE=DURATION:PT1H
X-Robots-Tag:noindex
X-PUBLISHED-TTL:PT1H
BEGIN:VTIMEZONE
TZID:Europe/Madrid
BEGIN:DAYLIGHT
TZOFFSETFROM:+0100
TZOFFSETTO:+0200
TZNAME:CEST
DTSTART:20220327T010000
END:DAYLIGHT
BEGIN:STANDARD
TZOFFSETFROM:+0200
TZOFFSETTO:+0100
TZNAME:CET
DTSTART:20221030T010000
END:STANDARD
BEGIN:DAYLIGHT
TZOFFSETFROM:+0100
TZOFFSETTO:+0200
TZNAME:CEST
DTSTART:20230326T010000
END:DAYLIGHT
BEGIN:STANDARD
TZOFFSETFROM:+0200
TZOFFSETTO:+0100
TZNAME:CET
DTSTART:20231029T010000
END:STANDARD
BEGIN:DAYLIGHT
TZOFFSETFROM:+0100
TZOFFSETTO:+0200
TZNAME:CEST
DTSTART:20240331T010000
END:DAYLIGHT
BEGIN:STANDARD
TZOFFSETFROM:+0200
TZOFFSETTO:+0100
TZNAME:CET
DTSTART:20241027T010000
END:STANDARD
END:VTIMEZONE
BEGIN:VEVENT
DTSTART;TZID=Europe/Madrid:20231204T200000
DTEND;TZID=Europe/Madrid:20231204T203000
DTSTAMP:20260424T223919
CREATED:20231127T124643Z
LAST-MODIFIED:20231127T124931Z
UID:5658-1701720000-1701721800@www.carnavaldecadiz.com
SUMMARY:Homenaje a García Caparros - Comparsa del Puerto
DESCRIPTION:Como cada año la comparsa del Puerto de Santa María\, conocida como la de ‘Los Majaras’ \, canta su mítico pasodoble ‘Un cuatro de diciembre…’ como un gesto de homenaje al joven trabajador sindicalista asesinado en 1977\, Manuel José García Caparros\, en una manifestación reivindicando la Autonomía Andaluza. \n  \nEvento público de libre acceso.
URL:https://www.carnavaldecadiz.com/event/homenaje-a-garcia-caparros-comparsa-del-puerto/
LOCATION:Peña Madridista Portunse\, calle Zarza 58\, El puerto de Santa María\, Cádiz\, 11500\, España
CATEGORIES:actuaciones de carnaval,Mucho más que carnaval
END:VEVENT
END:VCALENDAR