BEGIN:VCALENDAR
VERSION:2.0
PRODID:-//Carnaval de C&aacute;diz - ECPv6.15.20//NONSGML v1.0//EN
CALSCALE:GREGORIAN
METHOD:PUBLISH
X-ORIGINAL-URL:https://www.carnavaldecadiz.com
X-WR-CALDESC:Eventos para Carnaval de C&aacute;diz
REFRESH-INTERVAL;VALUE=DURATION:PT1H
X-Robots-Tag:noindex
X-PUBLISHED-TTL:PT1H
BEGIN:VTIMEZONE
TZID:Europe/Madrid
BEGIN:DAYLIGHT
TZOFFSETFROM:+0100
TZOFFSETTO:+0200
TZNAME:CEST
DTSTART:20220327T010000
END:DAYLIGHT
BEGIN:STANDARD
TZOFFSETFROM:+0200
TZOFFSETTO:+0100
TZNAME:CET
DTSTART:20221030T010000
END:STANDARD
BEGIN:DAYLIGHT
TZOFFSETFROM:+0100
TZOFFSETTO:+0200
TZNAME:CEST
DTSTART:20230326T010000
END:DAYLIGHT
BEGIN:STANDARD
TZOFFSETFROM:+0200
TZOFFSETTO:+0100
TZNAME:CET
DTSTART:20231029T010000
END:STANDARD
BEGIN:DAYLIGHT
TZOFFSETFROM:+0100
TZOFFSETTO:+0200
TZNAME:CEST
DTSTART:20240331T010000
END:DAYLIGHT
BEGIN:STANDARD
TZOFFSETFROM:+0200
TZOFFSETTO:+0100
TZNAME:CET
DTSTART:20241027T010000
END:STANDARD
END:VTIMEZONE
BEGIN:VEVENT
DTSTART;TZID=Europe/Madrid:20231124T200000
DTEND;TZID=Europe/Madrid:20231124T220000
DTSTAMP:20260425T001021
CREATED:20231015T181932Z
LAST-MODIFIED:20231124T103202Z
UID:3845-1700856000-1700863200@www.carnavaldecadiz.com
SUMMARY:III Concurso de minigrupos de Carnaval 'Bodegón Andalucía'
DESCRIPTION:Primera semifinal. Orden de actuación: \n \n21:00 h – Savia nueva \n21:30 h – Los tercios de Cádiz \n22:00 h – La tribu del barrio \n22:30 h – Los cañavaleros \n23:00 h – Va por ti Pedro \nEvento público de libre acceso hasta completar aforo. \nAforo reducido.
URL:https://www.carnavaldecadiz.com/event/iii-concurso-de-minigrupos-de-carnaval-bodegon-andalucia/
LOCATION:Bodegón Andalucía\, Avenida Poeta Rafael Alberti 10\, San Fernando\, Cádiz\, España
CATEGORIES:concurso de carnaval,Mucho más que carnaval
END:VEVENT
BEGIN:VEVENT
DTSTART;TZID=Europe/Madrid:20231124T200000
DTEND;TZID=Europe/Madrid:20231124T220000
DTSTAMP:20260425T001021
CREATED:20231124T123008Z
LAST-MODIFIED:20231124T123008Z
UID:5518-1700856000-1700863200@www.carnavaldecadiz.com
SUMMARY:Presentación Libro\, 'Generación Tangai'
DESCRIPTION:Modesto Barragán y Manolo Casal presentarán y firmarán su libro “Generación Tangai” en la Capilla del Santo Cristo.\n\n\nEn esta presentación les acompañarán los amigos carnavaleros Manuel Jesús García y Rubén Neburlón y el importe de las entradas se destinará a la Residencia Glorieta de San José de Arriate.\n\n\nORGANIZA: Hermandad de Los Cristinos. Para adquirir las entradas puedes contactar con cualquier miembro de la Junta de Gobierno.
URL:https://www.carnavaldecadiz.com/event/presentacion-libro-generacion-tangai/
LOCATION:Arriate\, Málaga\, Arriate\, Arriate\, Málaga\, 29350\, España
CATEGORIES:Libros de Carnaval,Mucho más que carnaval
END:VEVENT
BEGIN:VEVENT
DTSTART;TZID=Europe/Madrid:20231124T203000
DTEND;TZID=Europe/Madrid:20231124T220000
DTSTAMP:20260425T001021
CREATED:20231112T211820Z
LAST-MODIFIED:20231112T211820Z
UID:4695-1700857800-1700863200@www.carnavaldecadiz.com
SUMMARY:Javier Ruibal Quartet
DESCRIPTION:
URL:https://www.carnavaldecadiz.com/event/javier-ruibal-quartet/
LOCATION:Teatro Pedro Muñoz Seca\, Plaza del Polvorista 4\, Puerto Real\, Cádiz\, 11500\, España
CATEGORIES:Mucho más que carnaval
END:VEVENT
BEGIN:VEVENT
DTSTART;TZID=Europe/Madrid:20231124T220000
DTEND;TZID=Europe/Madrid:20231124T233000
DTSTAMP:20260425T001021
CREATED:20231023T203442Z
LAST-MODIFIED:20231111T141429Z
UID:4083-1700863200-1700868600@www.carnavaldecadiz.com
SUMMARY:Humor y Carnaval en la Cochera Cabaret
DESCRIPTION:
URL:https://www.carnavaldecadiz.com/event/humos-y-carnaval-en-la-cochera-cabaret/
LOCATION:La cochera cabaret\, Avenida de los Guindos 19\, Málaga\, Málaga\, 29004\, España
CATEGORIES:actuaciones de carnaval,Mucho más que carnaval
END:VEVENT
END:VCALENDAR