BEGIN:VCALENDAR
VERSION:2.0
PRODID:-//Carnaval de C&aacute;diz - ECPv6.15.20//NONSGML v1.0//EN
CALSCALE:GREGORIAN
METHOD:PUBLISH
X-ORIGINAL-URL:https://www.carnavaldecadiz.com
X-WR-CALDESC:Eventos para Carnaval de C&aacute;diz
REFRESH-INTERVAL;VALUE=DURATION:PT1H
X-Robots-Tag:noindex
X-PUBLISHED-TTL:PT1H
BEGIN:VTIMEZONE
TZID:Europe/Madrid
BEGIN:DAYLIGHT
TZOFFSETFROM:+0100
TZOFFSETTO:+0200
TZNAME:CEST
DTSTART:20250330T010000
END:DAYLIGHT
BEGIN:STANDARD
TZOFFSETFROM:+0200
TZOFFSETTO:+0100
TZNAME:CET
DTSTART:20251026T010000
END:STANDARD
BEGIN:DAYLIGHT
TZOFFSETFROM:+0100
TZOFFSETTO:+0200
TZNAME:CEST
DTSTART:20260329T010000
END:DAYLIGHT
BEGIN:STANDARD
TZOFFSETFROM:+0200
TZOFFSETTO:+0100
TZNAME:CET
DTSTART:20261025T010000
END:STANDARD
BEGIN:DAYLIGHT
TZOFFSETFROM:+0100
TZOFFSETTO:+0200
TZNAME:CEST
DTSTART:20270328T010000
END:DAYLIGHT
BEGIN:STANDARD
TZOFFSETFROM:+0200
TZOFFSETTO:+0100
TZNAME:CET
DTSTART:20271031T010000
END:STANDARD
END:VTIMEZONE
BEGIN:VEVENT
DTSTART;TZID=Europe/Madrid:20260103T210000
DTEND;TZID=Europe/Madrid:20260103T233000
DTSTAMP:20260421T030107
CREATED:20251223T205920Z
LAST-MODIFIED:20251223T205920Z
UID:26830-1767474000-1767483000@www.carnavaldecadiz.com
SUMMARY:Un acústico con Javi Galiana
DESCRIPTION:Reserva y compra de localidades en Café TeatroPay-pay
URL:https://www.carnavaldecadiz.com/event/un-acustico-con-javi-galiana/
LOCATION:Café Tatro Pay Pay\, C/ Silencio\, Cádiz\, Cádiz\, 11002
CATEGORIES:Mucho más que carnaval
END:VEVENT
BEGIN:VEVENT
DTSTART;TZID=Europe/Madrid:20260108T193000
DTEND;TZID=Europe/Madrid:20260108T210000
DTSTAMP:20260421T030107
CREATED:20260106T215210Z
LAST-MODIFIED:20260106T215210Z
UID:27058-1767900600-1767906000@www.carnavaldecadiz.com
SUMMARY:Lectura Musical del relato 'Reinventando a Benedetti'
DESCRIPTION:Intervienen: \n\nKoki Sánchez (actriz)\nAlicia Domínguez (escritora)\n\nAcompañadas por: \n\nAntonio Alonso (guitarra)\nJuan Manuel Muñoz (handpan)\n\nEvento público de libre acceso.
URL:https://www.carnavaldecadiz.com/event/lectura-musical-del-relato-reinventando-a-benedetti/
LOCATION:Centro Artístico\, literario y Científico de Granada\, calle Almona del Campillo\, 2\, Granada\, Granada\, 18009\, Spain
CATEGORIES:Mucho más que carnaval
END:VEVENT
BEGIN:VEVENT
DTSTART;TZID=Europe/Madrid:20260109T190000
DTEND;TZID=Europe/Madrid:20260109T210000
DTSTAMP:20260421T030107
CREATED:20260106T220504Z
LAST-MODIFIED:20260106T220504Z
UID:27065-1767985200-1767992400@www.carnavaldecadiz.com
SUMMARY:Podcast 'LA BUENA PIPA' en vivo
DESCRIPTION:‘LA BUENA PIPA’ es uno de los Podcast más divertidos de la red\, no te lo pierdas en directo. \nPrecio de la entrada 10€
URL:https://www.carnavaldecadiz.com/event/podcast-la-buena-pipa-en-vivo/
LOCATION:King Lab\, Cádiz\, calle Montañés 14\, Cádiz\, Cádiz\, 11002\, Spain
CATEGORIES:Mucho más que carnaval
END:VEVENT
BEGIN:VEVENT
DTSTART;VALUE=DATE:20260123
DTEND;VALUE=DATE:20260125
DTSTAMP:20260421T030107
CREATED:20260121T193527Z
LAST-MODIFIED:20260121T193527Z
UID:27508-1769126400-1769299199@www.carnavaldecadiz.com
SUMMARY:'Las Bingueras de Eurípides' en Melilla
DESCRIPTION:Compra en línea de LOCALIDADES
URL:https://www.carnavaldecadiz.com/event/las-bingueras-de-euripides-en-melilla/
LOCATION:Teatro Kursaal – Fernando Arrabal\, Melilla\, Avenida Cándido Lobera 8\, Melilla\, Melilla\, 52001\, Spain
CATEGORIES:Mucho más que carnaval
END:VEVENT
BEGIN:VEVENT
DTSTART;TZID=Europe/Madrid:20260123T210000
DTEND;TZID=Europe/Madrid:20260123T230000
DTSTAMP:20260421T030107
CREATED:20260121T184706Z
LAST-MODIFIED:20260121T184706Z
UID:27498-1769202000-1769209200@www.carnavaldecadiz.com
SUMMARY:Gaditana de Improvisación en el Pay-pay
DESCRIPTION:
URL:https://www.carnavaldecadiz.com/event/gaditana-de-improvisacion-en-el-pay-pay/
LOCATION:Café Tatro Pay Pay\, C/ Silencio\, Cádiz\, Cádiz\, 11002
CATEGORIES:Mucho más que carnaval
END:VEVENT
BEGIN:VEVENT
DTSTART;TZID=Europe/Madrid:20260127T200000
DTEND;TZID=Europe/Madrid:20260127T220000
DTSTAMP:20260421T030107
CREATED:20250924T212512Z
LAST-MODIFIED:20250924T212512Z
UID:24354-1769544000-1769551200@www.carnavaldecadiz.com
SUMMARY:'EL RAMPER' de Jesús Bienvenido en Madrid
DESCRIPTION:‘El Rámper’ busca\, desde su dimensión social y política\, narrar en primera persona la realidad de la represión desencadenada por los militares sublevados con respecto al Arte en general en España\, concretamente en Andalucía\, así como la importancia de la memoria histórica para la dignidad de las víctimas y para el cierre total de las heridas causadas en aquellos años. \nCompra on-line de  LOCALIDADES
URL:https://www.carnavaldecadiz.com/event/el-ramper-de-jesus-bienvenido-en-madrid-5/
LOCATION:Teatro Maravillas\, Madrid\, calle de Manuela Malasaña 6 centro\, Madrid\, Madrid\, 28004\, Spain
CATEGORIES:Mucho más que carnaval
END:VEVENT
BEGIN:VEVENT
DTSTART;VALUE=DATE:20260131
DTEND;VALUE=DATE:20260202
DTSTAMP:20260421T030107
CREATED:20260114T125851Z
LAST-MODIFIED:20260114T125851Z
UID:27259-1769817600-1769990399@www.carnavaldecadiz.com
SUMMARY:Taller de Creación de Chirigota
DESCRIPTION:TALLER PARA LA CREACIÓN COLECTIVA Y PUESTA EN ESCENA DE UNA CHIRIGOTA \nLa Fundación Cultural de Cercedilla te brinda la posibilidad de aprender a componer y representar una chirigota de la mano de la gaditana Susana Ginesta\, compositora de las Cadiwoman \nSábado 31 de enero y domingo 1 de febrero de 10h00 a 14h00 en el local de la Fundación Cultural de Cercedilla (Plaza de la Biblioteca) \nTaller gratuito para público adulto.\nNo se necesita ninguna experiencia previa.\nPlazas limitadas. \nInscripciones a través del correo fundacionculturalcercedilla@gmail.com\nDinos tu nombre\, tu teléfono y por qué te interesa apuntarte. \n¡Te esperamos!
URL:https://www.carnavaldecadiz.com/event/taller-de-creacion-de-chirigota/
LOCATION:Fundación Cultural Cercedilla\, calle de la Biblioteca\, Cercedilla\, Madrid\, 28470\, Spain
CATEGORIES:carnaval callejero,carnaval feminista,Mucho más que carnaval
END:VEVENT
END:VCALENDAR