BEGIN:VCALENDAR
VERSION:2.0
PRODID:-//Carnaval de C&aacute;diz - ECPv6.15.20//NONSGML v1.0//EN
CALSCALE:GREGORIAN
METHOD:PUBLISH
X-ORIGINAL-URL:https://www.carnavaldecadiz.com
X-WR-CALDESC:Eventos para Carnaval de C&aacute;diz
REFRESH-INTERVAL;VALUE=DURATION:PT1H
X-Robots-Tag:noindex
X-PUBLISHED-TTL:PT1H
BEGIN:VTIMEZONE
TZID:Europe/Madrid
BEGIN:DAYLIGHT
TZOFFSETFROM:+0100
TZOFFSETTO:+0200
TZNAME:CEST
DTSTART:20240331T010000
END:DAYLIGHT
BEGIN:STANDARD
TZOFFSETFROM:+0200
TZOFFSETTO:+0100
TZNAME:CET
DTSTART:20241027T010000
END:STANDARD
BEGIN:DAYLIGHT
TZOFFSETFROM:+0100
TZOFFSETTO:+0200
TZNAME:CEST
DTSTART:20250330T010000
END:DAYLIGHT
BEGIN:STANDARD
TZOFFSETFROM:+0200
TZOFFSETTO:+0100
TZNAME:CET
DTSTART:20251026T010000
END:STANDARD
BEGIN:DAYLIGHT
TZOFFSETFROM:+0100
TZOFFSETTO:+0200
TZNAME:CEST
DTSTART:20260329T010000
END:DAYLIGHT
BEGIN:STANDARD
TZOFFSETFROM:+0200
TZOFFSETTO:+0100
TZNAME:CET
DTSTART:20261025T010000
END:STANDARD
END:VTIMEZONE
BEGIN:VEVENT
DTSTART;TZID=Europe/Madrid:20251101T220000
DTEND;TZID=Europe/Madrid:20251101T233000
DTSTAMP:20260421T061352
CREATED:20251027T113951Z
LAST-MODIFIED:20251027T113951Z
UID:25465-1762034400-1762039800@www.carnavaldecadiz.com
SUMMARY:Match de Improvisación en Sugar Café
DESCRIPTION:Gaditana de Improvisación tiene entre sus componentes conocidos interpretes de romancero gaditano. \nEvento público de libre acceso.
URL:https://www.carnavaldecadiz.com/event/match-de-improvisacion-en-sugar-cafe-6/
LOCATION:Sugar Café\, San Fernando\, calle Hermanos Lahué 18\, San Fernando\, Cádiz\, 11100\, España
CATEGORIES:Mucho más que carnaval
END:VEVENT
BEGIN:VEVENT
DTSTART;TZID=Europe/Madrid:20251102T120000
DTEND;TZID=Europe/Madrid:20251102T140000
DTSTAMP:20260421T061352
CREATED:20251011T115405Z
LAST-MODIFIED:20251011T115405Z
UID:24947-1762084800-1762092000@www.carnavaldecadiz.com
SUMMARY:Presentación y Firma de 'Carnaval de Cádiz y Educación'
DESCRIPTION:En la presentación participarán los autores de ‘Carvnaval de Cádiz y Educación’\, Álvaro Pérez y Joaquín Revuelta\, y el autor de carnaval José Antonio Vera. \nEvento tendrá lugar en el seno de la Feria del Libro\, en los Jardines de Murillo\, caseta 31 y es público de libre acceso.
URL:https://www.carnavaldecadiz.com/event/presentacion-y-firma-de-carnaval-de-cadiz-y-educacion/
LOCATION:Jardines de Murillo\, Sevilla\, Jardines de Murillo\, Sevilla\, Sevilla\, 41001\, Spain
CATEGORIES:Libros de Carnaval,Mucho más que carnaval
END:VEVENT
BEGIN:VEVENT
DTSTART;TZID=Europe/Madrid:20251106T210000
DTEND;TZID=Europe/Madrid:20251106T233000
DTSTAMP:20260421T061352
CREATED:20251027T115329Z
LAST-MODIFIED:20251027T115329Z
UID:25469-1762462800-1762471800@www.carnavaldecadiz.com
SUMMARY:Match de Improvisación en el Pay-pay
DESCRIPTION:Gaditana de Improvisación es un grupo compuesto por conocidos interpretes y autores de romancero. \nCompra y reserva de localidades en Café Teatro Pay-pay
URL:https://www.carnavaldecadiz.com/event/match-de-improvisacion-en-el-pay-pay-8/
LOCATION:Café Tatro Pay Pay\, C/ Silencio\, Cádiz\, Cádiz\, 11002
CATEGORIES:Mucho más que carnaval
END:VEVENT
BEGIN:VEVENT
DTSTART;TZID=Europe/Madrid:20251107T183000
DTEND;TZID=Europe/Madrid:20251107T203000
DTSTAMP:20260421T061352
CREATED:20251020T211926Z
LAST-MODIFIED:20251020T211926Z
UID:25349-1762540200-1762547400@www.carnavaldecadiz.com
SUMMARY:XI Tertulia Feminista de Carnaval. Laura Rivero Ramos
DESCRIPTION:En esta ocasión la Tertulia Feminista de Carnaval cuenta como invitada a Laura Rivero Ramos que a demás de ser la directora de uno de los coros que con más fuerza año tras año optan a obtener el primer premio de la modalidad\, es la secretaria de la Asociación de Coristas Gaditanos. Vamos a conocer un poco mejor su vinculación con la fiesta y seguro que nos descubrirá alguna que otra cuestión que nos sorprenderá. \nEvento público de libre acceso. \nPara saber más de la TERTULIA FEMINISTA
URL:https://www.carnavaldecadiz.com/event/xi-tertulia-feminista-de-carnaval-laura-rivero-ramos/
LOCATION:Librería La lectora\, calle ancha 32\, Cádiz\, Cádiz\, 11011\, Spain
CATEGORIES:mesa de debate,Mucho más que carnaval
ATTACH;FMTTYPE=image/png:https://www.carnavaldecadiz.com/wp-content/uploads/2025/10/11-Cartel_11_07_2025-400.png
END:VEVENT
BEGIN:VEVENT
DTSTART;TZID=Europe/Madrid:20251108T130000
DTEND;TZID=Europe/Madrid:20251108T170000
DTSTAMP:20260421T061352
CREATED:20251016T150324Z
LAST-MODIFIED:20251016T150324Z
UID:25151-1762606800-1762621200@www.carnavaldecadiz.com
SUMMARY:'La mujer en el Carnaval' en Calañas
DESCRIPTION:Comida de convivencia\, café y dulces\, seguida de una charla-coloquio sobre el papel de la mujer en el Carnaval\, donde participarán y cantarán mujeres carnavaleras de Calañas\, Valverde del Camino y Cádiz; y como broche de oro… ¡una actuación estelar que no querrás perderte! \n\nPalmi Santander\nDébora Sánchez\nMarta Ríos\nManuel Cornejo\n\nEvento público de libre acceso
URL:https://www.carnavaldecadiz.com/event/la-mujer-en-el-carnaval-en-calanas/
LOCATION:Calañas\, Calañas\, Huelva\, 21300\, Spain
CATEGORIES:actuaciones de carnaval,mesa de debate,Mucho más que carnaval
END:VEVENT
BEGIN:VEVENT
DTSTART;TZID=Europe/Madrid:20251112T193000
DTEND;TZID=Europe/Madrid:20251112T210000
DTSTAMP:20260421T061352
CREATED:20251112T002139Z
LAST-MODIFIED:20251112T002139Z
UID:26137-1762975800-1762981200@www.carnavaldecadiz.com
SUMMARY:Charla Divulgativa 'MATEMÁTICAS: LA NUEVA MEDICINA' por Ana Niño
DESCRIPTION:Ana Niño además de ser una enorme autora de e intérprete de romanceros es una apasionada Matemática. \nEvento público de libre acceso.
URL:https://www.carnavaldecadiz.com/event/charla-divulgativa-matematicas-la-nueva-medicina-por-ana-nino/
LOCATION:La Cara B\, Cádiz\, calle Isabel la Católica 3\, Cádiz\, Cádiz\, 11004\, Spain
CATEGORIES:Mucho más que carnaval
END:VEVENT
BEGIN:VEVENT
DTSTART;TZID=Europe/Madrid:20251113T190000
DTEND;TZID=Europe/Madrid:20251113T210000
DTSTAMP:20260421T061352
CREATED:20251110T180347Z
LAST-MODIFIED:20251112T223737Z
UID:26021-1763060400-1763067600@www.carnavaldecadiz.com
SUMMARY:Firma de libros de David Magrañal
DESCRIPTION:David Magrañal es un peculiar intérprete y autor de romanceros de carnaval además de un maravilloso novelista. \nEventos públicos de libre acceso.
URL:https://www.carnavaldecadiz.com/event/firma-de-libros-de-david-magranal/
LOCATION:Peña Los Adoquines\, calle Sagasta 91\, Cádiz\, Cádiz\, 11002\, España
CATEGORIES:Mucho más que carnaval
END:VEVENT
BEGIN:VEVENT
DTSTART;TZID=Europe/Madrid:20251113T203000
DTEND;TZID=Europe/Madrid:20251113T223000
DTSTAMP:20260421T061352
CREATED:20251112T224232Z
LAST-MODIFIED:20251112T224232Z
UID:26152-1763065800-1763073000@www.carnavaldecadiz.com
SUMMARY:Txapela de Cádiz en Sugar Café
DESCRIPTION:Txapela de Cádiz ostenta el primer premio de Romanceros del Concurso Organizado por el Ayuntamiento de Cádiz en 2025 además de ser un gran humorista. \nEvento público de libre acceso
URL:https://www.carnavaldecadiz.com/event/txapela-de-cadiz-en-sugar-cafe/
LOCATION:Sugar Café\, San Fernando\, calle Hermanos Lahué 18\, San Fernando\, Cádiz\, 11100\, España
CATEGORIES:Mucho más que carnaval
END:VEVENT
BEGIN:VEVENT
DTSTART;TZID=Europe/Madrid:20251114T200000
DTEND;TZID=Europe/Madrid:20251114T220000
DTSTAMP:20260421T061352
CREATED:20251031T150459Z
LAST-MODIFIED:20251031T150459Z
UID:25635-1763150400-1763157600@www.carnavaldecadiz.com
SUMMARY:Encuentro con Pamela Palenciano 'NO ES TÓXICO ES VIOLENCIA'
DESCRIPTION:Evento público de libre acceso.
URL:https://www.carnavaldecadiz.com/event/encuentro-con-pamela-palenciano-no-es-toxico-es-violencia/
LOCATION:La Cara B\, Cádiz\, calle Isabel la Católica 3\, Cádiz\, Cádiz\, 11004\, Spain
CATEGORIES:Mucho más que carnaval
END:VEVENT
BEGIN:VEVENT
DTSTART;TZID=Europe/Madrid:20251117T080000
DTEND;TZID=Europe/Madrid:20251117T170000
DTSTAMP:20260421T061352
CREATED:20251117T125051Z
LAST-MODIFIED:20251117T125051Z
UID:26277-1763366400-1763398800@www.carnavaldecadiz.com
SUMMARY:'NOVÍSSIMA TROVA GADITANA' en La Cara B
DESCRIPTION:La Novíssima Trova Gaditana\, la componen los siguientes catautores: \n\nNacho Dueñas\nGalindo\nKarina de Yemanjá\nCarmen Escamilla\nJosé Pereira\nManuel Sevilla\nNando\nEl cansautor alopécico\nCuqui Baker\n\nEvento público de libre acceso. Taquilla Inversa
URL:https://www.carnavaldecadiz.com/event/novissima-trova-gaditana-en-la-cara-b/
LOCATION:Cádiz
CATEGORIES:Mucho más que carnaval
END:VEVENT
BEGIN:VEVENT
DTSTART;TZID=Europe/Madrid:20251118T183000
DTEND;TZID=Europe/Madrid:20251118T203000
DTSTAMP:20260421T061352
CREATED:20251117T123359Z
LAST-MODIFIED:20251117T123359Z
UID:26269-1763490600-1763497800@www.carnavaldecadiz.com
SUMMARY:Conferencia de Alberto Ramos Santana 'Son de piedra y no se notan...'
DESCRIPTION:Singularidad de las murallas de Cádiz. a cargo de D. Alberto Ramos Santana\, Catedrático Hemérito de la Universidad de Cádiz y Director de la Cátedra de Carnaval de la UCA. \nEvento público de libre acceso.
URL:https://www.carnavaldecadiz.com/event/conferencia-de-alberto-ramos-santana-son-de-piedra-y-no-se-notan/
LOCATION:Museo de las Cortes\, Cádiz\, calle Santa Inés \, 9\, Cádiz\, Cádiz\, 11003\, Spain
CATEGORIES:Mucho más que carnaval
END:VEVENT
BEGIN:VEVENT
DTSTART;TZID=Europe/Madrid:20251118T200000
DTEND;TZID=Europe/Madrid:20251118T220000
DTSTAMP:20260421T061352
CREATED:20250924T211831Z
LAST-MODIFIED:20250924T211831Z
UID:24349-1763496000-1763503200@www.carnavaldecadiz.com
SUMMARY:'EL RAMPER' de Jesús Bienvenido en Madrid
DESCRIPTION:‘El Rámper’ busca\, desde su dimensión social y política\, narrar en primera persona la realidad de la represión desencadenada por los militares sublevados con respecto al Arte en general en España\, concretamente en Andalucía\, así como la importancia de la memoria histórica para la dignidad de las víctimas y para el cierre total de las heridas causadas en aquellos años. \nCompra on-line de LOCALIDADES
URL:https://www.carnavaldecadiz.com/event/el-ramper-de-jesus-bienvenido-en-madrid-3/
LOCATION:Teatro Maravillas\, Madrid\, calle de Manuela Malasaña 6 centro\, Madrid\, Madrid\, 28004\, Spain
CATEGORIES:Mucho más que carnaval
END:VEVENT
BEGIN:VEVENT
DTSTART;TZID=Europe/Madrid:20251120T190000
DTEND;TZID=Europe/Madrid:20251120T203000
DTSTAMP:20260421T061352
CREATED:20251117T124249Z
LAST-MODIFIED:20251117T124249Z
UID:26273-1763665200-1763670600@www.carnavaldecadiz.com
SUMMARY:Presentación de la Reedición de 'LAS MIL NOCHES DE HORTENSIA ROMERO'
DESCRIPTION:El acto contará con la participación de Juan José Sánchez Sandoval\, Mariela Quiñones Consolani y Felipe Benítez Reyes. \nHortensia Romero\, la Legionaria\, cobrará vida en la voz de Susi Rosado. \nEvento público de libre acceso.
URL:https://www.carnavaldecadiz.com/event/presentacion-de-la-reedicion-de-las-mil-noches-de-hortensia-romero/
LOCATION:Biblioteca Provincial\, Cádiz\, Avenida Cuatro de Diciembre de 1977\, 16\, Cádiz\, Cádiz\, 11006\, Spain
CATEGORIES:Mucho más que carnaval
END:VEVENT
BEGIN:VEVENT
DTSTART;VALUE=DATE:20251121
DTEND;VALUE=DATE:20251124
DTSTAMP:20260421T061352
CREATED:20251115T200446Z
LAST-MODIFIED:20251115T200446Z
UID:26226-1763683200-1763942399@www.carnavaldecadiz.com
SUMMARY:Festival Solidario de Teatro con 'AMIGAS DEL SUR'
DESCRIPTION:Madrina y Padrino de Honor del Festival: Koki Sánchez y Bruto Pomeroy \nPROGRAMA \nViernes 21 de noviembre a las 20:00h \n\nMaría Caballero\nEl interés de las personas\n“To´los años iguá’\n\nSábado 22 de noviembre a las 20:00h \n\nEntre rejas\nEl núcleo\nUna visita inesperada\n\nDomingo 23 de noviembre a las 20:00h \n\nNo ni ná\nSi yo fuera rica\n\nEntrada solidaria un día 9€ \nBono solidario de tres días 20€ \nPuntos de venta: Sede Amigas del Sur – 624 485 142 \n 
URL:https://www.carnavaldecadiz.com/event/festival-solidario-de-teatro-con-amigas-del-sur/
LOCATION:Auditorio Esclavas\, Cádiz\, Avenida Andalucía\, 50\, Cádiz\, Cádiz\, Spain
CATEGORIES:Mucho más que carnaval
END:VEVENT
BEGIN:VEVENT
DTSTART;TZID=Europe/Madrid:20251122T153000
DTEND;TZID=Europe/Madrid:20251122T170000
DTSTAMP:20260421T061352
CREATED:20251121T152158Z
LAST-MODIFIED:20251121T152158Z
UID:26371-1763825400-1763830800@www.carnavaldecadiz.com
SUMMARY:Tardeo Flamenco con Aroa Ripoll
DESCRIPTION:Evento público de libre acceso.
URL:https://www.carnavaldecadiz.com/event/tardeo-flamenco-con-aroa-ripoll/
LOCATION:El Fondeo\, El Puerto de Santa María\, Avenida de la Libertad\, El Puerto de Santa María\, Cádiz\, 11500\, Spain
CATEGORIES:Mucho más que carnaval
END:VEVENT
BEGIN:VEVENT
DTSTART;TZID=Europe/Madrid:20251128T200000
DTEND;TZID=Europe/Madrid:20251128T213000
DTSTAMP:20260421T061352
CREATED:20251117T144015Z
LAST-MODIFIED:20251117T144015Z
UID:26289-1764360000-1764365400@www.carnavaldecadiz.com
SUMMARY:'EL RAMPER' de Jesús Bienvenido en Vejer
DESCRIPTION:Para que todos puedan disfrutar de la gran obra teatral y musical del 28 de noviembre\, la venta de entradas estará limitada a un máximo de 5 por persona. \nEntradas disponibles en la taquilla del teatro: \n\nMartes 11\, jueves 13 y viernes 14 de noviembre: de 16:30 a 18:30 h\nMiércoles 12 de noviembre: de 11:00 a 13:00 h\n\nDonativo 4€
URL:https://www.carnavaldecadiz.com/event/el-ramper-de-jesus-bienvenido-en-vejer/
LOCATION:Teatro Municipal San Francisco\, Vejer\, calle San Francisco\, 3\, Vejer de la Frontera\, Cádiz\, 11150\, Spain
CATEGORIES:Mucho más que carnaval
END:VEVENT
END:VCALENDAR