BEGIN:VCALENDAR
VERSION:2.0
PRODID:-//Carnaval de C&aacute;diz - ECPv6.15.20//NONSGML v1.0//EN
CALSCALE:GREGORIAN
METHOD:PUBLISH
X-ORIGINAL-URL:https://www.carnavaldecadiz.com
X-WR-CALDESC:Eventos para Carnaval de C&aacute;diz
REFRESH-INTERVAL;VALUE=DURATION:PT1H
X-Robots-Tag:noindex
X-PUBLISHED-TTL:PT1H
BEGIN:VTIMEZONE
TZID:Europe/Madrid
BEGIN:DAYLIGHT
TZOFFSETFROM:+0100
TZOFFSETTO:+0200
TZNAME:CEST
DTSTART:20240331T010000
END:DAYLIGHT
BEGIN:STANDARD
TZOFFSETFROM:+0200
TZOFFSETTO:+0100
TZNAME:CET
DTSTART:20241027T010000
END:STANDARD
BEGIN:DAYLIGHT
TZOFFSETFROM:+0100
TZOFFSETTO:+0200
TZNAME:CEST
DTSTART:20250330T010000
END:DAYLIGHT
BEGIN:STANDARD
TZOFFSETFROM:+0200
TZOFFSETTO:+0100
TZNAME:CET
DTSTART:20251026T010000
END:STANDARD
BEGIN:DAYLIGHT
TZOFFSETFROM:+0100
TZOFFSETTO:+0200
TZNAME:CEST
DTSTART:20260329T010000
END:DAYLIGHT
BEGIN:STANDARD
TZOFFSETFROM:+0200
TZOFFSETTO:+0100
TZNAME:CET
DTSTART:20261025T010000
END:STANDARD
END:VTIMEZONE
BEGIN:VEVENT
DTSTART;TZID=Europe/Madrid:20250701T120000
DTEND;TZID=Europe/Madrid:20250701T133000
DTSTAMP:20260421T123036
CREATED:20250623T183542Z
LAST-MODIFIED:20250623T183543Z
UID:21699-1751371200-1751376600@www.carnavaldecadiz.com
SUMMARY:XL Feria del Libro de Cádiz - Juanma Romero Bey
DESCRIPTION:Nos hacemos eco de los eventos en los que participen personas vinculadas al Carnaval de Cádiz. \nEn la Sala Rafael de Cozar \nPoesía. El milagro de la sal\, de Juanma Romero Bey con Emir Romero. \nEvento público de libre acceso \nXL Feria del Libro de Cádiz – PROGRAMA COMPLETO
URL:https://www.carnavaldecadiz.com/event/xl-feria-del-libro-de-cadiz-juanma-romero-bey/
LOCATION:Baluarte de Candelaria\, Alameda Hermanas Carvia Bernal 6\, Cádiz\, Cádiz\, 11003\, España
CATEGORIES:Mucho más que carnaval
END:VEVENT
BEGIN:VEVENT
DTSTART;TZID=Europe/Madrid:20250701T200000
DTEND;TZID=Europe/Madrid:20250701T213000
DTSTAMP:20260421T123036
CREATED:20250610T120808Z
LAST-MODIFIED:20250610T121301Z
UID:21428-1751400000-1751405400@www.carnavaldecadiz.com
SUMMARY:Representación de 'LA REINA BRAVA'
DESCRIPTION:Partiendo de una historia real y conocida\, aunque rápidamente olvidada\, la compañía Las Niñas de Cádiz se sumerge en su nuevo espectáculo en un inquietante mundo de intrigas y traiciones palaciegas con tintes de thriller\, habitado por personajes gobernados por el instinto\, por la pasión\, que ni dudan ni se arrepienten de ser como son. La compañía gaditana presenta en Feria de Palma ‘La reina Brava’\, su trabajo más reciente\, que nace\, como ya lo hicieran sus tres últimos montajes\, de la fusión de los clásicos del teatro universal con el arte iconoclasta del carnaval de Cádiz. Escrito y dirigido por Ana López Segovia y con un elenco formado por Alicia Rodriguez\, Ana López Segovia y Rocío Segovia. el montaje se inspira en Shakespeare\, el teatro isabelino\, el romance castellano\, la sátira política y el drama histórico\, se trata de una comedia trágica que fusiona lo clásico con la frescura y el ingenio propios de Las Niñas de Cádiz. Esta obra nos traslada a una corte llena de intrigas\, donde una reina tiránica\, odiada por todos\, es asesinada por una madre movida por el ansia de venganza. El crimen da paso a un juicio vergonzante y una condena al olvido. \nCompra on-line de LOCALIDADES
URL:https://www.carnavaldecadiz.com/event/representacion-de-la-reina-brava/
LOCATION:Sala Reina Victoria\, Palma del Río\, Avenida Pío XII\, Palma del Río\, Córdoba\, 14700\, Spain
CATEGORIES:Mucho más que carnaval
END:VEVENT
BEGIN:VEVENT
DTSTART;TZID=Europe/Madrid:20250701T203000
DTEND;TZID=Europe/Madrid:20250701T220000
DTSTAMP:20260421T123036
CREATED:20250623T185200Z
LAST-MODIFIED:20250623T185200Z
UID:21703-1751401800-1751407200@www.carnavaldecadiz.com
SUMMARY:XL Feria del Libro de Cádiz - Selu García Cossio
DESCRIPTION:Nos hacemos eco de los eventos en los que participen personas vinculadas al Carnaval de Cádiz. \nEn el Espacio Pilar Paz Pasamar \nEl mundo es nuestro\, de ‘Los compadres’ con Selu García Cossío. \nEvento público de libre acceso \nXL Feria del Libro de Cádiz – PROGRAMA COMPLETO
URL:https://www.carnavaldecadiz.com/event/xl-feria-del-libro-de-cadiz-selu-garcia-cossio/
LOCATION:Baluarte de Candelaria\, Alameda Hermanas Carvia Bernal 6\, Cádiz\, Cádiz\, 11003\, España
CATEGORIES:Mucho más que carnaval
END:VEVENT
BEGIN:VEVENT
DTSTART;TZID=Europe/Madrid:20250701T213000
DTEND;TZID=Europe/Madrid:20250701T230000
DTSTAMP:20260421T123036
CREATED:20250623T185914Z
LAST-MODIFIED:20250623T185914Z
UID:21705-1751405400-1751410800@www.carnavaldecadiz.com
SUMMARY:XL Feria del Libro de Cádiz - J.M. Sánchez Reyes
DESCRIPTION:Nos hacemos eco de los eventos en los que participen personas vinculadas al Carnaval de Cádiz. \nEn el Espacio Pilar Paz Pasamar \nMágico González y los libros\, Joaquín Hernández ‘Kiki’\, Pepe Mata\, y JM Sánchez Reyes. \nEvento público de libre acceso \nXL Feria del Libro de Cádiz – PROGRAMA COMPLETO
URL:https://www.carnavaldecadiz.com/event/xl-feria-del-libro-de-cadiz-j-m-sanchez-reyes/
LOCATION:Baluarte de Candelaria\, Alameda Hermanas Carvia Bernal 6\, Cádiz\, Cádiz\, 11003\, España
CATEGORIES:Mucho más que carnaval
END:VEVENT
BEGIN:VEVENT
DTSTART;TZID=Europe/Madrid:20250702T100000
DTEND;TZID=Europe/Madrid:20250702T120000
DTSTAMP:20260421T123036
CREATED:20250623T190633Z
LAST-MODIFIED:20250623T190633Z
UID:21708-1751450400-1751457600@www.carnavaldecadiz.com
SUMMARY:XL Feria del Libro de Cádiz - Ruta Historias del Carnaval
DESCRIPTION:Nos hacemos eco de los eventos en los que participen personas vinculadas al Carnaval de Cádiz. \nRuta ‘Historias del Carnaval que nunca te contaron’\, con David Monthiel \nEvento público de libre acceso \nXL Feria del Libro de Cádiz – PROGRAMA COMPLETO
URL:https://www.carnavaldecadiz.com/event/xl-feria-del-libro-de-cadiz-ruta-historias-del-carnaval/
LOCATION:Gran Teatro Falla\, Plaza Fragela s/n\, Cádiz\, Cádiz\, 11003\, España
CATEGORIES:Mucho más que carnaval
END:VEVENT
BEGIN:VEVENT
DTSTART;VALUE=DATE:20250703
DTEND;VALUE=DATE:20250714
DTSTAMP:20260421T123036
CREATED:20250309T211549Z
LAST-MODIFIED:20250309T211549Z
UID:18984-1751500800-1752451199@www.carnavaldecadiz.com
SUMMARY:LAS BINGUERAS DE EURÍPIDES en el Teatro La Latina
DESCRIPTION:Dionisio baja a la Tierra en forma de mujer para enfrentarse ɑ El Suasenaguer\, un policía que está empeñado en cerrar un bingo ilegal de barrio\, donde se reúne cada tarde un grupo de mujeres no solo para jugar\, sino también para compartir sus intimidades\, sus penas\, sus alegrías\, y alguna que otra copita de anís. Servando\, compañero de trabajo de El Suasenaguer\, intentará disuadirlo de sus intenciones\, mostrándole que en la vida a veces hay que ser más flexible y permisivo. Pero el joven y fanático policía\, obsesionado con el cumplimiento de la ley\, desoirá sus consejos\, arrastrando a todos a un final trágico y espeluznante. \nCompra de localidades
URL:https://www.carnavaldecadiz.com/event/las-bingueras-de-euripides-en-el-teatro-la-latina/
LOCATION:Teatro la Latina\, Plaza de la cebada 2\, Madrid\, Madrid\, 28005\, España
CATEGORIES:Mucho más que carnaval
END:VEVENT
BEGIN:VEVENT
DTSTART;TZID=Europe/Madrid:20250703T193000
DTEND;TZID=Europe/Madrid:20250703T210000
DTSTAMP:20260421T123036
CREATED:20250623T191526Z
LAST-MODIFIED:20250623T191526Z
UID:21711-1751571000-1751576400@www.carnavaldecadiz.com
SUMMARY:XL Feria del Libro de Cádiz - Miguel Ángel García Argüéz
DESCRIPTION:Nos hacemos eco de los eventos en los que participen personas vinculadas al Carnaval de Cádiz. \nEn el Espacio Pilar Paz Pasamar \nPiconeros Galácticos\, Torres Quesada y los pioneros de la ciencia-ficción en Cádiz. Rafael Marín\,  Joaquín Revuelta y Miguel Ángel García Argüéz. \nEvento público de libre acceso \nXL Feria del Libro de Cádiz – PROGRAMA COMPLETO
URL:https://www.carnavaldecadiz.com/event/xl-feria-del-libro-de-cadiz-miguel-angel-garcia-arguez/
LOCATION:Baluarte de Candelaria\, Alameda Hermanas Carvia Bernal 6\, Cádiz\, Cádiz\, 11003\, España
CATEGORIES:Mucho más que carnaval
END:VEVENT
BEGIN:VEVENT
DTSTART;TZID=Europe/Madrid:20250704T193000
DTEND;TZID=Europe/Madrid:20250704T210000
DTSTAMP:20260421T123036
CREATED:20250623T192553Z
LAST-MODIFIED:20250623T192612Z
UID:21714-1751657400-1751662800@www.carnavaldecadiz.com
SUMMARY:XL Feria del Libros de Cádiz - Luis M. Rossi y J.A. Vera Luque
DESCRIPTION:Nos hacemos eco de los eventos en los que participen personas vinculadas al Carnaval de Cádiz. \nEn el Espacio Pilar Paz Pasamar \n1895 Reina Regente\, de Luis M. Rossi\, con José Antonio Vera Luque y Mabel Caballero. \nEvento público de libre acceso \nXL Feria del Libro de Cádiz – PROGRAMA COMPLETO
URL:https://www.carnavaldecadiz.com/event/xl-feria-del-libros-de-cadiz-luis-m-rossi-y-j-a-vera-luque/
LOCATION:Baluarte de Candelaria\, Alameda Hermanas Carvia Bernal 6\, Cádiz\, Cádiz\, 11003\, España
CATEGORIES:Mucho más que carnaval
END:VEVENT
BEGIN:VEVENT
DTSTART;TZID=Europe/Madrid:20250704T203000
DTEND;TZID=Europe/Madrid:20250704T220000
DTSTAMP:20260421T123036
CREATED:20250623T193346Z
LAST-MODIFIED:20250623T193346Z
UID:21717-1751661000-1751666400@www.carnavaldecadiz.com
SUMMARY:XL Feria del Libro de Cádiz - Marta Ortiz
DESCRIPTION:Nos hacemos eco de los eventos en los que participen personas vinculadas al Carnaval de Cádiz. \nEn el Espacio Pilar Paz Pasamar \nUn Carnaval de ida y vuelta. con David Monthiel\, Marta Ortiz y Javi de la Fuente. \nEvento público de libre acceso \nXL Feria del Libro de Cádiz – PROGRAMA COMPLETO
URL:https://www.carnavaldecadiz.com/event/xl-feria-del-libro-de-cadiz-marta-ortiz/
LOCATION:Baluarte de Candelaria\, Alameda Hermanas Carvia Bernal 6\, Cádiz\, Cádiz\, 11003\, España
CATEGORIES:Mucho más que carnaval
END:VEVENT
BEGIN:VEVENT
DTSTART;TZID=Europe/Madrid:20250705T183000
DTEND;TZID=Europe/Madrid:20250705T200000
DTSTAMP:20260421T123036
CREATED:20250624T114937Z
LAST-MODIFIED:20250624T114937Z
UID:21742-1751740200-1751745600@www.carnavaldecadiz.com
SUMMARY:Quique de la Fuente y Txapela de Cádiz en Málaga
DESCRIPTION:
URL:https://www.carnavaldecadiz.com/event/quique-de-la-fuente-y-txapela-de-cadiz-en-malaga/
LOCATION:La cochera cabaret\, Avenida de los Guindos 19\, Málaga\, Málaga\, 29004\, España
CATEGORIES:Mucho más que carnaval
END:VEVENT
BEGIN:VEVENT
DTSTART;TZID=Europe/Madrid:20250705T200000
DTEND;TZID=Europe/Madrid:20250705T213000
DTSTAMP:20260421T123036
CREATED:20250623T194936Z
LAST-MODIFIED:20250623T194936Z
UID:21721-1751745600-1751751000@www.carnavaldecadiz.com
SUMMARY:XL Feria del Libro de Cádiz - Aída R. Agraso y Blanca Flores
DESCRIPTION:Nos hacemos eco de los eventos en los que participen personas vinculadas al Carnaval de Cádiz. \nEn el Espacio Pilar Paz Pasamar \nJuan José Tellez\, álbum familiar\, con juan José Tellez\, Aída R. Agraso\, Blanca Flores y Elena Cuasante. \nEvento público de libre acceso \nXL Feria del Libro de Cádiz – PROGRAMA COMPLETO
URL:https://www.carnavaldecadiz.com/event/xl-feria-del-libro-de-cadiz-aida-r-agraso-y-blanca-flores/
LOCATION:Baluarte de Candelaria\, Alameda Hermanas Carvia Bernal 6\, Cádiz\, Cádiz\, 11003\, España
CATEGORIES:Mucho más que carnaval
END:VEVENT
BEGIN:VEVENT
DTSTART;TZID=Europe/Madrid:20250708T210000
DTEND;TZID=Europe/Madrid:20250708T230000
DTSTAMP:20260421T123036
CREATED:20250706T124158Z
LAST-MODIFIED:20250706T124158Z
UID:21943-1752008400-1752015600@www.carnavaldecadiz.com
SUMMARY:Proyección de 'La rosa y el viento' y coloquio.
DESCRIPTION:Disfrutaremos en esta sesión cinematográfica de la proyección de la película de Manuel Iborra “La rosa y el viento” (2019)\, basada en el relato de Fernando Quiñones del mismo título y protagonizada por Koki Sánchez. Tras el visionado tendrá lugar un coloquio sobre la película\, con la participación de Koe Casas\, Pepe Aguirre y Koki Sánchez. \n Entrada libre hasta completar aforo. Imprescindible reserva previa en el siguiente enlace: https://forms.gle/nrE35fNqA6N4MgXYA
URL:https://www.carnavaldecadiz.com/event/proyeccion-de-la-rosa-y-el-viento-y-coloquio/
LOCATION:Castillo de Santa Catalina\, campo de las balas s/n\, Cádiz\, Cádiz\, España
CATEGORIES:Mucho más que carnaval
END:VEVENT
BEGIN:VEVENT
DTSTART;TZID=Europe/Madrid:20250712T200000
DTEND;TZID=Europe/Madrid:20250712T220000
DTSTAMP:20260421T123036
CREATED:20250707T113307Z
LAST-MODIFIED:20250707T113425Z
UID:21950-1752350400-1752357600@www.carnavaldecadiz.com
SUMMARY:Ruta contada y cantada - 'Cádiz y su Teatro Falla'
DESCRIPTION:Construido sobre las ruinas de un antiguo teatro de madera que fue pasto de las llamas. Vive con nosotros una experiencia única. Conoce las entrañas del Gran Teatro Falla: su escenario\, sus camerinos\, el gallinero\,… Descubre su centenaria historia\, su arquitectura\, las pasiones y anécdotas de su Concurso de Carnaval. En definitiva\, todo un emblema de nuestra ciudad. \n\n​Contada y cantada por Santiago Moreno y Francis Sevilla Pecci.\nDuración: 2 horas aprox.\nPrecio: 18 € por persona.\nMenores de 12 años no pagan.\nPrecio especial para grupos (consultar).\nReservas en reservas@1d3milhistorias.com / 690298902 / 609034072​\nVenta directa en los quioscos de City Expert en Cádiz\, Plaza de San Juan de Dios.\n\nLugar de inicio: Fachada principal del Gran Teatro Falla.
URL:https://www.carnavaldecadiz.com/event/ruta-contada-y-cantada-cadiz-y-su-teatro-falla/
LOCATION:Plaza Fragela\, Cádiz\, Plaza Fragela\, Cádiz\, Cádiz\, 11003\, España
CATEGORIES:Mucho más que carnaval,Ruta Cultural
END:VEVENT
BEGIN:VEVENT
DTSTART;VALUE=DATE:20250716
DTEND;VALUE=DATE:20250720
DTSTAMP:20260421T123036
CREATED:20250608T220923Z
LAST-MODIFIED:20250708T003311Z
UID:21367-1752624000-1752969599@www.carnavaldecadiz.com
SUMMARY:Semana Cultural La Salle Viña
DESCRIPTION:PROGRAMA\nMiércoles 16 de julio\, pregón de la semana cultural\, a partir de las 20:30h. \nPregoneros el Cuarteto del Gago: Miguel Ángel Moreno\, Ángel Gago\, Emilio Tello\, Francisco Javier González ‘Chicho’ y José Manuel Figueroa con ‘Ku Klux Klan Klan’ \nCon la participación del cuarteto infantil ‘A que voy yo y lo encuentro’ y el cuarteto juvenil ‘Este cuarteto no da abasto’ \nActuaciones: \n\nLa chirigota de Lubet\nComparsa LA RESISTENCIA\nComparsa EL CEMENTERIO\n\nJueves 17 de julio\, dedicado a la mujer\, a partir de las 19:30h. \nActuaciones:  \n\nChirigota infantil SI TU QUIERES SER FELIZ\nComparsa juvenil LA SELVA\n\nReivindicación de la Asociación Pro Derechos Humanos de Andalucía (APDHA) en defensa de los derechos de la mujer. \nActuaciones: \n\nCoro CÁDIZ\, EL SHOW\nComparsa LA VALLA\nComparsa LA MALA\nComparsa LA CHULITA\n\nViernes 18 de julio\, noche de carnaval\, a partir de las 21:00h. \nActuaciones: \n\nChirigota juvenil LAS GITANERAS\nCoro EL LADO OSCURO\nCoro LAS ENTRAÑAS DE CÁDIZ\nCoro EL GALLINERO\nChirigota LOS SHERIJUEGOS\nComparsa DES-OBDC\nChirigota UNA CHIRIGOTA CON SHONIKET3\n\nSábado 19 de julio\, dedicado al colectivo LGTBIQ+\, a partir de las 19:30h. \nMano a mano: \n\nCoro infantil LA PROMOCIÓN\nCoro juvenil EL CORO DE LA IA\n\nReivindicación de la Asociación Pro Derechos Humanos de Andalucía (APDAHA) en visibilización y educación en los derechos del colectivo LGTBIQ+ \nActuaciones: \n\nComparsa juvenil GENERACIÓN Z\nLa comparsa de Nene Cheza\nChirigota LOS CENADORES RUMANAS\nComparsa LOS PODEROSOS\nChirigota CUANDO TU VAS\, YO VENGO\n\nFiesta del Orgullo en La Viña: Dj\, Drags Queen invitadas y mesa de Glitter. Organizado por Contarte Eventos. \nTodos los eventos son públicos de libre acceso. \n  \n 
URL:https://www.carnavaldecadiz.com/event/semana-cultural-la-salle-vina/
LOCATION:Plaza Manolo Santander\, Cádiz\, Plaza de la Reina\, Cádiz\, Cádiz\, 11002\, España
CATEGORIES:actuaciones de carnaval,conferencia de carnaval,mesa de debate,Mucho más que carnaval
END:VEVENT
BEGIN:VEVENT
DTSTART;TZID=Europe/Madrid:20250716T213000
DTEND;TZID=Europe/Madrid:20250716T223000
DTSTAMP:20260421T123036
CREATED:20250630T165616Z
LAST-MODIFIED:20250630T165616Z
UID:21840-1752701400-1752705000@www.carnavaldecadiz.com
SUMMARY:'La pícara de Cervantes' en Chiclana
DESCRIPTION:Venta de entradas en las taquillas del Teatro Moderno\, de lunes a viernes de 17:00h a 21:00h y dos horas antes de la función.
URL:https://www.carnavaldecadiz.com/event/la-picara-de-cervantes-en-chiclana/
LOCATION:Teatro Moderno
CATEGORIES:Mucho más que carnaval
END:VEVENT
BEGIN:VEVENT
DTSTART;TZID=Europe/Madrid:20250717T200000
DTEND;TZID=Europe/Madrid:20250717T220000
DTSTAMP:20260421T123036
CREATED:20250707T113621Z
LAST-MODIFIED:20250707T114327Z
UID:21952-1752782400-1752789600@www.carnavaldecadiz.com
SUMMARY:Ruta contada y cantada - 'Cádiz y su Teatro Falla'
DESCRIPTION:Construido sobre las ruinas de un antiguo teatro de madera que fue pasto de las llamas. Vive con nosotros una experiencia única. Conoce las entrañas del Gran Teatro Falla: su escenario\, sus camerinos\, el gallinero\,… Descubre su centenaria historia\, su arquitectura\, las pasiones y anécdotas de su Concurso de Carnaval. En definitiva\, todo un emblema de nuestra ciudad. \n\n​Contada y cantada por Santiago Moreno y Francis Sevilla Pecci.\nDuración: 2 horas aprox.\nPrecio: 18 € por persona.\nMenores de 12 años no pagan.\nPrecio especial para grupos (consultar).\nReservas en reservas@1d3milhistorias.com / 690298902 / 609034072​\nVenta directa en los quioscos de City Expert en Cádiz\, Plaza de San Juan de Dios.\n\nLugar de inicio: Fachada principal del Gran Teatro Falla.
URL:https://www.carnavaldecadiz.com/event/ruta-contada-y-cantada-cadiz-y-su-teatro-falla-2/
LOCATION:Plaza Fragela\, Cádiz\, Plaza Fragela\, Cádiz\, Cádiz\, 11003\, España
CATEGORIES:Mucho más que carnaval,Ruta Cultural
END:VEVENT
BEGIN:VEVENT
DTSTART;TZID=Europe/Madrid:20250718T193000
DTEND;TZID=Europe/Madrid:20250718T213000
DTSTAMP:20260421T123036
CREATED:20250709T111902Z
LAST-MODIFIED:20250709T111902Z
UID:21975-1752867000-1752874200@www.carnavaldecadiz.com
SUMMARY:Ruta Cantada y Contada - Cádiz en posguerra
DESCRIPTION:Los años más oscuros del siglo XX. Al finalizar la Guerra Civil Española dio comienzo un periodo que se caracterizó por el hambre\, el estraperlo\, el miedo\,… y una población con un gran instinto de supervivencia.\nDurante el recorrido se interpreta más de 20 coplas de Carnaval fechadas entre 1948 y 1960. \nRuta contada y cantada por: Santiago Moreno y Francis Sevilla Pecci. \nDuración: dos horas y media aprox. \n\nPrecio: 16 euros por persona (*).\nMenores de 12 años no pagan.\nPrecio especial para grupos (consultar).\n\nEl precio incluye: una degustación de vinos de la tierra y “sustentos” típicos de posguerra -panizas y huevos de frailes- en una taberna gaditana. \nReservas en reservas@1d3milhistorias.com / 690298902 / 609034072​ \nVenta directa en los quioscos de City Expert en Cádiz\, Plaza de San Juan de Dios\,. \nLugar de comienzo: Plaza de San Juan de Dios
URL:https://www.carnavaldecadiz.com/event/ruta-cantada-y-contada-cadiz-en-posguerra/
LOCATION:Plaza San Juan\, San Fernando\, Plaza San Juan\, San Fernando\, Cádiz\, 11100\, Spain
CATEGORIES:Mucho más que carnaval,Ruta Cultural
END:VEVENT
BEGIN:VEVENT
DTSTART;TZID=Europe/Madrid:20250718T210000
DTEND;TZID=Europe/Madrid:20250718T233000
DTSTAMP:20260421T123036
CREATED:20250709T123309Z
LAST-MODIFIED:20250709T123309Z
UID:21984-1752872400-1752881400@www.carnavaldecadiz.com
SUMMARY:Match de Improvisación Teatral en el Pay-pay
DESCRIPTION:Compra y reserva de localidades en Café Teatro Pay-pay
URL:https://www.carnavaldecadiz.com/event/match-de-improvisacion-teatral-en-el-pay-pay-3/
LOCATION:Café Tatro Pay Pay\, C/ Silencio\, Cádiz\, Cádiz\, 11002
CATEGORIES:Mucho más que carnaval
END:VEVENT
BEGIN:VEVENT
DTSTART;TZID=Europe/Madrid:20250718T220000
DTEND;TZID=Europe/Madrid:20250718T233000
DTSTAMP:20260421T123036
CREATED:20250717T130158Z
LAST-MODIFIED:20250717T130158Z
UID:22172-1752876000-1752881400@www.carnavaldecadiz.com
SUMMARY:Manuel Sevilla y Quique Parodi en El Gastor
DESCRIPTION:
URL:https://www.carnavaldecadiz.com/event/manuel-sevilla-y-quique-parodi-en-el-gastor/
LOCATION:Bar Lo de Joaquin\, El Gastor\, Plaza de la Constitución 9\, El Gastor\, Cádiz\, 11687\, Spain
CATEGORIES:Mucho más que carnaval
END:VEVENT
BEGIN:VEVENT
DTSTART;TZID=Europe/Madrid:20250724T200000
DTEND;TZID=Europe/Madrid:20250724T220000
DTSTAMP:20260421T123036
CREATED:20250707T114543Z
LAST-MODIFIED:20250707T114543Z
UID:21956-1753387200-1753394400@www.carnavaldecadiz.com
SUMMARY:Ruta contada y cantada - 'Cádiz y su Teatro Falla'
DESCRIPTION:Construido sobre las ruinas de un antiguo teatro de madera que fue pasto de las llamas. Vive con nosotros una experiencia única. Conoce las entrañas del Gran Teatro Falla: su escenario\, sus camerinos\, el gallinero\,… Descubre su centenaria historia\, su arquitectura\, las pasiones y anécdotas de su Concurso de Carnaval. En definitiva\, todo un emblema de nuestra ciudad. \n\n​Contada y cantada por Santiago Moreno y Francis Sevilla Pecci.\nDuración: 2 horas aprox.\nPrecio: 18 € por persona.\nMenores de 12 años no pagan.\nPrecio especial para grupos (consultar).\nReservas en reservas@1d3milhistorias.com / 690298902 / 609034072​\nVenta directa en los quioscos de City Expert en Cádiz\, Plaza de San Juan de Dios.\n\nLugar de inicio: Fachada principal del Gran Teatro Falla.
URL:https://www.carnavaldecadiz.com/event/ruta-contada-y-cantada-cadiz-y-su-teatro-falla-4/
LOCATION:Plaza Fragela\, Cádiz\, Plaza Fragela\, Cádiz\, Cádiz\, 11003\, España
CATEGORIES:Mucho más que carnaval,Ruta Cultural
END:VEVENT
BEGIN:VEVENT
DTSTART;TZID=Europe/Madrid:20250726T200000
DTEND;TZID=Europe/Madrid:20250726T220000
DTSTAMP:20260421T123036
CREATED:20250707T113907Z
LAST-MODIFIED:20250707T113907Z
UID:21954-1753560000-1753567200@www.carnavaldecadiz.com
SUMMARY:Ruta contada y cantada - 'Cádiz y su Teatro Falla'
DESCRIPTION:Construido sobre las ruinas de un antiguo teatro de madera que fue pasto de las llamas. Vive con nosotros una experiencia única. Conoce las entrañas del Gran Teatro Falla: su escenario\, sus camerinos\, el gallinero\,… Descubre su centenaria historia\, su arquitectura\, las pasiones y anécdotas de su Concurso de Carnaval. En definitiva\, todo un emblema de nuestra ciudad. \n\n​Contada y cantada por Santiago Moreno y Francis Sevilla Pecci.\nDuración: 2 horas aprox.\nPrecio: 18 € por persona.\nMenores de 12 años no pagan.\nPrecio especial para grupos (consultar).\nReservas en reservas@1d3milhistorias.com / 690298902 / 609034072​\nVenta directa en los quioscos de City Expert en Cádiz\, Plaza de San Juan de Dios.\n\nLugar de inicio: Fachada principal del Gran Teatro Falla.
URL:https://www.carnavaldecadiz.com/event/ruta-contada-y-cantada-cadiz-y-su-teatro-falla-3/
LOCATION:Plaza Fragela\, Cádiz\, Plaza Fragela\, Cádiz\, Cádiz\, 11003\, España
CATEGORIES:Mucho más que carnaval,Ruta Cultural
END:VEVENT
END:VCALENDAR