BEGIN:VCALENDAR
VERSION:2.0
PRODID:-//Carnaval de C&aacute;diz - ECPv6.15.20//NONSGML v1.0//EN
CALSCALE:GREGORIAN
METHOD:PUBLISH
X-ORIGINAL-URL:https://www.carnavaldecadiz.com
X-WR-CALDESC:Eventos para Carnaval de C&aacute;diz
REFRESH-INTERVAL;VALUE=DURATION:PT1H
X-Robots-Tag:noindex
X-PUBLISHED-TTL:PT1H
BEGIN:VTIMEZONE
TZID:Europe/Madrid
BEGIN:DAYLIGHT
TZOFFSETFROM:+0100
TZOFFSETTO:+0200
TZNAME:CEST
DTSTART:20240331T010000
END:DAYLIGHT
BEGIN:STANDARD
TZOFFSETFROM:+0200
TZOFFSETTO:+0100
TZNAME:CET
DTSTART:20241027T010000
END:STANDARD
BEGIN:DAYLIGHT
TZOFFSETFROM:+0100
TZOFFSETTO:+0200
TZNAME:CEST
DTSTART:20250330T010000
END:DAYLIGHT
BEGIN:STANDARD
TZOFFSETFROM:+0200
TZOFFSETTO:+0100
TZNAME:CET
DTSTART:20251026T010000
END:STANDARD
BEGIN:DAYLIGHT
TZOFFSETFROM:+0100
TZOFFSETTO:+0200
TZNAME:CEST
DTSTART:20260329T010000
END:DAYLIGHT
BEGIN:STANDARD
TZOFFSETFROM:+0200
TZOFFSETTO:+0100
TZNAME:CET
DTSTART:20261025T010000
END:STANDARD
END:VTIMEZONE
BEGIN:VEVENT
DTSTART;TZID=Europe/Madrid:20250604T190000
DTEND;TZID=Europe/Madrid:20250604T210000
DTSTAMP:20260421T135018
CREATED:20250601T115525Z
LAST-MODIFIED:20250601T115525Z
UID:21185-1749063600-1749070800@www.carnavaldecadiz.com
SUMMARY:Periodistas en Gaza - Charla - Coloquio
DESCRIPTION:La situación en Gaza es insostenible\, y vienen a contarnos en primera persona algunos corresponsales allí desplegados. \nEvento público de libre acceso.
URL:https://www.carnavaldecadiz.com/event/periodistas-en-gaza-charla-coloquio/
LOCATION:Edificio Constitución 1812\, Paseo de Carlos III\, 3\, Cádiz\, Cádiz\, 11003\, España
CATEGORIES:Mucho más que carnaval
END:VEVENT
BEGIN:VEVENT
DTSTART;TZID=Europe/Madrid:20250605T190000
DTEND;TZID=Europe/Madrid:20250605T210000
DTSTAMP:20260421T135018
CREATED:20250601T122339Z
LAST-MODIFIED:20250601T122339Z
UID:21191-1749150000-1749157200@www.carnavaldecadiz.com
SUMMARY:Presentación del libro 'QUERIDA MÍA'
DESCRIPTION:El acto contará con la presencia de su autora: Paqui Maqueda Fernández\nPresentan: José Luis Gutiérrez Molina y José María Gómez Valero\n\nEvento Público de libre acceso.
URL:https://www.carnavaldecadiz.com/event/presentacion-del-libro-querida-mia/
LOCATION:Peña Los Adoquines\, calle Sagasta 91\, Cádiz\, Cádiz\, 11002\, España
CATEGORIES:Mucho más que carnaval
END:VEVENT
BEGIN:VEVENT
DTSTART;TZID=Europe/Madrid:20250606T190000
DTEND;TZID=Europe/Madrid:20250606T210000
DTSTAMP:20260421T135018
CREATED:20250529T200520Z
LAST-MODIFIED:20250529T200520Z
UID:21097-1749236400-1749243600@www.carnavaldecadiz.com
SUMMARY:Presentación de '3XTR4ÑO' de M. A. García Argüez
DESCRIPTION:‘3XTR4ÑO’ de Miguel Ángel García Argüéz es uno de los lanzamientos literarios más interesantes del pasado invierno. \nEvento público de libre acceso.
URL:https://www.carnavaldecadiz.com/event/presentacion-de-3xtr4no-de-m-a-garcia-arguez-2/
LOCATION:La Lectora Cafetería-librería\, Cádiz\, calle Ancha 32\, Cádiz\, Cádiz\, 11001\, Spain
CATEGORIES:Mucho más que carnaval
END:VEVENT
BEGIN:VEVENT
DTSTART;TZID=Europe/Madrid:20250606T200000
DTEND;TZID=Europe/Madrid:20250606T213000
DTSTAMP:20260421T135018
CREATED:20250602T120318Z
LAST-MODIFIED:20250602T120318Z
UID:21237-1749240000-1749245400@www.carnavaldecadiz.com
SUMMARY:'La práctica de la carne' de María Fernández
DESCRIPTION:
URL:https://www.carnavaldecadiz.com/event/la-practica-de-la-carne-de-maria-fernandez/
LOCATION:Teatro Moderno\, Chiclana\, calle nueva 20\, Chiclana de la Frontera\, Cádiz\, 11130\, España
CATEGORIES:Mucho más que carnaval
END:VEVENT
BEGIN:VEVENT
DTSTART;TZID=Europe/Madrid:20250607T190000
DTEND;TZID=Europe/Madrid:20250607T210000
DTSTAMP:20260421T135018
CREATED:20250601T123259Z
LAST-MODIFIED:20250601T123259Z
UID:21194-1749322800-1749330000@www.carnavaldecadiz.com
SUMMARY:Firma de libros. 'SERÁ EL LLANTO' de Aída R Agraso
DESCRIPTION:La autora de ‘SERÁ EL LLANTO’\, Aída R. Agraso estará en la Caseta AEA\, Bloque 20C Nº416
URL:https://www.carnavaldecadiz.com/event/firma-de-libros-sera-el-llanto-de-aida-r-agraso/
LOCATION:El Retiro\, Madrid\, Retiro\, Madrid\, Madrid\, 28009\, Spain
CATEGORIES:Mucho más que carnaval
END:VEVENT
BEGIN:VEVENT
DTSTART;TZID=Europe/Madrid:20250607T220000
DTEND;TZID=Europe/Madrid:20250607T230000
DTSTAMP:20260421T135018
CREATED:20250605T211253Z
LAST-MODIFIED:20250605T211253Z
UID:21336-1749333600-1749337200@www.carnavaldecadiz.com
SUMMARY:El Txapela en Sugar Café
DESCRIPTION:Evento público de libre acceso. \n 
URL:https://www.carnavaldecadiz.com/event/el-txapela-en-sugar-cafe/
LOCATION:Sugar Café\, San Fernando\, calle Hermanos Lahué 18\, San Fernando\, Cádiz\, 11100\, España
CATEGORIES:Mucho más que carnaval
END:VEVENT
BEGIN:VEVENT
DTSTART;TZID=Europe/Madrid:20250609T200000
DTEND;TZID=Europe/Madrid:20250609T220000
DTSTAMP:20260421T135018
CREATED:20250608T231136Z
LAST-MODIFIED:20250608T231136Z
UID:21376-1749499200-1749506400@www.carnavaldecadiz.com
SUMMARY:Presentación de '3XTR4ÑO' de MA García Argüéz
DESCRIPTION:La Fundación Caballero Bonald tiene el placer de anunciar la presentación de 3XTR4ÑØ\, la nueva novela de Miguel Ángel García Argüez\, publicada por Libros de la Herida. Prepárate para una inmersión en una trama que te atrapará desde la primera página y que ya genera expectación en el ámbito cultural. \nEl evento\, que se perfila como una cita imprescindible para los amantes de la buena literatura\, contará con la presencia de José María Gómez Valero\, quien será el encargado de introducir la obra y a su autor. Su perspectiva\, sin duda\, aportará una capa adicional de comprensión a esta historia tan particular. Será una tarde de análisis y debate en torno a esta fascinante creación literaria. \nEvento público de libre acceso.
URL:https://www.carnavaldecadiz.com/event/presentacion-de-3xtr4no-de-ma-garcia-arguez/
LOCATION:Fundación Caballero Bonald\, Jerez\, calle Caballeros 17\, Jerez de la Frontera\, Cádiz\, 11403\, Spain
CATEGORIES:Mucho más que carnaval
END:VEVENT
BEGIN:VEVENT
DTSTART;VALUE=DATE:20250610
DTEND;VALUE=DATE:20250613
DTSTAMP:20260421T135018
CREATED:20250527T184924Z
LAST-MODIFIED:20250527T184924Z
UID:21021-1749513600-1749772799@www.carnavaldecadiz.com
SUMMARY:Taller de Dramaturgia con Ana López Segovia
DESCRIPTION:Fechas: martes 10\, miércoles 11 y jueves 12 de junio 2025 \nHorario: de 11:00 a 14:30 horas \nCupo máx: 20 personas \nLugar: El Atrio Espacio de Creación Teatral (Madrid) Dirección: C/Villapalacios\, 16. Metro: Villaverde Bajo Cruce. Metro Línea 3. \nDirigido a: personas de teatro que sientan la inquietud y la necesidad de crear sus propios proyectos\, personas que se estén iniciando en la escritura teatral. \nMás información e inscripciones: EL ATRIO\, espacio de creación teatral
URL:https://www.carnavaldecadiz.com/event/taller-de-dramaturgia-con-ana-lopez-segovia/
LOCATION:El Atrio\, espacio de creación Teatral\, Madrid\, calle Villapalacios 16\, Madrid\, Madrid\, 28021\, Spain
CATEGORIES:Mucho más que carnaval
END:VEVENT
BEGIN:VEVENT
DTSTART;TZID=Europe/Madrid:20250610T200000
DTEND;TZID=Europe/Madrid:20250610T213000
DTSTAMP:20260421T135018
CREATED:20250601T121500Z
LAST-MODIFIED:20250601T121500Z
UID:21188-1749585600-1749591000@www.carnavaldecadiz.com
SUMMARY:Club Social de Empleados Municipales. Entrega de premios
DESCRIPTION:Entrega de premios de: \nVIII Concurso Fotográfico ‘Cádiz… esto es carnaval’ \nXII Concurso Fotográfico Semana Santa de Cádiz ‘Joaquín Seisdedos’ \nXVI Concurso de Carteles de Semana Santa de Cádiz ‘Paco Jardi’ \nXXIV Concurso Videográfico Cádiz en Semana Santa ‘David Otero’ \nEvento público de libre acceso.
URL:https://www.carnavaldecadiz.com/event/club-social-de-empleados-municipales-entrega-de-premios/
LOCATION:Club Social de Empleados Municipales\, Cádiz\, calle Alcalá Galiano 3D\, Cádiz\, Cádiz\, España
CATEGORIES:exposiciones,Mucho más que carnaval
END:VEVENT
BEGIN:VEVENT
DTSTART;TZID=Europe/Madrid:20250611T190000
DTEND;TZID=Europe/Madrid:20250611T210000
DTSTAMP:20260421T135018
CREATED:20250610T110320Z
LAST-MODIFIED:20250610T115915Z
UID:21423-1749668400-1749675600@www.carnavaldecadiz.com
SUMMARY:Presentación del libro 'PUTAS IMÁGENES'
DESCRIPTION:Coloquio con con Colectivo Jarana y Andrea Corrales la autora del libro ‘Putas imágenes. Una teoría invertida de la pornografía’ \nEvento público de libre acceso.
URL:https://www.carnavaldecadiz.com/event/presentacion-del-libro-putas-imagenes/
LOCATION:Peña Los Adoquines\, calle Sagasta 91\, Cádiz\, Cádiz\, 11002\, España
CATEGORIES:Mucho más que carnaval
END:VEVENT
BEGIN:VEVENT
DTSTART;TZID=Europe/Madrid:20250613T180000
DTEND;TZID=Europe/Madrid:20250613T200000
DTSTAMP:20260421T135018
CREATED:20250529T202751Z
LAST-MODIFIED:20250529T202751Z
UID:21106-1749837600-1749844800@www.carnavaldecadiz.com
SUMMARY:VIII Tertulia Feminista de Carnaval - Désirée Ortega
DESCRIPTION:Désirée Ortega es una de las mujeres vinculadas al carnaval de Cádiz más polifacéticas\, seguro que tiene muchas cosa interesantes que contar. \nEvento público de libre acceso.
URL:https://www.carnavaldecadiz.com/event/viii-tertulia-feminista-de-carnaval-desiree-ortega/
LOCATION:La Lectora Cafetería-librería\, Cádiz\, calle Ancha 32\, Cádiz\, Cádiz\, 11001\, Spain
CATEGORIES:mesa de debate,Mucho más que carnaval
ATTACH;FMTTYPE=image/png:https://www.carnavaldecadiz.com/wp-content/uploads/2025/05/8-Cartel_06_13_2025-400.png
END:VEVENT
BEGIN:VEVENT
DTSTART;TZID=Europe/Madrid:20250613T190000
DTEND;TZID=Europe/Madrid:20250613T210000
DTSTAMP:20260421T135018
CREATED:20250609T182457Z
LAST-MODIFIED:20250609T182457Z
UID:21404-1749841200-1749848400@www.carnavaldecadiz.com
SUMMARY:Canciones y suspiros en Café Lakarabe
DESCRIPTION:Evento público de libre acceso.
URL:https://www.carnavaldecadiz.com/event/canciones-y-suspiros-en-cafe-lakarabe/
LOCATION:Café Lakarabe\, Cádiz\, calle Isabel la Católica 3\, Cádiz\, Cádiz\, 11004\, Spain
CATEGORIES:Mucho más que carnaval
END:VEVENT
BEGIN:VEVENT
DTSTART;TZID=Europe/Madrid:20250616T100000
DTEND;TZID=Europe/Madrid:20250616T140000
DTSTAMP:20260421T135018
CREATED:20250612T154155Z
LAST-MODIFIED:20250612T154534Z
UID:21510-1750068000-1750082400@www.carnavaldecadiz.com
SUMMARY:Visivilizando la violencia machista: Cine y más
DESCRIPTION:Tras la proyección del largometraje ‘Soy Nevenka’ (2024) de Icíar Bollaín\, se realizará un coloquio al que asistirá la periodista y activista Cristina Fallarás y la experta en género\, Susana Ginesta ( autora de ‘Las Cadiwoman’) \nEvento público de libre acceso hasta completar aforo – Reserva tu entrada al 629 555 896
URL:https://www.carnavaldecadiz.com/event/visivilizando-la-violencia-machista-cine-y-mas/
LOCATION:Teatro Principal\, Puerto real\, Calle Amargura 59\, Puerto Real\, Cádiz\, 11510\, España
CATEGORIES:Mucho más que carnaval
END:VEVENT
BEGIN:VEVENT
DTSTART;TZID=Europe/Madrid:20250618T190000
DTEND;TZID=Europe/Madrid:20250618T193000
DTSTAMP:20260421T135018
CREATED:20250613T235435Z
LAST-MODIFIED:20250613T235435Z
UID:21541-1750273200-1750275000@www.carnavaldecadiz.com
SUMMARY:Firma de Libros 'SERÁ EL LLANTO' de Aída R. Agraso
DESCRIPTION:Evento público de libre acceso.
URL:https://www.carnavaldecadiz.com/event/firma-de-libros-sera-el-llanto-de-aida-r-agraso-2/
LOCATION:Plaza del Rey\, San Fernando\, Plaza del Rey\, San Fernando\, Cádiz\, 11100\, España
CATEGORIES:Mucho más que carnaval
END:VEVENT
BEGIN:VEVENT
DTSTART;VALUE=DATE:20250620
DTEND;VALUE=DATE:20250622
DTSTAMP:20260421T135018
CREATED:20250617T181210Z
LAST-MODIFIED:20250617T181210Z
UID:21597-1750377600-1750550399@www.carnavaldecadiz.com
SUMMARY:Visitas Teatralizadas a la Casa de Iberoamérica
DESCRIPTION:Visitas Teatralizadas ¡Viva la Pepa! –  Disfruta de la historia de Cádiz con ANIMARTE \nHorario de visitas: \n\nViernes 20 a las 19:00h\nSábado 21 a las 11:00h\n\nReserva tu plaza en el teléfono: 856035650
URL:https://www.carnavaldecadiz.com/event/visitas-teatralizadas-a-la-casa-de-iberoamerica/
LOCATION:Casa de Iberoamerica\, Cádiz\, calle Concepción Arenal s/n\, Cádiz\, Cádiz\, 11006\, España
CATEGORIES:Mucho más que carnaval
END:VEVENT
BEGIN:VEVENT
DTSTART;TZID=Europe/Madrid:20250620T210000
DTEND;TZID=Europe/Madrid:20250620T223000
DTSTAMP:20260421T135018
CREATED:20250609T133354Z
LAST-MODIFIED:20250609T133354Z
UID:21396-1750453200-1750458600@www.carnavaldecadiz.com
SUMMARY:'Las bingueras de Eurípides' en Los Palacios
DESCRIPTION:Compra on-line de LOCALIDADES
URL:https://www.carnavaldecadiz.com/event/las-bingueras-de-euripides-en-los-palacios/
LOCATION:Teatro Municipal Ciudad de Las Cabezas\, calle Jazmines s/n\, Las Cabezas\, Sevilla\, 41730\, Spain
CATEGORIES:Mucho más que carnaval
END:VEVENT
BEGIN:VEVENT
DTSTART;TZID=Europe/Madrid:20250623T200000
DTEND;TZID=Europe/Madrid:20250623T213000
DTSTAMP:20260421T135018
CREATED:20250617T171416Z
LAST-MODIFIED:20250617T171416Z
UID:21590-1750708800-1750714200@www.carnavaldecadiz.com
SUMMARY:Presentación del poemario 'WET FLOOR' de Beatriz Aragón
DESCRIPTION:Presentadores: David Eloy Rodríguez y Joaquín López Bustamante.
URL:https://www.carnavaldecadiz.com/event/presentacion-del-poemario-wet-floor-de-beatriz-aragon/
LOCATION:Fundación Caballero Bonald\, Jerez\, calle Caballeros 17\, Jerez de la Frontera\, Cádiz\, 11403\, Spain
CATEGORIES:Mucho más que carnaval
END:VEVENT
BEGIN:VEVENT
DTSTART;TZID=Europe/Madrid:20250623T210000
DTEND;TZID=Europe/Madrid:20250623T233000
DTSTAMP:20260421T135018
CREATED:20250531T182422Z
LAST-MODIFIED:20250531T182422Z
UID:21150-1750712400-1750721400@www.carnavaldecadiz.com
SUMMARY:Quema de Juanillos en la Plaza de España
DESCRIPTION:Organizado por la AVV Murallas de San Carlos ‘La Negrita’\, y tras cumplir con una de las traiciones más arraigadas de la ciudad\, como es la quema del Juanillo\, nos deleitarán con una degustación de papas aliñá y pimientos asados\, regados con cervezas y refrescos. \nEvento público de libre acceso.
URL:https://www.carnavaldecadiz.com/event/quema-de-juanillos-en-la-plaza-de-espana/
LOCATION:AVV Murallas de San Carlos ‘La negrita’\, Cádiz\, calle San German 2\, Cádiz\, Cádiz\, 11004\, Spain
CATEGORIES:Comida popular,evento gastronómico,Mucho más que carnaval
ATTACH;FMTTYPE=image/jpeg:https://www.carnavaldecadiz.com/wp-content/uploads/2025/05/0623Juanillos.jpg
END:VEVENT
BEGIN:VEVENT
DTSTART;TZID=Europe/Madrid:20250628T123000
DTEND;TZID=Europe/Madrid:20250628T140000
DTSTAMP:20260421T135018
CREATED:20250623T181631Z
LAST-MODIFIED:20250623T181631Z
UID:21694-1751113800-1751119200@www.carnavaldecadiz.com
SUMMARY:XL Feria del Libro de Cádiz - Beatriz Aragón
DESCRIPTION:Nos hacemos eco de los eventos en los que participen personas vinculadas al Carnaval de Cádiz. \nEn la Sala Rafael de Cozar \nPoesía. Cada uno es mucha gente\, de Pablo García Casado con Beatriz Aragón. \nEvento público de libre acceso \nXL Feria del Libro de Cádiz – PROGRAMA COMPLETO \n \n  \n 
URL:https://www.carnavaldecadiz.com/event/xl-feria-del-libro-de-cadiz-beatriz-aragon/
LOCATION:Baluarte de Candelaria\, Alameda Hermanas Carvia Bernal 6\, Cádiz\, Cádiz\, 11003\, España
CATEGORIES:Mucho más que carnaval
END:VEVENT
BEGIN:VEVENT
DTSTART;TZID=Europe/Madrid:20250628T220000
DTEND;TZID=Europe/Madrid:20250628T233000
DTSTAMP:20260421T135018
CREATED:20250623T123005Z
LAST-MODIFIED:20250623T123005Z
UID:21691-1751148000-1751153400@www.carnavaldecadiz.com
SUMMARY:Match de Improvisación en Sugar Café
DESCRIPTION:Evento público de libre acceso.
URL:https://www.carnavaldecadiz.com/event/match-de-improvisacion-en-sugar-cafe-4/
LOCATION:Sugar Café\, San Fernando\, calle Hermanos Lahué 18\, San Fernando\, Cádiz\, 11100\, España
CATEGORIES:Mucho más que carnaval
END:VEVENT
BEGIN:VEVENT
DTSTART;TZID=Europe/Madrid:20250628T220000
DTEND;TZID=Europe/Madrid:20250628T233000
DTSTAMP:20260421T135018
CREATED:20250624T111648Z
LAST-MODIFIED:20250624T111648Z
UID:21728-1751148000-1751153400@www.carnavaldecadiz.com
SUMMARY:Quique Parodi y Manuel Sevilla en Benaocaz
DESCRIPTION:Reservas 956125565
URL:https://www.carnavaldecadiz.com/event/quique-parodi-y-manuel-sevilla-en-benaocaz/
LOCATION:Restaurante El Parral\, Benaocaz\, Laderas de Parral\, 1\, Benaocaz\, Cádiz\, 11612\, Spain
CATEGORIES:Mucho más que carnaval
END:VEVENT
BEGIN:VEVENT
DTSTART;TZID=Europe/Madrid:20250629T123000
DTEND;TZID=Europe/Madrid:20250629T140000
DTSTAMP:20260421T135018
CREATED:20250623T182842Z
LAST-MODIFIED:20250623T183514Z
UID:21697-1751200200-1751205600@www.carnavaldecadiz.com
SUMMARY:XL Feria del Libro de Cádiz - Ángel Gago.
DESCRIPTION:Nos hacemos eco de los eventos en los que participen personas vinculadas al Carnaval de Cádiz. \nEn el Espacio Pilar Paz Pasamar \nTu nombre mío\, de Antonio Manuel con Ángel Gago. \nEvento público de libre acceso \nXL Feria del Libro de Cádiz – PROGRAMA COMPLETO
URL:https://www.carnavaldecadiz.com/event/xl-feria-del-libro-de-cadiz-angel-gago/
LOCATION:Baluarte de Candelaria\, Alameda Hermanas Carvia Bernal 6\, Cádiz\, Cádiz\, 11003\, España
CATEGORIES:Mucho más que carnaval
END:VEVENT
BEGIN:VEVENT
DTSTART;TZID=Europe/Madrid:20250630T200000
DTEND;TZID=Europe/Madrid:20250630T210000
DTSTAMP:20260421T135018
CREATED:20250624T113750Z
LAST-MODIFIED:20250624T113750Z
UID:21736-1751313600-1751317200@www.carnavaldecadiz.com
SUMMARY:XL Feria del Libro de Cádiz - David Magrañal
DESCRIPTION:Nos hacemos eco de los eventos en los que participen personas vinculadas al Carnaval de Cádiz. \nEl asesino de viejos\, de David Magrañal\, firma de libros \nEvento público de libre acceso \nXL Feria del Libro de Cádiz – PROGRAMA COMPLETO
URL:https://www.carnavaldecadiz.com/event/xl-feria-del-libro-de-cadiz-david-magranal/
LOCATION:Baluarte de Candelaria\, Alameda Hermanas Carvia Bernal 6\, Cádiz\, Cádiz\, 11003\, España
CATEGORIES:Mucho más que carnaval
END:VEVENT
END:VCALENDAR