BEGIN:VCALENDAR
VERSION:2.0
PRODID:-//Carnaval de C&aacute;diz - ECPv6.15.20//NONSGML v1.0//EN
CALSCALE:GREGORIAN
METHOD:PUBLISH
X-WR-CALNAME:Carnaval de C&aacute;diz
X-ORIGINAL-URL:https://www.carnavaldecadiz.com
X-WR-CALDESC:Eventos para Carnaval de C&aacute;diz
REFRESH-INTERVAL;VALUE=DURATION:PT1H
X-Robots-Tag:noindex
X-PUBLISHED-TTL:PT1H
BEGIN:VTIMEZONE
TZID:Europe/Madrid
BEGIN:DAYLIGHT
TZOFFSETFROM:+0100
TZOFFSETTO:+0200
TZNAME:CEST
DTSTART:20240331T010000
END:DAYLIGHT
BEGIN:STANDARD
TZOFFSETFROM:+0200
TZOFFSETTO:+0100
TZNAME:CET
DTSTART:20241027T010000
END:STANDARD
BEGIN:DAYLIGHT
TZOFFSETFROM:+0100
TZOFFSETTO:+0200
TZNAME:CEST
DTSTART:20250330T010000
END:DAYLIGHT
BEGIN:STANDARD
TZOFFSETFROM:+0200
TZOFFSETTO:+0100
TZNAME:CET
DTSTART:20251026T010000
END:STANDARD
BEGIN:DAYLIGHT
TZOFFSETFROM:+0100
TZOFFSETTO:+0200
TZNAME:CEST
DTSTART:20260329T010000
END:DAYLIGHT
BEGIN:STANDARD
TZOFFSETFROM:+0200
TZOFFSETTO:+0100
TZNAME:CET
DTSTART:20261025T010000
END:STANDARD
END:VTIMEZONE
BEGIN:VEVENT
DTSTART;TZID=Europe/Madrid:20250403T200000
DTEND;TZID=Europe/Madrid:20250403T213000
DTSTAMP:20260421T164045
CREATED:20250320T213552Z
LAST-MODIFIED:20250320T213552Z
UID:19449-1743710400-1743715800@www.carnavaldecadiz.com
SUMMARY:Presentación de la nueva novela de Aida R. Agraso
DESCRIPTION:Presentación de la nueva novela de Aida R. Agraso ‘SERÁ EL LLANTO’\, que contará con la participación de Susana Ginesta y Ana Bartual. \nEvento de libre acceso hasta completar aforo.
URL:https://www.carnavaldecadiz.com/event/presentacion-de-la-nueva-novela-de-aida-r-agraso/
LOCATION:Café Tatro Pay Pay\, C/ Silencio\, Cádiz\, Cádiz\, 11002
CATEGORIES:Mucho más que carnaval
END:VEVENT
BEGIN:VEVENT
DTSTART;TZID=Europe/Madrid:20250403T203000
DTEND;TZID=Europe/Madrid:20250403T220000
DTSTAMP:20260421T164045
CREATED:20250401T201226Z
LAST-MODIFIED:20250401T201226Z
UID:19838-1743712200-1743717600@www.carnavaldecadiz.com
SUMMARY:Encuentro con las Hermanas Tubío
DESCRIPTION:Evento público de libre acceso
URL:https://www.carnavaldecadiz.com/event/encuentro-con-las-hermanas-tubio/
LOCATION:Bar La Casapuerta\, calle Sagasta 40\, Cádiz\, Cádiz\, 11001\, España
CATEGORIES:Mucho más que carnaval
END:VEVENT
BEGIN:VEVENT
DTSTART;TZID=Europe/Madrid:20250404T190000
DTEND;TZID=Europe/Madrid:20250404T210000
DTSTAMP:20260421T164045
CREATED:20250404T105523Z
LAST-MODIFIED:20250404T105523Z
UID:19876-1743793200-1743800400@www.carnavaldecadiz.com
SUMMARY:Mesa Redonda ¿Que justicia queremos?
DESCRIPTION:¿Qué justicia queremos? Reflexiones y experiencias feministas sobre justicia restaurativa. \nIntervienen: \n– Marta Horno Hidalgo (APDHA Cádiz )\n– Alba Martínez Rebolledo (Colectiva Jarana)\n– Irene Arana González y Vanessa Gómez Bernal (Asamblea Feminista Las 3 Rosas) \nActividad enmarcada dentro de las acciones de la ‘Comisión 8M’\nOrganiza:APDHA Cádiz \nEvento público de libre acceso.
URL:https://www.carnavaldecadiz.com/event/mesa-redonda-que-justicia-queremos/
LOCATION:Peña Los Adoquines\, calle Sagasta 91\, Cádiz\, Cádiz\, 11002\, España
CATEGORIES:Mucho más que carnaval
END:VEVENT
BEGIN:VEVENT
DTSTART;TZID=Europe/Madrid:20250405T113000
DTEND;TZID=Europe/Madrid:20250405T140000
DTSTAMP:20260421T164045
CREATED:20250401T195242Z
LAST-MODIFIED:20250401T195242Z
UID:19831-1743852600-1743861600@www.carnavaldecadiz.com
SUMMARY:Ruta 'Cádiz:1de3milCarnavales'
DESCRIPTION:Más información y reservas \n690 298 902 \n609 034 072
URL:https://www.carnavaldecadiz.com/event/ruta-cadiz1de3milcarnavales/
LOCATION:Cádiz\, Cádiz\, Cádiz\, España
CATEGORIES:Mucho más que carnaval,Ruta Cultural
END:VEVENT
BEGIN:VEVENT
DTSTART;TZID=Europe/Madrid:20250405T120000
DTEND;TZID=Europe/Madrid:20250405T133000
DTSTAMP:20260421T164046
CREATED:20250401T194614Z
LAST-MODIFIED:20250401T194614Z
UID:19827-1743854400-1743859800@www.carnavaldecadiz.com
SUMMARY:'LA PÍCARA DE CERVANTES' en Zahara de los Atunes
DESCRIPTION:
URL:https://www.carnavaldecadiz.com/event/la-picara-de-cervantes-en-zahara-de-los-atunes/
LOCATION:CEIP Muguel de Cervantes\, Zahara de los Atunes\, calle Cervantes 12\, Zahara de los Atunes\, Cádiz\, 11393\, Spain
CATEGORIES:Mucho más que carnaval
END:VEVENT
BEGIN:VEVENT
DTSTART;TZID=Europe/Madrid:20250408T210000
DTEND;TZID=Europe/Madrid:20250408T220000
DTSTAMP:20260421T164046
CREATED:20250326T222332Z
LAST-MODIFIED:20250326T222332Z
UID:19718-1744146000-1744149600@www.carnavaldecadiz.com
SUMMARY:Concierto en Cuaresma. Camerata de Plectro'A Tempo'
DESCRIPTION:Evento público de libre acceso
URL:https://www.carnavaldecadiz.com/event/concierto-en-cuaresma-camerata-de-plectroa-tempo/
LOCATION:Iglesia de San Lorenzo\, Cádiz\, calle Sagasta 55\, Cádiz\, Cádiz\, 11002\, Spain
CATEGORIES:Mucho más que carnaval
END:VEVENT
BEGIN:VEVENT
DTSTART;TZID=Europe/Madrid:20250411T200000
DTEND;TZID=Europe/Madrid:20250411T220000
DTSTAMP:20260421T164046
CREATED:20250326T231953Z
LAST-MODIFIED:20250326T232107Z
UID:19730-1744401600-1744408800@www.carnavaldecadiz.com
SUMMARY:FRAC Fundación de Raperos Atípicos
DESCRIPTION:Entrada por invitación\, reserva la tuya en frac.conciertos@gmail.com
URL:https://www.carnavaldecadiz.com/event/frac-fundacion-de-raperos-atipicos/
LOCATION:Teatro Principal\, Puerto real\, Calle Amargura 59\, Puerto Real\, Cádiz\, 11510\, España
CATEGORIES:Mucho más que carnaval
END:VEVENT
BEGIN:VEVENT
DTSTART;TZID=Europe/Madrid:20250411T210000
DTEND;TZID=Europe/Madrid:20250411T230000
DTSTAMP:20260421T164046
CREATED:20250407T090119Z
LAST-MODIFIED:20250407T090119Z
UID:19920-1744405200-1744412400@www.carnavaldecadiz.com
SUMMARY:Match de Improvisación Teatral en el Pay-pay
DESCRIPTION:
URL:https://www.carnavaldecadiz.com/event/match-de-improvisacion-teatral-en-el-pay-pay-2/
LOCATION:Café Tatro Pay Pay\, C/ Silencio\, Cádiz\, Cádiz\, 11002
CATEGORIES:Mucho más que carnaval
ATTACH;FMTTYPE=image/jpeg:https://www.carnavaldecadiz.com/wp-content/uploads/2025/04/0411Pay.jpg
END:VEVENT
BEGIN:VEVENT
DTSTART;TZID=Europe/Madrid:20250421T190000
DTEND;TZID=Europe/Madrid:20250421T203000
DTSTAMP:20260421T164046
CREATED:20250418T180017Z
LAST-MODIFIED:20250418T180017Z
UID:20257-1745262000-1745267400@www.carnavaldecadiz.com
SUMMARY:Lectura Dramatizada 'Historia de una escalera'
DESCRIPTION:Un club de lectura es un grupo de personas que se reúnen\, por lo general cada quince días\, para comentar e intercambiar opiniones sobre un mismo libro que van leyendo en casa. En las reuniones se debate sobre el estilo literario\, la acción\, los personajes… y se acuerda la cantidad a leer en los días posteriores. \nLa gran aceptación que tienen los clubes se debe a que reúnen dos alicientes: \n\nLa lectura personal e íntima\nLa posibilidad de compartir esa lectura con otras personas\n\nPor lo general\, las opiniones de los miembros del grupo enriquecen mucho la impresión inicial que cada uno saca leyendo en solitario. \nSi deseas más información sobre lo clubes de lectura de la Biblioteca Pública Provincial de Cádiz\, no dudes en ponerte en contacto\, bien a través del teléfono de la biblioteca  856 58 37 48 o por correo electrónico informacion.bp.ca.ctcd@juntadeandalucia.es \nEvento público de libre acceso.
URL:https://www.carnavaldecadiz.com/event/lectura-dramatizada-historia-de-una-escalera/
LOCATION:Biblioteca Pública Provincial de Cádiz\, Avenida Cuatro de Diciembre de 1977\, 16\, Cádiz\, Cádiz\, 11006\, España
CATEGORIES:Mucho más que carnaval
END:VEVENT
BEGIN:VEVENT
DTSTART;TZID=Europe/Madrid:20250422T190000
DTEND;TZID=Europe/Madrid:20250422T203000
DTSTAMP:20260421T164046
CREATED:20250417T113157Z
LAST-MODIFIED:20250417T181343Z
UID:20190-1745348400-1745353800@www.carnavaldecadiz.com
SUMMARY:Presentación del libro 'EL MILAGRO DE LA SAL' de Juanma Romero Bey
DESCRIPTION:Evento público de libre acceso.
URL:https://www.carnavaldecadiz.com/event/presentacion-del-libro-el-milagro-de-la-sal-de-juanma-romero-bey/
LOCATION:Centro de Interpretación del Vino y la Sal\, Chiclana\, Plaza de las Bodegas\, Chiclana de la Frontera\, Cádiz\, 11130\, España
CATEGORIES:Mucho más que carnaval
END:VEVENT
BEGIN:VEVENT
DTSTART;TZID=Europe/Madrid:20250422T190000
DTEND;TZID=Europe/Madrid:20250422T203000
DTSTAMP:20260421T164046
CREATED:20250422T001041Z
LAST-MODIFIED:20250422T001041Z
UID:20359-1745348400-1745353800@www.carnavaldecadiz.com
SUMMARY:Lecturas de proximidad
DESCRIPTION:Evento público de libre acceso.
URL:https://www.carnavaldecadiz.com/event/lecturas-de-proximidad/
LOCATION:Sindicato CGT\, Sevilla\, calle Algonso X\, 26\, Sevilla\, Sevilla\, 41002
CATEGORIES:Mucho más que carnaval
END:VEVENT
BEGIN:VEVENT
DTSTART;TZID=Europe/Madrid:20250422T190000
DTEND;TZID=Europe/Madrid:20250422T210000
DTSTAMP:20260421T164046
CREATED:20250417T112006Z
LAST-MODIFIED:20250417T181455Z
UID:20182-1745348400-1745355600@www.carnavaldecadiz.com
SUMMARY:VIII Encuentro de Literatura Gaditana
DESCRIPTION:Coloquio con Juan José Tellez – ‘Cádiz como personaje literario’ \nFirma de libros – Antonio Muñóz de la Vega \nEvento público de libre acceso.
URL:https://www.carnavaldecadiz.com/event/viii-encuentro-de-literatura-gaditana/
LOCATION:Libreria Plastilina\, Cádiz\, Avenida Cayetano del Toro 22\, Cádiz\, Cádiz\, 11010\, Spain
CATEGORIES:mesa de debate,Mucho más que carnaval
END:VEVENT
BEGIN:VEVENT
DTSTART;VALUE=DATE:20250423
DTEND;VALUE=DATE:20250424
DTSTAMP:20260421T164046
CREATED:20250415T110735Z
LAST-MODIFIED:20250417T181557Z
UID:20084-1745366400-1745452799@www.carnavaldecadiz.com
SUMMARY:Día del Libro. Visitas guiadas teatralizadas
DESCRIPTION:Día del Libro. Visitas guiadas teatralizadas a cargo de ANIMARTE \nDos pases a las 17:30h y a las 19:15h \nInscripción previa por teléfono\, a partir del 21 de abril: 600 140 400 \nPlazas limitadas. Público general. \n \n 
URL:https://www.carnavaldecadiz.com/event/dia-del-libro-visitas-guiadas-teatralizadas/
LOCATION:Biblioteca Pública Provincial de Cádiz\, Avenida Cuatro de Diciembre de 1977\, 16\, Cádiz\, Cádiz\, 11006\, España
CATEGORIES:Mucho más que carnaval
END:VEVENT
BEGIN:VEVENT
DTSTART;TZID=Europe/Madrid:20250423T110000
DTEND;TZID=Europe/Madrid:20250423T140000
DTSTAMP:20260421T164046
CREATED:20250407T091318Z
LAST-MODIFIED:20250417T181708Z
UID:19930-1745406000-1745416800@www.carnavaldecadiz.com
SUMMARY:Lectura continuada de 'AGUAVIENTO. EL BOMBERO DE POMPELLA'
DESCRIPTION:Evento público de libre acceso.
URL:https://www.carnavaldecadiz.com/event/lectura-continuada-de-aguaviento-el-bombero-de-pompella/
LOCATION:Biblioteca José Celestino Mutis\, Cádiz\, Torre Tavira. calle San Miguel 17\, Cádiz\, Cádiz\, 11001\, Spain
CATEGORIES:Mucho más que carnaval
END:VEVENT
BEGIN:VEVENT
DTSTART;TZID=Europe/Madrid:20250423T173000
DTEND;TZID=Europe/Madrid:20250423T203000
DTSTAMP:20260421T164046
CREATED:20250417T112540Z
LAST-MODIFIED:20250417T181809Z
UID:20186-1745429400-1745440200@www.carnavaldecadiz.com
SUMMARY:Lectura de Fotos de Carné de Fernando Quiñones
DESCRIPTION:Organizado por la Asociación Amigos de Quiñones. \nEvento público de libre acceso.
URL:https://www.carnavaldecadiz.com/event/lectura-de-fotos-de-carne-de-fernando-quinones/
LOCATION:Biblioteca ocial Nadia Consolani\, Cádiz\, calle Ancha 16\, Cádiz\, Cádiz\, 11001\, Spain
CATEGORIES:mesa de debate,Mucho más que carnaval
END:VEVENT
BEGIN:VEVENT
DTSTART;TZID=Europe/Madrid:20250423T190000
DTEND;TZID=Europe/Madrid:20250423T210000
DTSTAMP:20260421T164046
CREATED:20250416T101606Z
LAST-MODIFIED:20250417T181919Z
UID:20143-1745434800-1745442000@www.carnavaldecadiz.com
SUMMARY:Celebración del día del libro
DESCRIPTION:Celebración del día del libro en la librería María Zambrano de Cádiz\, fiesta de la palabra. \nParticipan: \n\nAlberto Mateos\, narración oral ‘Vivo del cuento’\nLuis García Gil\, poesía\nFernando Lobo\, canciones\n\nEvento público de libre acceso. \nFernando Lobo participa en el carnaval callejero como romancero\, este año bajo el nombre de ‘Gadita D’ or’
URL:https://www.carnavaldecadiz.com/event/celebracion-del-dia-del-libro/
LOCATION:Libreria María Zambrano\, Cádiz\, Avenida Cayetano del Toro 4\, esquina Plaza Becquer\, Cádiz\, Cádiz\, 11010\, Spain
CATEGORIES:Mucho más que carnaval
END:VEVENT
BEGIN:VEVENT
DTSTART;TZID=Europe/Madrid:20250423T193000
DTEND;TZID=Europe/Madrid:20250423T210000
DTSTAMP:20260421T164046
CREATED:20250417T110743Z
LAST-MODIFIED:20250417T182023Z
UID:20175-1745436600-1745442000@www.carnavaldecadiz.com
SUMMARY:Charla 'Cervantes y su teatro' por Aida Santos-Alley
DESCRIPTION:El Día del Libro se celebra en conmemoración por el fallecimiento o nacimiento de varios autores; entre ellos por la muerte de “el príncipe de las letras”\, Miguel de Cervantes Saavedra (Alcalá de Henares\, 29 de septiembre de 1574\, Madrid\, 22 de abril de 1616). \nÉl es el protagonista de esta charla\, a través de sus prólogos o memorias que serán el hilo conductor para hablar del teatro\, la faceta más desconocida de este gran escritor. Su afición a él\, lo que significaba\, las obras dramáticas que escribió y lo mucho que le hubiera gustado ganarse la vida como autor de comedias. \nLa charla será conducida por Aida Santos-Allely\, actriz y creadora escénica. Cádiz\, 1985. Licenciada en la Escuela Superior de Arte Dramático de Sevilla\, 2008 y Máster de Artes Escénicas Alicia Alonso\, Universidad Rey Juan Carlos de Madrid\, 2011. \nEntre 2021 y 2022 se centra en su proyecto más ambicioso hasta la fecha\, La Pícara de Cervantes\, una obra que aúna textos de la obra teatral de Cervantes hilados a través de la dramaturgia de la autora. Ha recibido el reconocimiento con el 3º Premio al Mejor Espectáculo en el VI Festival Fiesta Corral Cervantes de la Fundación Siglo de Oro\, Madrid en el 2022 y la Nominación a Mejor Espectáculo de medio/pequeño formato por la Academia de las Artes Escénicas de Andalucía\, X premios Lorca de 2023. \nAida Santos-Alley además de ser una maravillosa actriz\, es una enamorada del Carnaval de Cádiz\, y es una de las componentes junto a la también actriz Mariki Fernández\, de un romancero que este año ha salido a la calle con el nombre de ‘Escenas de patrimonio’ \nEvento público de libre acceso.
URL:https://www.carnavaldecadiz.com/event/charla-cervantes-y-su-teatro-por-aida-santos-alley/
LOCATION:CIRAE\, Sevilla\, calle Santa Lucía 10\, Sevilla\, Sevilla\, 41003\, Spain
CATEGORIES:carnaval callejero,carnaval feminista,conferencia de carnaval,Mucho más que carnaval
END:VEVENT
BEGIN:VEVENT
DTSTART;TZID=Europe/Madrid:20250424T190000
DTEND;TZID=Europe/Madrid:20250424T190000
DTSTAMP:20260421T164046
CREATED:20250418T115851Z
LAST-MODIFIED:20250418T120201Z
UID:20239-1745521200-1745521200@www.carnavaldecadiz.com
SUMMARY:Lectura de 'Piezas de caza' en Librería Plastilina
DESCRIPTION:La Librería Plastilina celebra el VIII encuentro de literatura gaditana con una nueva lectura musical\, en esta ocasión la del nuevo relato ‘Piezas de caza’ incluido en el libro ‘La culpa la tuvo Eva’ \nIntervienen: \n\nKoki Sánchez\, actriz.\nAlicia Domínguez\, escritora.\nEmilio Martín\, violinista.\n\nEvento público de libre acceso\, hasta completar aforo. Aforo limitado.
URL:https://www.carnavaldecadiz.com/event/lectura-de-piezas-de-caza-en-libreria-plastilina/
LOCATION:Libreria Plastilina\, Cádiz\, Avenida Cayetano del Toro 22\, Cádiz\, Cádiz\, 11010\, Spain
CATEGORIES:Mucho más que carnaval
END:VEVENT
BEGIN:VEVENT
DTSTART;TZID=Europe/Madrid:20250424T193000
DTEND;TZID=Europe/Madrid:20250424T210000
DTSTAMP:20260421T164046
CREATED:20250417T180245Z
LAST-MODIFIED:20250417T180245Z
UID:20218-1745523000-1745528400@www.carnavaldecadiz.com
SUMMARY:La Odisea - Cantos de sirenas.
DESCRIPTION:La Odisea – Cantos de sirenas. \nAutora: Patricia Garzón Sánchez \nGrupo de teatro: La revolución de las mariposas y albacalí. \nEvento público de libre acceso.
URL:https://www.carnavaldecadiz.com/event/la-odisea-cantos-de-sirenas/
LOCATION:Facultad de Filosofia y Letras\, UCA\, Avenida Doctor Gómez Ulla 1\, Cádiz\, Cádiz\, 11003\, España
CATEGORIES:Mucho más que carnaval
END:VEVENT
BEGIN:VEVENT
DTSTART;TZID=Europe/Madrid:20250425T190000
DTEND;TZID=Europe/Madrid:20250425T203000
DTSTAMP:20260421T164046
CREATED:20250417T180838Z
LAST-MODIFIED:20250417T180838Z
UID:20222-1745607600-1745613000@www.carnavaldecadiz.com
SUMMARY:Presentación del libro 'Cuentos de piscina vacía' de Ángela Mayor
DESCRIPTION:Presentación del libro ‘Cuentos de piscina vacía’ de Ángela Mayor. \nIntervienen: Désirée Ortega y Palma Medina \nOrganizado por la Asociación Amigos de Quiñones \nEvento público de libre acceso.
URL:https://www.carnavaldecadiz.com/event/presentacion-del-libro-cuentos-de-piscina-vacia-de-angela-mayor/
LOCATION:Asociación Amigos de Quiñones\, Cádiz\, calle Ancha 16\, Cádiz\, Cádiz\, 11001\, España
CATEGORIES:Mucho más que carnaval
END:VEVENT
BEGIN:VEVENT
DTSTART;TZID=Europe/Madrid:20250425T190000
DTEND;TZID=Europe/Madrid:20250425T213000
DTSTAMP:20260421T164046
CREATED:20250416T102846Z
LAST-MODIFIED:20250417T182609Z
UID:20150-1745607600-1745616600@www.carnavaldecadiz.com
SUMMARY:Ruta Guiada 'Cádiz y la Segunda República'
DESCRIPTION:Con motivo del 94º aniversario de la proclamación de la II República\, una nueva ruta memorialista por la ciudad\, creada para la ocasión por el magnífico Santiago Moreno\, en la que descubrir y (re)conocer el Cádiz en los años de la II República. \nTendrá lugar el viernes 25 de abril a las 19 horas desde la Plaza de España\, habrá mas sorpresas\, pero ya se anunciarán en su momento. \nPara mas info y reservas: iucadizciudad@iucadiz.org
URL:https://www.carnavaldecadiz.com/event/ruta-guiada-cadiz-y-la-segunda-republica/
LOCATION:Plaza de España\, Cádiz\, Plaza de España\, Cádiz\, Cádiz\, 11006\, España
CATEGORIES:Mucho más que carnaval,Ruta Cultural
END:VEVENT
BEGIN:VEVENT
DTSTART;TZID=Europe/Madrid:20250425T200000
DTEND;TZID=Europe/Madrid:20250425T220000
DTSTAMP:20260421T164046
CREATED:20250409T102019Z
LAST-MODIFIED:20250417T182653Z
UID:19955-1745611200-1745618400@www.carnavaldecadiz.com
SUMMARY:Actuación de la FRAC
DESCRIPTION:
URL:https://www.carnavaldecadiz.com/event/actuacion-de-la-frac/
LOCATION:Calero Pita 2\, calle Calero Pita 2\, Entrevías\, Madrid\, Madrid\, 28053\, Spain
CATEGORIES:Mucho más que carnaval
END:VEVENT
BEGIN:VEVENT
DTSTART;TZID=Europe/Madrid:20250425T200000
DTEND;TZID=Europe/Madrid:20250425T220000
DTSTAMP:20260421T164046
CREATED:20250409T102536Z
LAST-MODIFIED:20250417T182840Z
UID:19959-1745611200-1745618400@www.carnavaldecadiz.com
SUMMARY:'Ocho apellidos Andaluces' en Logroño
DESCRIPTION:
URL:https://www.carnavaldecadiz.com/event/ocho-apellidos-andaluces-en-logrono/
LOCATION:Auditorio Municipal\, Logroño\, Avenida de la Paz 11\, Logroño\, La Rioja\, 26001\, Spain
CATEGORIES:Mucho más que carnaval
END:VEVENT
BEGIN:VEVENT
DTSTART;TZID=Europe/Madrid:20250426T103000
DTEND;TZID=Europe/Madrid:20250426T170000
DTSTAMP:20260421T164046
CREATED:20250415T111921Z
LAST-MODIFIED:20250415T111921Z
UID:20087-1745663400-1745686800@www.carnavaldecadiz.com
SUMMARY:Limpieza Colectiva y Encuentro Ciudadano
DESCRIPTION:¡¡YA ESTÁ AQUÍ DE NUEVO EL ‘FREGAO DE PRIMAVERA’ !! Sábado 26 de abril\, junto al Río San Pedro\,\nVolvemos a juntarnos contra las basuras y para pasarlo bien. \n\n10:30h – Limpieza colectiva.\n13:00h – Stands\, talleres\, gimkana familiar y rutas ambientales.\n14:00h – Actuaciones\n– comparsa ‘Antología de Acordes’\n– ‘Chirigota del Pollo’\n– Banda rock ‘Machine Learning’\n\npara echar un día defendiendo la naturaleza mientras la disfrutamos en el Parque de los Toruños\, junto al Caño de la Cortadura (Barriada Río San Pedro) \nEvento público de libre acceso.
URL:https://www.carnavaldecadiz.com/event/limpieza-colectiva-y-encuentro-ciudadano/
LOCATION:Barriada Río San Pedro\, Barriada Río San Pedro\, Puerto Real\, Cádiz\, 11519\, Spain
CATEGORIES:Mucho más que carnaval
END:VEVENT
BEGIN:VEVENT
DTSTART;TZID=Europe/Madrid:20250426T110000
DTEND;TZID=Europe/Madrid:20250426T130000
DTSTAMP:20260421T164046
CREATED:20250422T002532Z
LAST-MODIFIED:20250422T002532Z
UID:20363-1745665200-1745672400@www.carnavaldecadiz.com
SUMMARY:Ruta cultural 'Cádiz de leyendas'
DESCRIPTION:¿Te imaginas pasear por el barrio más antiguo de Europa mientras te cuentan historias reales\, leyendas gaditanas\, y todo con mucho arte\, risas y cuplés? El fraile te espera este sábado 26 de abril a las 11:00h para un recorrido único\, lleno de humor\, curiosidades históricas y ese age que solo Cádiz sabe dar  Monólogos itinerantes\, que dura más de una hora y media… ¡y se te pasa volando entre carcajadas! Pide información y Reserva tu plaza por privado o escribiendo a historietasdecadiz@gmail.com
URL:https://www.carnavaldecadiz.com/event/ruta-cultural-cadiz-de-leyendas-3/
LOCATION:Cádiz\, Cádiz\, Cádiz\, España
CATEGORIES:Mucho más que carnaval
END:VEVENT
BEGIN:VEVENT
DTSTART;TZID=Europe/Madrid:20250426T180000
DTEND;TZID=Europe/Madrid:20250426T200000
DTSTAMP:20260421T164046
CREATED:20250411T185408Z
LAST-MODIFIED:20250411T185408Z
UID:20015-1745690400-1745697600@www.carnavaldecadiz.com
SUMMARY:Actuación de Lolo Sevilla
DESCRIPTION:Evento público de libre acceso.
URL:https://www.carnavaldecadiz.com/event/actuacion-de-lolo-sevilla/
LOCATION:Asociación Escaparate\, Cádiz\, calle Ahumada 8\, Cádiz\, Cádiz\, 11004\, Spain
CATEGORIES:Mucho más que carnaval
END:VEVENT
BEGIN:VEVENT
DTSTART;TZID=Europe/Madrid:20250426T220000
DTEND;TZID=Europe/Madrid:20250426T233000
DTSTAMP:20260421T164046
CREATED:20250424T135843Z
LAST-MODIFIED:20250424T135843Z
UID:20454-1745704800-1745710200@www.carnavaldecadiz.com
SUMMARY:Noche de Humor. Match de Improvisación
DESCRIPTION:Evento público de libre acceso.
URL:https://www.carnavaldecadiz.com/event/noche-de-humor-match-de-improvisacion-3/
LOCATION:Sugar Café\, San Fernando\, calle Hermanos Lahué 18\, San Fernando\, Cádiz\, 11100\, España
CATEGORIES:Mucho más que carnaval
END:VEVENT
END:VCALENDAR