BEGIN:VCALENDAR
VERSION:2.0
PRODID:-//Carnaval de C&aacute;diz - ECPv6.15.20//NONSGML v1.0//EN
CALSCALE:GREGORIAN
METHOD:PUBLISH
X-WR-CALNAME:Carnaval de C&aacute;diz
X-ORIGINAL-URL:https://www.carnavaldecadiz.com
X-WR-CALDESC:Eventos para Carnaval de C&aacute;diz
REFRESH-INTERVAL;VALUE=DURATION:PT1H
X-Robots-Tag:noindex
X-PUBLISHED-TTL:PT1H
BEGIN:VTIMEZONE
TZID:Europe/Madrid
BEGIN:DAYLIGHT
TZOFFSETFROM:+0100
TZOFFSETTO:+0200
TZNAME:CEST
DTSTART:20230326T010000
END:DAYLIGHT
BEGIN:STANDARD
TZOFFSETFROM:+0200
TZOFFSETTO:+0100
TZNAME:CET
DTSTART:20231029T010000
END:STANDARD
BEGIN:DAYLIGHT
TZOFFSETFROM:+0100
TZOFFSETTO:+0200
TZNAME:CEST
DTSTART:20240331T010000
END:DAYLIGHT
BEGIN:STANDARD
TZOFFSETFROM:+0200
TZOFFSETTO:+0100
TZNAME:CET
DTSTART:20241027T010000
END:STANDARD
BEGIN:DAYLIGHT
TZOFFSETFROM:+0100
TZOFFSETTO:+0200
TZNAME:CEST
DTSTART:20250330T010000
END:DAYLIGHT
BEGIN:STANDARD
TZOFFSETFROM:+0200
TZOFFSETTO:+0100
TZNAME:CET
DTSTART:20251026T010000
END:STANDARD
BEGIN:DAYLIGHT
TZOFFSETFROM:+0100
TZOFFSETTO:+0200
TZNAME:CEST
DTSTART:20260329T010000
END:DAYLIGHT
BEGIN:STANDARD
TZOFFSETFROM:+0200
TZOFFSETTO:+0100
TZNAME:CET
DTSTART:20261025T010000
END:STANDARD
END:VTIMEZONE
BEGIN:VEVENT
DTSTART;VALUE=DATE:20241220
DTEND;VALUE=DATE:20250317
DTSTAMP:20260421T182154
CREATED:20241211T161953Z
LAST-MODIFIED:20241211T161953Z
UID:15773-1734652800-1742169599@www.carnavaldecadiz.com
SUMMARY:Exposición de Fernando Devesa en Ceuta
DESCRIPTION:Horario de visitas: \n\nde 10:00h a 14:00h\nde 17:00h a 20:00h\n\nEntrada libre. \nArtículos relacionados: \n\nEl Cartel del Carnaval 2025 asignado a Fernando Devesa\nCartel de Carnaval 2025: ‘Tan carnavaleramente puro’
URL:https://www.carnavaldecadiz.com/event/exposicion-de-fernando-devesa-en-ceuta/
LOCATION:Museo de Ceuta\, Paseo del Revellín\, 30\, Ceuta\, Ceuta\, 51001\, Spain
CATEGORIES:Mucho más que carnaval
END:VEVENT
BEGIN:VEVENT
DTSTART;TZID=Europe/Madrid:20250303T210000
DTEND;TZID=Europe/Madrid:20250303T220000
DTSTAMP:20260421T182154
CREATED:20250326T220930Z
LAST-MODIFIED:20250326T220930Z
UID:19708-1741035600-1741039200@www.carnavaldecadiz.com
SUMMARY:Concierto en cuaresma. Camerata de Plectro 'A Tempo'
DESCRIPTION:Evento público de libre acceso
URL:https://www.carnavaldecadiz.com/event/concierto-en-cuaresma-camerata-de-plectro-a-tempo/
LOCATION:Colegio Salesianos\, Cádiz\, Avenida María Auxiliadora 7\, Cádiz\, Cádiz\, 11009\, España
CATEGORIES:Mucho más que carnaval
END:VEVENT
BEGIN:VEVENT
DTSTART;TZID=Europe/Madrid:20250311T180000
DTEND;TZID=Europe/Madrid:20250311T193000
DTSTAMP:20260421T182154
CREATED:20250308T015330Z
LAST-MODIFIED:20250308T015330Z
UID:18967-1741716000-1741721400@www.carnavaldecadiz.com
SUMMARY:Proyección de 'El Desayuno' de Manuel Iborra
DESCRIPTION:Entrada gratuita con reserva en el 629555896
URL:https://www.carnavaldecadiz.com/event/proyeccion-de-el-desayuno-de-manuel-iborra/
LOCATION:Teatro Principal\, Puerto real\, Calle Amargura 59\, Puerto Real\, Cádiz\, 11510\, España
CATEGORIES:Mucho más que carnaval
END:VEVENT
BEGIN:VEVENT
DTSTART;TZID=Europe/Madrid:20250313T190000
DTEND;TZID=Europe/Madrid:20250313T210000
DTSTAMP:20260421T182154
CREATED:20250312T153459Z
LAST-MODIFIED:20250312T153459Z
UID:19182-1741892400-1741899600@www.carnavaldecadiz.com
SUMMARY:Presentación de 'EL ASESINO DE VIEJOS' de David Magrañal
DESCRIPTION:Evento público de libre acceso.
URL:https://www.carnavaldecadiz.com/event/presentacion-de-el-asesino-de-viejos-de-david-magranal-3/
LOCATION:Peña Los Adoquines\, calle Sagasta 91\, Cádiz\, Cádiz\, 11002\, España
CATEGORIES:Mucho más que carnaval
END:VEVENT
BEGIN:VEVENT
DTSTART;TZID=Europe/Madrid:20250320T190000
DTEND;TZID=Europe/Madrid:20250320T210000
DTSTAMP:20260421T182154
CREATED:20250319T132956Z
LAST-MODIFIED:20250319T132956Z
UID:19391-1742497200-1742504400@www.carnavaldecadiz.com
SUMMARY:Presentación del libro 'Manuel de la escalera' Desde la celda al olvido
DESCRIPTION:Presentación del libro “𝕄𝕒𝕟𝕦𝕖𝕝 𝕕𝕖 𝕝𝕒 𝔼𝕤𝕔𝕒𝕝𝕖𝕣𝕒. 𝔻𝕖𝕤𝕕𝕖 𝕝𝕒 𝕔𝕖𝕝𝕕𝕒 𝕒𝕝 𝕠𝕝𝕧𝕚𝕕𝕠” y contaremos con su autor Alfonso Oñate.\n\n\n\nEsta publicación intenta rescatar del olvido la memoria del artista Manuel de la Escalera (escultor\, divulgador\, realizador\, traductor y escritor) que vivió la Guerra Civil y la cruel represión franquista”.\n\nEvento público de libre acceso.
URL:https://www.carnavaldecadiz.com/event/presentacion-del-libro-manuel-de-la-escalera-desde-la-celda-al-olvido/
LOCATION:Peña Los Adoquines\, calle Sagasta 91\, Cádiz\, Cádiz\, 11002\, España
CATEGORIES:Mucho más que carnaval
END:VEVENT
BEGIN:VEVENT
DTSTART;TZID=Europe/Madrid:20250320T203000
DTEND;TZID=Europe/Madrid:20250320T220000
DTSTAMP:20260421T182155
CREATED:20250317T210645Z
LAST-MODIFIED:20250317T210645Z
UID:19283-1742502600-1742508000@www.carnavaldecadiz.com
SUMMARY:Los Jueves en 'La Casapuerta'
DESCRIPTION:Hoy Mirian Peralta entrevista a Laura Jurado y viceversa. \nEvento público de libre acceso.
URL:https://www.carnavaldecadiz.com/event/los-jueves-en-la-casapuerta/
LOCATION:Bar La Casapuerta\, calle Sagasta 40\, Cádiz\, Cádiz\, 11001\, España
CATEGORIES:mesa de debate,Mucho más que carnaval
END:VEVENT
BEGIN:VEVENT
DTSTART;TZID=Europe/Madrid:20250321T210000
DTEND;TZID=Europe/Madrid:20250321T230000
DTSTAMP:20260421T182155
CREATED:20250317T221453Z
LAST-MODIFIED:20250317T221453Z
UID:19302-1742590800-1742598000@www.carnavaldecadiz.com
SUMMARY:Match de Improvisación. Especial Coña Cuaresma
DESCRIPTION:
URL:https://www.carnavaldecadiz.com/event/match-de-improvisacion-especial-cona-cuaresma/
LOCATION:Café Tatro Pay Pay\, C/ Silencio\, Cádiz\, Cádiz\, 11002
CATEGORIES:Mucho más que carnaval
END:VEVENT
BEGIN:VEVENT
DTSTART;TZID=Europe/Madrid:20250325T170000
DTEND;TZID=Europe/Madrid:20250325T193000
DTSTAMP:20260421T182155
CREATED:20250323T204806Z
LAST-MODIFIED:20250323T205105Z
UID:19610-1742922000-1742931000@www.carnavaldecadiz.com
SUMMARY:Ruta 'Cádiz y su teatro Falla'
DESCRIPTION:Nuevas oportunidades de visitar el Gran Teatro Falla con nuestra ruta contada y cantada!Reservad antes de que se acaben las plazas limitadas:Información y reservas en reservas@1d3milhistorias.com www.1d3milhistorias.com
URL:https://www.carnavaldecadiz.com/event/ruta-cadiz-y-su-teatro-falla-2/
LOCATION:Plaza Fragela\, Cádiz\, Plaza Fragela\, Cádiz\, Cádiz\, 11003\, España
CATEGORIES:Mucho más que carnaval
END:VEVENT
BEGIN:VEVENT
DTSTART;TZID=Europe/Madrid:20250325T180000
DTEND;TZID=Europe/Madrid:20250325T200000
DTSTAMP:20260421T182155
CREATED:20250323T203920Z
LAST-MODIFIED:20250323T203920Z
UID:19606-1742925600-1742932800@www.carnavaldecadiz.com
SUMMARY:Presentación del libro 'Anecdotario de hospital\, y tal...'
DESCRIPTION:Evento público de libre acceso.
URL:https://www.carnavaldecadiz.com/event/presentacion-del-libro-anecdotario-de-hospital-y-tal/
LOCATION:Sede Ganar Cádiz\, calle Libertad 11\, Cádiz\, Cádiz\, 11005\, Spain
CATEGORIES:Mucho más que carnaval
END:VEVENT
BEGIN:VEVENT
DTSTART;TZID=Europe/Madrid:20250327T193000
DTEND;TZID=Europe/Madrid:20250327T203000
DTSTAMP:20260421T182155
CREATED:20250326T194957Z
LAST-MODIFIED:20250326T194957Z
UID:19674-1743103800-1743107400@www.carnavaldecadiz.com
SUMMARY:Lectura Musical 'Esto no puede estar pasando'
DESCRIPTION:Intervienen:; \n\nKoki Sánchez\, actriz\nAlicia Domínguez\, escritora\nEmilio Martín\, violinista\n\nEvento público de libre acceso
URL:https://www.carnavaldecadiz.com/event/lectura-musical-esto-no-puede-estar-pasando-2/
LOCATION:Librería La Maga\, Cádiz\, Avenida Periodista Beatriz Cienfuegos\, Delfín 8-12\, Local 4A\, Cádiz\, Cádiz\, 11011\, Spain
CATEGORIES:Mucho más que carnaval
END:VEVENT
BEGIN:VEVENT
DTSTART;TZID=Europe/Madrid:20250327T200000
DTEND;TZID=Europe/Madrid:20250327T220000
DTSTAMP:20260421T182155
CREATED:20250326T210023Z
LAST-MODIFIED:20250326T210023Z
UID:19691-1743105600-1743112800@www.carnavaldecadiz.com
SUMMARY:Micro Abierto de comedia y magia
DESCRIPTION:Entre los humoristas participará el Gran Txapela Cádiz
URL:https://www.carnavaldecadiz.com/event/micro-abierto-de-comedia-y-magia/
LOCATION:Sugar Café\, San Fernando\, calle Hermanos Lahué 18\, San Fernando\, Cádiz\, 11100\, España
CATEGORIES:Mucho más que carnaval
END:VEVENT
BEGIN:VEVENT
DTSTART;TZID=Europe/Madrid:20250327T203000
DTEND;TZID=Europe/Madrid:20250327T220000
DTSTAMP:20260421T182155
CREATED:20250317T211611Z
LAST-MODIFIED:20250317T211611Z
UID:19286-1743107400-1743112800@www.carnavaldecadiz.com
SUMMARY:Los Jueves en 'La Casapuerta'
DESCRIPTION:Encuentro con Cristina Braza\, autora del libro ‘Artículos de Carnaval’. Un viaje por la historia del libro ‘Tras los versos del capitán veneno’ desde su creación hasta la experiencia más significativa y personal de Cristina Braza junto con Juan Aragón\, padre de Juan Carlos Aragón Becerra\, en el recorrido de aquel proyecto. También ofrece un compendio de artículos de opinión sobre diversos aspectos del Carnaval de Cádiz. \nEvento público de libre acceso.
URL:https://www.carnavaldecadiz.com/event/los-jueves-en-la-casapuerta-2/
LOCATION:Bar La Casapuerta\, calle Sagasta 40\, Cádiz\, Cádiz\, 11001\, España
CATEGORIES:mesa de debate,Mucho más que carnaval
END:VEVENT
BEGIN:VEVENT
DTSTART;TZID=Europe/Madrid:20250329T120000
DTEND;TZID=Europe/Madrid:20250330T030000
DTSTAMP:20260421T182155
CREATED:20250318T141347Z
LAST-MODIFIED:20250328T153037Z
UID:19333-1743249600-1743303600@www.carnavaldecadiz.com
SUMMARY:SORORAMA - Festival Feminista de Cádiz
DESCRIPTION:Programa sábado 29 de marzo\n12:00h – Apertura de puertas \n12:30h – SALA 1 – Presentación de libros \n\nMarta Ortíz\nThais Gamaza\nIrene Carrasco\n\n13:30h – Danza y acto de concienciación social. Con Irene Súnico Vega. \n14:00h – Dj. \n16:30h – Mesa Redonda. Mujer y Carnaval \n18:00h – Actuación de la Chirigota Callejera ‘ALDI’ \n19:00h – Actuación de un Romancero \n19:30h – Actuación de la Comparsa Feminista ‘La valla’ \n20:30h – Dj \n22:30h – Concierto de ‘María la Mónica’ \n00:00h – 02:00h – Dj \nTodas las actividades de este programa son públicos de libre acceso.
URL:https://www.carnavaldecadiz.com/event/sororama-festival-feminista-de-cadiz-2/
LOCATION:Baluarte de Candelaria\, Alameda Hermanas Carvia Bernal 6\, Cádiz\, Cádiz\, 11003\, España
CATEGORIES:actuaciones de carnaval,carnaval callejero,carnaval feminista,conferencia de carnaval,mesa de debate,Mucho más que carnaval
END:VEVENT
BEGIN:VEVENT
DTSTART;TZID=Europe/Madrid:20250329T203000
DTEND;TZID=Europe/Madrid:20250329T213000
DTSTAMP:20260421T182155
CREATED:20250320T171438Z
LAST-MODIFIED:20250320T171438Z
UID:19410-1743280200-1743283800@www.carnavaldecadiz.com
SUMMARY:Lectura Musical 'Esto no puede estar pasando'
DESCRIPTION:Evento público de libre acceso hasta completar aforo.
URL:https://www.carnavaldecadiz.com/event/lectura-musical-esto-no-puede-estar-pasando/
LOCATION:Club Social Exartes\, Puerto Real\, calle San Alejandro 41\, Puerto Real\, Cádiz\, 11510\, Spain
CATEGORIES:Mucho más que carnaval
END:VEVENT
BEGIN:VEVENT
DTSTART;TZID=Europe/Madrid:20250329T210000
DTEND;TZID=Europe/Madrid:20250329T220000
DTSTAMP:20260421T182155
CREATED:20250326T201228Z
LAST-MODIFIED:20250326T201228Z
UID:19681-1743282000-1743285600@www.carnavaldecadiz.com
SUMMARY:Presentación de la Marcha 'Nana para la Virgen del Valle' de Julio Pardo
DESCRIPTION:Una cita importante en Jerez de la Frontera\, nada menos que el estreno de la última marcha procesional que compuso el jefe\, dedicada a la Virgen del Valle de la Hermandad del Cristo de la Expiracion … “NANA PARA LA VIRGEN DEL VALLE”.Tendremos además el lujo de cantar con los sones de la Banda de Música Nuestra Señora de Palomares – Trebujena. \nEvento público de libre acceso
URL:https://www.carnavaldecadiz.com/event/presentacion-de-la-marcha-nana-para-la-virgen-del-valle-de-julio-pardo/
LOCATION:Auditorio La Atalaya\, Museo Palacio del Tiempo\, Ferez\, Jardines de la Atalaya\, calle Cervantes 3\, Jerez de la Frontera\, Cádiz\, 11403\, Spain
CATEGORIES:Mucho más que carnaval
END:VEVENT
BEGIN:VEVENT
DTSTART;TZID=Europe/Madrid:20250329T220000
DTEND;TZID=Europe/Madrid:20250329T233000
DTSTAMP:20260421T182155
CREATED:20250326T210500Z
LAST-MODIFIED:20250326T210500Z
UID:19694-1743285600-1743291000@www.carnavaldecadiz.com
SUMMARY:Noche de Humor en Sugar Café
DESCRIPTION:Evento público de libre acceso.
URL:https://www.carnavaldecadiz.com/event/noche-de-humor-en-sugar-cafe/
LOCATION:Sugar Café\, San Fernando\, calle Hermanos Lahué 18\, San Fernando\, Cádiz\, 11100\, España
CATEGORIES:Mucho más que carnaval
END:VEVENT
BEGIN:VEVENT
DTSTART;TZID=Europe/Madrid:20250330T120000
DTEND;TZID=Europe/Madrid:20250330T143000
DTSTAMP:20260421T182155
CREATED:20250323T205041Z
LAST-MODIFIED:20250323T205041Z
UID:19613-1743336000-1743345000@www.carnavaldecadiz.com
SUMMARY:Ruta 'Cádiz y su teatro Falla'
DESCRIPTION:Nuevas oportunidades de visitar el Gran Teatro Falla con nuestra ruta contada y cantada!Reservad antes de que se acaben las plazas limitadas:Información y reservas en reservas@1d3milhistorias.com www.1d3milhisto
URL:https://www.carnavaldecadiz.com/event/ruta-cadiz-y-su-teatro-falla-3/
LOCATION:Plaza Fragela\, Cádiz\, Plaza Fragela\, Cádiz\, Cádiz\, 11003\, España
CATEGORIES:Mucho más que carnaval
END:VEVENT
END:VCALENDAR