BEGIN:VCALENDAR
VERSION:2.0
PRODID:-//Carnaval de C&aacute;diz - ECPv6.15.20//NONSGML v1.0//EN
CALSCALE:GREGORIAN
METHOD:PUBLISH
X-WR-CALNAME:Carnaval de C&aacute;diz
X-ORIGINAL-URL:https://www.carnavaldecadiz.com
X-WR-CALDESC:Eventos para Carnaval de C&aacute;diz
REFRESH-INTERVAL;VALUE=DURATION:PT1H
X-Robots-Tag:noindex
X-PUBLISHED-TTL:PT1H
BEGIN:VTIMEZONE
TZID:Europe/Madrid
BEGIN:DAYLIGHT
TZOFFSETFROM:+0100
TZOFFSETTO:+0200
TZNAME:CEST
DTSTART:20230326T010000
END:DAYLIGHT
BEGIN:STANDARD
TZOFFSETFROM:+0200
TZOFFSETTO:+0100
TZNAME:CET
DTSTART:20231029T010000
END:STANDARD
BEGIN:DAYLIGHT
TZOFFSETFROM:+0100
TZOFFSETTO:+0200
TZNAME:CEST
DTSTART:20240331T010000
END:DAYLIGHT
BEGIN:STANDARD
TZOFFSETFROM:+0200
TZOFFSETTO:+0100
TZNAME:CET
DTSTART:20241027T010000
END:STANDARD
BEGIN:DAYLIGHT
TZOFFSETFROM:+0100
TZOFFSETTO:+0200
TZNAME:CEST
DTSTART:20250330T010000
END:DAYLIGHT
BEGIN:STANDARD
TZOFFSETFROM:+0200
TZOFFSETTO:+0100
TZNAME:CET
DTSTART:20251026T010000
END:STANDARD
END:VTIMEZONE
BEGIN:VEVENT
DTSTART;TZID=Europe/Madrid:20241102T210000
DTEND;TZID=Europe/Madrid:20241102T230000
DTSTAMP:20260422T002416
CREATED:20241018T105320Z
LAST-MODIFIED:20241018T105320Z
UID:14050-1730581200-1730588400@www.carnavaldecadiz.com
SUMMARY:El gran show de Aguilera y Meni
DESCRIPTION:Compra de localidades
URL:https://www.carnavaldecadiz.com/event/el-gran-show-de-aguilera-y-meni/
LOCATION:Teatro Cervantes\, Linares\, calle Cervantes 4\, Linares\, Jaén\, 23700\, Spain
CATEGORIES:Mucho más que carnaval
END:VEVENT
BEGIN:VEVENT
DTSTART;TZID=Europe/Madrid:20241105T193000
DTEND;TZID=Europe/Madrid:20241105T210000
DTSTAMP:20260422T002416
CREATED:20241028T121008Z
LAST-MODIFIED:20241028T121008Z
UID:14352-1730835000-1730840400@www.carnavaldecadiz.com
SUMMARY:Presentación del Libro 'LOS CARNAVALES DE CÁDIZ Y SUS GENTES' de JM Manjavacas
DESCRIPTION:Este libro recoge trabajos y textos de José María Manjavacas sobre los Carnavales de Cádiz (así\, en plural) que reflejan tanto sus investigaciones antropológicas sobre este fenómeno cultural único –sobre su evolución\, su presente y sus posibles futuros– como su pasión y compromiso con la que considera «una recreación cíclica de la utopía». Incluye su riguroso Informe Técnico para la declaración del Carnaval gaditano como BIC (Bien de Interés Cultural)\, en el proceso de su reconocimiento como Patrimonio Inmaterial de la Humanidad\, varios textos (algunos de ellos en coautoría) publicados en revistas de ciencias sociales y también artículos cortos en periódicos digitales\, comentarios incisivos difundidos en redes sociales y la última entrevista que realizó\, pocos meses antes de su muerte\, en el mismo Teatro Falla\, en una de las sesiones del Concurso de 2020. A José María se le han realizado varios homenajes y dedicado un par de libros\, publicados en Córdoba en cuya universidad discurrieron sus fértiles últimos diez años de docencia e investigación\, pero faltaba el homenaje más necesario: la publicación de sus más destacados textos sobre el máximo referente identitario de su ciudad. \nComprar un ejemplar. \nEvento público de libre acceso.
URL:https://www.carnavaldecadiz.com/event/presentacion-del-libro-los-carnavales-de-cadiz-y-sus-gentes-de-jm-manjavacas/
LOCATION:Asociación de la Prensa\, Cádiz\, calle Ancha 6\, Cádiz\, Cádiz\, 11001\, España
CATEGORIES:Libros de Carnaval,Mucho más que carnaval
END:VEVENT
BEGIN:VEVENT
DTSTART;TZID=Europe/Madrid:20241107T090000
DTEND;TZID=Europe/Madrid:20241107T220000
DTSTAMP:20260422T002416
CREATED:20241014T123337Z
LAST-MODIFIED:20241014T123410Z
UID:13916-1730970000-1731016800@www.carnavaldecadiz.com
SUMMARY:XXIV Congreso Internacional de Carnaval
DESCRIPTION:PROGRAMA: Jueves\, 7 de noviembre\n09:00h – Recepción de congresistas y entrega de credenciales. \n09:30h – Acto de Inauguración\nConferencia Inaugural: El patrimonio cultural andaluz y la salvaguarda y protección de sus expresiones inmateriales. La experiencia del Carnaval de Cádiz\, Fuensanta Plata García\, Etnóloga\, Jefa del Departamento de Catalogación e Inventario\, Servicio de Protección del Patrimonio Histórico\, Dirección General de Patrimonio Histórico\, Consejería de Cultura de la Junta de Andalucía.\nPresenta y modera: Felipe Barbosa Illescas \n11:30h – Carnavales patrimonio inmaterial de la humanidad\nConferencia: Los Caretos de Podence (Portugal)\, Patricia Cordeiro\, Socióloga\, Coordinadora del Área de Patrimonio\, Turismo y Bienestar en MORE (Laboratorio Colaborativo de Investigación en Montaña)\, coordinó la candidatura del Carnaval de Podence a la Lista Representativa del Patrimonio Cultural Inmaterial de la Humanidad (UNESCO).\nPresenta y modera: Alberto Ramos Santana. \n13:00h –  Arte y artesanía: creatividad y Carnaval.\nPonencia: Pepi Mayo\, por Manoli Fernández Mayo\, Doctora en Historia\, Profesora de Historia EEMM\nPonencia: Manolo Torres\, por Ana Barceló Calatayud\, Periodista\, Doctora en Arte y Humanidades.\nPresenta y modera: Álvaro Pérez García \n16:00h – PRIMERA SESIÓN DE COMUNICACIONES. \n\nBarea Patrón\, Manuel: Carnavales en la raya hispano-lusa: vestuario del Carnaval de Cencerros de Villanueva de Valrojo (La Sanabria\, Zamora\, España).\nPlaza Blanco\, Aroa: La cultura material del Carnaval de Cádiz.\nMariscal Carlos\, Eugenio: Francisco Salazar Casero “Pantera”\, un bocetista carnavalesco.\nMoreno Brihuega\, Álvaro: Carlos Brihuega Rodríguez y su paso por el carnaval de Cádiz.\nRuiz Aliaño\, Alicia: El Carnaval de Cádiz en la academia: Análisis multidisciplinar sobre la influencia cultural y social.\nCogollo Pérez\, Paloma: Aplicación creativo-didáctica de las coplas del Carnaval de Cádiz al aprendizaje de la historia\nOrtega Cerpa\, Désirée: Trasvases entre artes escénicas y carnaval: el caso de la compañía de teatro independiente Carrusel.\nCastiñeira Ruiz\, Carmen: Participación de la mujer en el Carnaval de Cádiz de 2024.\n\nPresenta y modera: Estrella Fernández Jiménez. \n18:00h – “Carnaval en Andalucía”.\nPonencia: Carnaval en la provincia de Huelva\, por Fran García Gallardo\, Profesor Titular de Musicología\, universidad de Huelva.\nPonencia: La provincia de Sevilla y el Carnaval\, por Paco Eslava\, Profesor de Secundaria y autor de Carnaval\nPresenta y modera: Santiago Moreno Tello \n19:15h –\nPonencia: Cádiz en Rentería\, una experiencia de Carnaval\, Joseán Achúcarro\, presidente de Bi Kolorete Kutura Elkartea.\nPresenta y modera: José Marchena Domínguez \n20:00h – Proyección de documental \nMÁS INFO
URL:https://www.carnavaldecadiz.com/event/xxiv-congreso-internacional-de-carnaval/
LOCATION:Edificio Constitución 1812\, Paseo de Carlos III\, 3\, Cádiz\, Cádiz\, 11003\, España
CATEGORIES:Cátedra del Carnaval de Cádiz,conferencia de carnaval,mesa de debate,Mucho más que carnaval
ATTACH;FMTTYPE=image/jpeg:https://www.carnavaldecadiz.com/wp-content/uploads/2024/10/Cartel24Congreso400.jpg
END:VEVENT
BEGIN:VEVENT
DTSTART;TZID=Europe/Madrid:20241108T093000
DTEND;TZID=Europe/Madrid:20241108T220000
DTSTAMP:20260422T002416
CREATED:20241014T125108Z
LAST-MODIFIED:20241014T125108Z
UID:13919-1731058200-1731103200@www.carnavaldecadiz.com
SUMMARY:XXIV Congreso Internacional de Carnaval
DESCRIPTION:PROGRAMA – Viernes\, 8 de noviembre\n09:30h – SEGUNDA SESIÓN DE COMUNICACIONES \n\nSánchez-Gey Valenzuela\, Nuria: El valor comunicativo de los homenajes espontáneos de las agrupaciones durante el concurso del Falla (COAC).\nMoreno Tello\, Santiago y Plaza Blanco\, Aroa: La fotografía como elemento de estudio del Carnaval en Cádiz. El caso de La Voz de Ultratumba.\nCañadas Molina\, Juan Franciasco y Morales Fernández\, Mª de los Ángeles: Carnaval inclusivo. Ningún niño sin cantar. Nuevas aportaciones al estudio del carnaval\nCarbonell Cuéllar\, José Antonio: Cómo acompañar un pasodoble a guitarra: iniciación a las progresiones de acordes en el Carnaval gaditano\nPonce Ruinervo\, Esther Auxiliadora: El Carnaval como ideología e identidad: una herramienta didáctica para análisis filosófico y antropológico del carnaval en el sistema educativo andaluz.\nGonzález Ortegón\, Marta: El Capitán Veneno canta por Dionisos: camuflajes de Friedrich Nietzsche en la obra de Juan Carlos Aragón.\nMerino Rivera\, Elena: ¿Es poesía la comparsa?\n\nPresenta y modera: José Marchena Domínguez \n11:00h – Antes de la sardina…: gastronomía de Carnaval\nPonencia: Comidas de Carnaval\, por Manolo Ruiz Torres\, Gastrónomo y escritor con varias publicaciones entre las que destaca Cocina histórica gaditana.\nPonencia: Dulces de Carnaval\, por Mercedes López Pérez\, Profesora de Repostería EEMM\, coautora de Las Recetas Gaditanas del Doce.\nPonencia: Fiestas gastronómicas gaditanas\, por Pepe Oneto\, Periodista especializado en gastronomía\, autor de Con sabor a Carnaval\, sobre la gastronomía de Cádiz en Carnaval.\nPresenta y modera: Estrella Fernández Jiménez \n12:30h – Mesa redonda: Carnavales patrimonio inmaterial de la humanidad: la candidatura de Cádiz. \n\nPatricia del Pozo\, Consejera de Cultura y Deporte de la Junta de Andalucía\nCasimiro Mantell\, Rector de la UCA\nBruno García de León\, Alcalde de Cádiz\nAntonio Montiel\, Presidente del Aula de Cultura del Carnaval de Cádiz\n\nPresenta y modera: Francisco Perujo\, Comisionado UCA para la candidatura de Cádiz. \n16:00h – TERCERA SESIÓN DE COMUNICACIONES \n\nAlba\, Andrés y Rodríguez\, Pablo Martín: Evolución y Transformación: un Análisis de la experiencia de Murga Joven en Montevideo. EN LÍNEA\nMiranda Turnes\, Chiara: El carnaval de Montevideo en clave de género. Posibilidades de participación y desafíos. EN LÍNEA\nRomero\, Ana Clara y Venosa\, Paolo: Candombe y Archivo: Trabajos de rescate de documentos vinculado al candombe afrouruguayo. EN LÍNEA\nArijón “Arisi”\, José Luis: El Pasado\, consecuencia del presente. ¿EN LÍNEA?\nMariscal Carlos\, Eugenio: El altruismo en la escenografía de las agrupaciones del Carnaval de Cádiz.\nFernández Domínguez\, José Antonio: La documentación de Carnaval del Archivo Histórico Municipal de Cádiz. La importancia de las donaciones.\n\nPresenta y modera: Santiago Moreno Tello \n17:30h – Arte y artesanía: creatividad y Carnaval.\nPonencia: Nando\, por Alicia Reyes Daneri\, Profª de Historia del Arte EEMM\, Máster en Arquitectura y Patrimonio Histórico\, Comisaria de la exposición “Re-conociendo el Carnaval”\, sobre la arquitectura efímera del Carnaval de Cádiz del siglo XX.\nPonencia: Paco Leal\, por José Manuel Gómez\, “el Gomez”\, Profesor y Autor de Carnaval.\nPresenta y modera: Felipe Barbosa Illescas \n18:30h – Mesa redonda: Artesanía de Carnaval: panorama actual. \n\nRafa Aragón\, de Quattro´s Producción Artística.\nJuan Diego Aragón Martínez\, de Achicarte C.B.\nPancho Maura\, de Maura Revuelta.\nEnrique López Morgado\, de SoloArte Creaciones.\n\nPresenta y modera: Álvaro Pérez García \n20:00h – Conferencia de clausura: Antonio Martín García\, autor de Carnaval\nPresenta y modera: Alberto Ramos Santana \n21:00h – Actividad gastronómica en la Peña Los Dedócratas\nActuación: Selección de coplas\, fechadas entre 1959 y 2020\, dedicadas a la temática del Congreso\, a cargo de Milián Oneto y David Delgado. \nACTIVIDADES PARALELAS: Muestras de artesanía carnavalesca gaditana. \nMÁS INFO
URL:https://www.carnavaldecadiz.com/event/xxiv-congreso-internacional-de-carnaval-2/
LOCATION:Edificio Constitución 1812\, Paseo de Carlos III\, 3\, Cádiz\, Cádiz\, 11003\, España
CATEGORIES:Cátedra del Carnaval de Cádiz,conferencia de carnaval,mesa de debate,Mucho más que carnaval
ATTACH;FMTTYPE=image/jpeg:https://www.carnavaldecadiz.com/wp-content/uploads/2024/10/Cartel24Congreso400.jpg
END:VEVENT
BEGIN:VEVENT
DTSTART;TZID=Europe/Madrid:20241108T170000
DTEND;TZID=Europe/Madrid:20241108T210000
DTSTAMP:20260422T002416
CREATED:20241001T130348Z
LAST-MODIFIED:20241001T130348Z
UID:13473-1731085200-1731099600@www.carnavaldecadiz.com
SUMMARY:3ª Sesión - El Carnaval también es nuestro. Mujeres Creadoras
DESCRIPTION:La escritura II. Carnaval y transformación social.\n\nDe 17.00 h a 18\,45 h – Mesa de experiencias (Beatriz Aragón Rodríguez\, Aurora Marcos Sánchez\, Vanesa Sibón Rodríguez\, Alicia Domínguez Pérez\, Carmen Castiñeira Ruiz).\n18\,45 h a 19\,15 h – Descanso\nDe 19.15 h a 21.00 h – Máster class a dos voces ‘Cómo crear una agrupación’: Alba Fernández Neva y Eva Tubío Martínez.\n\nMás información CELAMA
URL:https://www.carnavaldecadiz.com/event/3a-sesion-el-carnaval-tambien-es-nuestro-mujeres-creadoras/
LOCATION:Facultad de Filosofia y Letras\, UCA\, Avenida Doctor Gómez Ulla 1\, Cádiz\, Cádiz\, 11003\, España
CATEGORIES:Cátedra del Carnaval de Cádiz,conferencia de carnaval,mesa de debate,Mucho más que carnaval
ATTACH;FMTTYPE=image/png:https://www.carnavaldecadiz.com/wp-content/uploads/2024/10/Taller_mujeres_creadoras-2.png
END:VEVENT
BEGIN:VEVENT
DTSTART;TZID=Europe/Madrid:20241115T170000
DTEND;TZID=Europe/Madrid:20241115T210000
DTSTAMP:20260422T002416
CREATED:20241001T131108Z
LAST-MODIFIED:20241001T131108Z
UID:13475-1731690000-1731704400@www.carnavaldecadiz.com
SUMMARY:4ª Sesión - El Carnaval también es nuestro. Mujeres Creadoras
DESCRIPTION:Música y dirección.\n\nDe 17.00 h a 18\,45 h – Mesa de experiencias (Pili Tejada Polanco\, Inés Migueles Pájaro\, Charo Quintero Ramos\, Carmen Jiménez Barea\, Soco López García)\nDe 18\,45 h a 19\,15 h – Descanso\nDe 19.00 h a 21.00 h – Debate interno para conocer expectativas y asesoramiento mutuo. Dinamiza Susana Tubío Martínez.\n\nMás información CELAMA
URL:https://www.carnavaldecadiz.com/event/4a-sesion-el-carnaval-tambien-es-nuestro-mujeres-creadoras/
LOCATION:Facultad de Filosofia y Letras\, UCA\, Avenida Doctor Gómez Ulla 1\, Cádiz\, Cádiz\, 11003\, España
CATEGORIES:Cátedra del Carnaval de Cádiz,conferencia de carnaval,mesa de debate,Mucho más que carnaval
ATTACH;FMTTYPE=image/png:https://www.carnavaldecadiz.com/wp-content/uploads/2024/10/Taller_mujeres_creadoras-2.png
END:VEVENT
BEGIN:VEVENT
DTSTART;TZID=Europe/Madrid:20241115T210000
DTEND;TZID=Europe/Madrid:20241115T230000
DTSTAMP:20260422T002416
CREATED:20241111T135524Z
LAST-MODIFIED:20241111T135524Z
UID:14831-1731704400-1731711600@www.carnavaldecadiz.com
SUMMARY:El Ramper de Jesús Bienvenido en Vélez Málaga
DESCRIPTION:Compra de localidades
URL:https://www.carnavaldecadiz.com/event/el-ramper-de-jesus-bienvenido-en-velez-malaga/
LOCATION:Teatro del Carmen\, Vélez Málaga\, calle Pancho López 1\, Vélez Málaga\, Málaga\, 29700\, Spain
CATEGORIES:Mucho más que carnaval
END:VEVENT
BEGIN:VEVENT
DTSTART;TZID=Europe/Madrid:20241122T170000
DTEND;TZID=Europe/Madrid:20241122T210000
DTSTAMP:20260422T002416
CREATED:20241001T131452Z
LAST-MODIFIED:20241001T131452Z
UID:13477-1732294800-1732309200@www.carnavaldecadiz.com
SUMMARY:5ª Sesión - El Carnaval también es nuestro. Mujeres Creadoras
DESCRIPTION:Mujeres en todas partes. Calle y concurso.\n\nDe 17.00 h a 18\,45 h – Mesa de experiencias (Patricia Andrés Olazábal\, Silvia Pérez Beiro\, Laura Rivero Ramos\, Ana Niño López\, Miriam Peralta González)\n18\,45 h a 19\,15 h – Descanso\nDe 19.15 h a 21.00 h – Máster class ‘Perspectiva feminista en el Carnaval de Cádiz’: Marta Ortiz Deusto\n\nMás información CELAMA
URL:https://www.carnavaldecadiz.com/event/5a-sesion-el-carnaval-tambien-es-nuestro-mujeres-creadoras/
LOCATION:Facultad de Filosofia y Letras\, UCA\, Avenida Doctor Gómez Ulla 1\, Cádiz\, Cádiz\, 11003\, España
CATEGORIES:Cátedra del Carnaval de Cádiz,conferencia de carnaval,mesa de debate,Mucho más que carnaval
ATTACH;FMTTYPE=image/png:https://www.carnavaldecadiz.com/wp-content/uploads/2024/10/Taller_mujeres_creadoras-2.png
END:VEVENT
BEGIN:VEVENT
DTSTART;TZID=Europe/Madrid:20241122T200000
DTEND;TZID=Europe/Madrid:20241122T220000
DTSTAMP:20260422T002416
CREATED:20241111T185107Z
LAST-MODIFIED:20241111T185107Z
UID:14875-1732305600-1732312800@www.carnavaldecadiz.com
SUMMARY:Inauguración de la Nueva sede de La Peña 'Hombres del Campo'
DESCRIPTION:Evento público de libre acceso
URL:https://www.carnavaldecadiz.com/event/inauguracion-de-la-nueva-sede-de-la-pena-hombres-del-campo/
LOCATION:Peña Hombres del Campo\, Chiclana\, calle Iro 49\, Chiclana de la Frontera\, Cádiz\, 11130\, Spain
CATEGORIES:Mucho más que carnaval
END:VEVENT
BEGIN:VEVENT
DTSTART;TZID=Europe/Madrid:20241123T200000
DTEND;TZID=Europe/Madrid:20241123T213000
DTSTAMP:20260422T002416
CREATED:20241122T121317Z
LAST-MODIFIED:20241122T121317Z
UID:15105-1732392000-1732397400@www.carnavaldecadiz.com
SUMMARY:Cabaré a la Gaditana en Valle de Mena
DESCRIPTION:Compra de LOCALIDADES
URL:https://www.carnavaldecadiz.com/event/cabare-a-la-gaditana-en-valle-de-mena/
LOCATION:Sala Amania\, Villasana de Mena\, Plaza San Antonio\, Villasana de Mena\, Burgos\, 09580\, Spain
CATEGORIES:Mucho más que carnaval
END:VEVENT
BEGIN:VEVENT
DTSTART;TZID=Europe/Madrid:20241124T190000
DTEND;TZID=Europe/Madrid:20241124T203000
DTSTAMP:20260422T002416
CREATED:20241122T120558Z
LAST-MODIFIED:20241122T120558Z
UID:15101-1732474800-1732480200@www.carnavaldecadiz.com
SUMMARY:Las Bingueras de Eurípides en Durango
DESCRIPTION:Compra de LOCALIDADES
URL:https://www.carnavaldecadiz.com/event/las-bingueras-de-euripides-en-durango/
LOCATION:Centro Cultural San Agustín\, Durango\, San Agustinalde Kalea 12\, Durango\, Bizkaia\, 48200\, Spain
CATEGORIES:Mucho más que carnaval
END:VEVENT
BEGIN:VEVENT
DTSTART;TZID=Europe/Madrid:20241125T180000
DTEND;TZID=Europe/Madrid:20241125T200000
DTSTAMP:20260422T002416
CREATED:20241122T123556Z
LAST-MODIFIED:20241122T123556Z
UID:15112-1732557600-1732564800@www.carnavaldecadiz.com
SUMMARY:Un canto por la igualdad
DESCRIPTION:
URL:https://www.carnavaldecadiz.com/event/un-canto-por-la-igualdad/
LOCATION:Escapararte\, Cádiz\, calle Ahumada 8\, Cádiz\, Cádiz\, 11004\, Spain
CATEGORIES:Mucho más que carnaval
END:VEVENT
BEGIN:VEVENT
DTSTART;TZID=Europe/Madrid:20241125T180000
DTEND;TZID=Europe/Madrid:20241125T210000
DTSTAMP:20260422T002416
CREATED:20241122T112639Z
LAST-MODIFIED:20241122T112639Z
UID:15085-1732557600-1732568400@www.carnavaldecadiz.com
SUMMARY:Proyección del Documental 'LA BALADA PERDIDA'
DESCRIPTION:Entrada libre hasta completar aforo.
URL:https://www.carnavaldecadiz.com/event/proyeccion-del-documental-la-balada-perdida-2/
LOCATION:Centro de Congresos Cortes de la Real Isla de León\, calle Real 83\, San Fernando\, Cádiz\, 11100\, España
CATEGORIES:Mucho más que carnaval
END:VEVENT
BEGIN:VEVENT
DTSTART;TZID=Europe/Madrid:20241128T210000
DTEND;TZID=Europe/Madrid:20241128T230000
DTSTAMP:20260422T002416
CREATED:20241125T132518Z
LAST-MODIFIED:20241125T132518Z
UID:15291-1732827600-1732834800@www.carnavaldecadiz.com
SUMMARY:Noche de Repálagos en el Pay-pay
DESCRIPTION:Compra de localidades en el Café Tetro Pay-Pay
URL:https://www.carnavaldecadiz.com/event/noche-de-repalagos-en-el-pay-pay-3/
LOCATION:Café Tatro Pay Pay\, C/ Silencio\, Cádiz\, Cádiz\, 11002
CATEGORIES:Mucho más que carnaval
END:VEVENT
BEGIN:VEVENT
DTSTART;TZID=Europe/Madrid:20241129T170000
DTEND;TZID=Europe/Madrid:20241129T210000
DTSTAMP:20260422T002416
CREATED:20241001T142846Z
LAST-MODIFIED:20241001T142846Z
UID:13479-1732899600-1732914000@www.carnavaldecadiz.com
SUMMARY:6ª Sesión - El Carnaval también es nuestro. Mujeres Creadoras
DESCRIPTION:Interpretación y puesta en escena.\n\nDe 17.00 h a 18\,45 h – Mesa de experiencias (Koki Sánchez Pérez\, Aida Santos-Allely\, Carolina Serrano Navarro\, Sonia Espinosa Carneiro\, Salud Botaro Rodríguez)\n18\,45 h a 19\,15 h – Descanso\nDe 19.15 h  a 20. 30 h – Máster class ‘La interpretación en carnaval’: Teresa Quintero Otero\n20.30 h a 21.00 h – Conclusiones y cierre del taller\n\nMás información CELAMA
URL:https://www.carnavaldecadiz.com/event/6a-sesion-el-carnaval-tambien-es-nuestro-mujeres-creadoras/
LOCATION:Facultad de Filosofia y Letras\, UCA\, Avenida Doctor Gómez Ulla 1\, Cádiz\, Cádiz\, 11003\, España
CATEGORIES:Cátedra del Carnaval de Cádiz,conferencia de carnaval,mesa de debate,Mucho más que carnaval
ATTACH;FMTTYPE=image/png:https://www.carnavaldecadiz.com/wp-content/uploads/2024/10/Taller_mujeres_creadoras-2.png
END:VEVENT
BEGIN:VEVENT
DTSTART;TZID=Europe/Madrid:20241129T190000
DTEND;TZID=Europe/Madrid:20241129T203000
DTSTAMP:20260422T002416
CREATED:20241127T154904Z
LAST-MODIFIED:20241127T154904Z
UID:15368-1732906800-1732912200@www.carnavaldecadiz.com
SUMMARY:Presentación de WET FLOOR en Sevilla
DESCRIPTION:Evento público de libre acceso
URL:https://www.carnavaldecadiz.com/event/presentacion-de-wet-floor-en-sevilla/
LOCATION:Librería Casa Tomada\, Sevilla\, calle Muro de los Navarros 66\, Sevilla\, Sevilla\, 41003
CATEGORIES:Mucho más que carnaval
END:VEVENT
BEGIN:VEVENT
DTSTART;TZID=Europe/Madrid:20241130T130000
DTEND;TZID=Europe/Madrid:20241130T170000
DTSTAMP:20260422T002416
CREATED:20241125T150147Z
LAST-MODIFIED:20241125T150147Z
UID:15314-1732971600-1732986000@www.carnavaldecadiz.com
SUMMARY:La Micaela Fest'24
DESCRIPTION:Evento público de libre acceso
URL:https://www.carnavaldecadiz.com/event/la-micaela-fest24/
LOCATION:Peña Mencantajeré\, calla falta 15\, Jerez de la Frontera\, Cádiz\, 11408\, España
CATEGORIES:Mucho más que carnaval
END:VEVENT
BEGIN:VEVENT
DTSTART;TZID=Europe/Madrid:20241130T220000
DTEND;TZID=Europe/Madrid:20241130T233000
DTSTAMP:20260422T002416
CREATED:20241127T182138Z
LAST-MODIFIED:20241127T182138Z
UID:15376-1733004000-1733009400@www.carnavaldecadiz.com
SUMMARY:Noche de Humor. Match de Improvisación
DESCRIPTION:Evento público de libre acceso
URL:https://www.carnavaldecadiz.com/event/noche-de-humor-match-de-improvisacion-2/
LOCATION:Sugar Café\, San Fernando\, calle Hermanos Lahué 18\, San Fernando\, Cádiz\, 11100\, España
CATEGORIES:Mucho más que carnaval
END:VEVENT
END:VCALENDAR