BEGIN:VCALENDAR
VERSION:2.0
PRODID:-//Carnaval de C&aacute;diz - ECPv6.15.20//NONSGML v1.0//EN
CALSCALE:GREGORIAN
METHOD:PUBLISH
X-WR-CALNAME:Carnaval de C&aacute;diz
X-ORIGINAL-URL:https://www.carnavaldecadiz.com
X-WR-CALDESC:Eventos para Carnaval de C&aacute;diz
REFRESH-INTERVAL;VALUE=DURATION:PT1H
X-Robots-Tag:noindex
X-PUBLISHED-TTL:PT1H
BEGIN:VTIMEZONE
TZID:Europe/Madrid
BEGIN:DAYLIGHT
TZOFFSETFROM:+0100
TZOFFSETTO:+0200
TZNAME:CEST
DTSTART:20230326T010000
END:DAYLIGHT
BEGIN:STANDARD
TZOFFSETFROM:+0200
TZOFFSETTO:+0100
TZNAME:CET
DTSTART:20231029T010000
END:STANDARD
BEGIN:DAYLIGHT
TZOFFSETFROM:+0100
TZOFFSETTO:+0200
TZNAME:CEST
DTSTART:20240331T010000
END:DAYLIGHT
BEGIN:STANDARD
TZOFFSETFROM:+0200
TZOFFSETTO:+0100
TZNAME:CET
DTSTART:20241027T010000
END:STANDARD
BEGIN:DAYLIGHT
TZOFFSETFROM:+0100
TZOFFSETTO:+0200
TZNAME:CEST
DTSTART:20250330T010000
END:DAYLIGHT
BEGIN:STANDARD
TZOFFSETFROM:+0200
TZOFFSETTO:+0100
TZNAME:CET
DTSTART:20251026T010000
END:STANDARD
END:VTIMEZONE
BEGIN:VEVENT
DTSTART;VALUE=DATE:20240503
DTEND;VALUE=DATE:20240701
DTSTAMP:20260422T081441
CREATED:20240503T124028Z
LAST-MODIFIED:20240503T124028Z
UID:10213-1714694400-1719791999@www.carnavaldecadiz.com
SUMMARY:Exposición ECHAR EL RESTO de Paco Marmol
DESCRIPTION:Evento público de libre acceso.
URL:https://www.carnavaldecadiz.com/event/exposicion-echar-el-resto-de-paco-marmol/
LOCATION:Espacio de Cultura Contemporánea ECCO\, Cádiz\, Paseo Carlos III\, 5\, Cádiz\, Cádiz\, 11003\, España
CATEGORIES:Mucho más que carnaval
ATTACH;FMTTYPE=image/jpeg:https://www.carnavaldecadiz.com/wp-content/uploads/2024/05/0503Expo2.jpg
END:VEVENT
BEGIN:VEVENT
DTSTART;VALUE=DATE:20240515
DTEND;VALUE=DATE:20240620
DTSTAMP:20260422T081441
CREATED:20240515T202953Z
LAST-MODIFIED:20240515T203405Z
UID:10482-1715731200-1718841599@www.carnavaldecadiz.com
SUMMARY:Talleres de Escritura - Biblioteca Pública Provincial
DESCRIPTION:EL DIARIO LITERARIO – Escribir desde mi experiencia cotidiana.\nImpartido por María Alcantarilla. \n\nViernes 31 de mayo\nViernes 7 de junio\nViernes 14 de junio\n\nHorario de 19:00h a 20:30h \nInscripciones a partir del 15 de mayo – 600 140 400 \nLAS PALABRAS Y LAS COSAS – Taller de poesía.\nImpartido por Miguel Ángel García Argüéz \n\nMiércoles 12 de junio\nMiércoles 19 de junio\n\nHorario de 18:30h a 20:30h \nInscripciones a partir del 29 de mayo – 600 140 400
URL:https://www.carnavaldecadiz.com/event/talleres-de-escritura-biblioteca-publica-provincial/
LOCATION:Biblioteca Pública Provincial de Cádiz\, Avenida Cuatro de Diciembre de 1977\, 16\, Cádiz\, Cádiz\, 11006\, España
CATEGORIES:Mucho más que carnaval
END:VEVENT
BEGIN:VEVENT
DTSTART;VALUE=DATE:20240601
DTEND;VALUE=DATE:20240623
DTSTAMP:20260422T081441
CREATED:20240527T213724Z
LAST-MODIFIED:20240527T213724Z
UID:10778-1717200000-1719100799@www.carnavaldecadiz.com
SUMMARY:Cádiz de Leyendas - Paseíto por Cádiz
DESCRIPTION:Sábado 1 a las 18:00h\nViernes 7 a las 19:30h\nViernes 14 a las 19:30h\nSábado 15 a las 12:00h\nViernes 21 a las 19:30h\nSábado 22 a las 19:30h\n\nMás información y reservas \nFacebook: Historietas de Cádiz \nE-mail: historietasdecadiz@gmail.com
URL:https://www.carnavaldecadiz.com/event/cadiz-de-leyendas-paseito-por-cadiz/
LOCATION:Cádiz\, Cádiz\, Cádiz\, España
CATEGORIES:Mucho más que carnaval,Ruta Cultural
END:VEVENT
BEGIN:VEVENT
DTSTART;TZID=Europe/Madrid:20240601T110000
DTEND;TZID=Europe/Madrid:20240601T133000
DTSTAMP:20260422T081441
CREATED:20240528T171647Z
LAST-MODIFIED:20240528T171704Z
UID:10802-1717239600-1717248600@www.carnavaldecadiz.com
SUMMARY:Ruta Contada y Cantada HISTORIA DEL CARNAVAL
DESCRIPTION:¿Cuándo surge el Carnaval en Cádiz? ¿Desde cuándo existe el Concurso de coplas de Carnaval? ¿Cómo surgieron las distintas modalidades de agrupaciones y cuales siguen vigentes? ¿Y sus lugares de celebración? Todas estas respuestas y mucho más en un nuevo paseo contado y cantado por el casco histórico de Cádiz. Con más de 20 coplas de Carnaval desde 1884 hasta la actualidad. Y como fin de fiesta\, un aperitivo en una taberna de Cádiz\, ¿te lo vas a perder?\n​\n​- ​Ruta contada y cantada por\nSantiago Moreno y Francis Sevilla Pecci. \n– Duración: dos horas y media aprox. \n– Precio: 16 euros por persona (*).\nMenores de 12 años no pagan.\nPrecio especial para grupos (consultar). \n(*) El precio incluye una degustación de vino y tapa en una taberna gaditana. \nReservas en reservas@1d3milhistorias.com / 690298902 / 609034072
URL:https://www.carnavaldecadiz.com/event/ruta-contada-y-cantada-historia-del-carnaval-4/
LOCATION:Cádiz\, Cádiz\, Cádiz\, España
CATEGORIES:Mucho más que carnaval
END:VEVENT
BEGIN:VEVENT
DTSTART;TZID=Europe/Madrid:20240601T130000
DTEND;TZID=Europe/Madrid:20240601T170000
DTSTAMP:20260422T081441
CREATED:20240521T200437Z
LAST-MODIFIED:20240521T200437Z
UID:10572-1717246800-1717261200@www.carnavaldecadiz.com
SUMMARY:Germán García Rendon 'Cómo nace una comparsa'
DESCRIPTION:¿Te gustaría saber cómo se escribe una comparsa?\, ¿pasar un buen rato de carnaval con coplas\, anécdotas y buen ambiente? Y después barbacoa/convivencia\, con servicio de barra a precios populares.\n \nInvitaciones en la Casa de la Cultura de Osuna.
URL:https://www.carnavaldecadiz.com/event/german-garcia-rendon-como-nace-una-comparsa/
LOCATION:La Posá\, Osuna\, calle Asistente Arjona\, Osuna\, Sevilla\, 41640\, España
CATEGORIES:conferencia de carnaval,mesa de debate,Mucho más que carnaval
END:VEVENT
BEGIN:VEVENT
DTSTART;VALUE=DATE:20240603
DTEND;VALUE=DATE:20240608
DTSTAMP:20260422T081441
CREATED:20240527T204141Z
LAST-MODIFIED:20240527T204141Z
UID:10757-1717372800-1717804799@www.carnavaldecadiz.com
SUMMARY:Jornadas de Puertas Abiertas-Archivo Histórico Provincial
DESCRIPTION:Visitas guiadas: \n\ndel 3 al 7 de junio\, de 12:00h a 13:00h\n4 y 6 de junio\, de 19:00h a 20:00h\n\nActuación de LOS JOYEROS GADITANOS\,antología de coplas inéditas dedicada a recuperar músicas de nuestro Carnaval nunca grabadas en soportes fonográficos. 5 de junio a las 20:00h\, en el patio. \nEntrada por invitación\, que ya se pueden recoger en el Archivo Histórico Provincial. \n 
URL:https://www.carnavaldecadiz.com/event/jornadas-de-puertas-abiertas-archivo-historico-provincial/
LOCATION:Archivo Histórico Provincial\, Cádiz\, calle Cristobal Colon\, 12\, Cádiz\, Cádiz\, 11005\, España
CATEGORIES:actuaciones de carnaval,Mucho más que carnaval
END:VEVENT
BEGIN:VEVENT
DTSTART;VALUE=DATE:20240603
DTEND;VALUE=DATE:20240628
DTSTAMP:20260422T081441
CREATED:20240603T214322Z
LAST-MODIFIED:20240603T214322Z
UID:10968-1717372800-1719532799@www.carnavaldecadiz.com
SUMMARY:La escuelita de las palabras INICIACIÓN A LA ESCRITURA
DESCRIPTION:Nueva fecha para nuestro curso de escritura creativa. Será el primero de una nueva serie que vamos a llamar cursos de Verano\, que vamos a ir publicando en breve. Sumérgete en este viaje del que volverás siendo una persona con una mirada completamente nueva  Ya saben\, plazas limitadas para garantizar una experiencia personalizada. Fechas del Curso: 6\, 13\, 20 y 27 de Junio Inscríbete aquí: https://bit.ly/4aL9JS4
URL:https://www.carnavaldecadiz.com/event/la-escuelita-de-las-palabras-iniciacion-a-la-escritura/
LOCATION:Cádiz\, Cádiz\, Cádiz\, España
CATEGORIES:Mucho más que carnaval
END:VEVENT
BEGIN:VEVENT
DTSTART;VALUE=DATE:20240604
DTEND;VALUE=DATE:20240608
DTSTAMP:20260422T081441
CREATED:20240529T102434Z
LAST-MODIFIED:20240529T102434Z
UID:10830-1717459200-1717804799@www.carnavaldecadiz.com
SUMMARY:Exposición CARNAVAL DE BARRO
DESCRIPTION:Tipos del Carnaval Gaditano  es una exposición de esculturas realizadas por Manuel Bueno Morón. \nHorario de visitas de 18:00h a 21:00h \nEvento público de libre acceso. \n 
URL:https://www.carnavaldecadiz.com/event/exposicion-carnaval-de-barro/
LOCATION:AVV Fuerte de San Lorenzo\, Cádiz\, Avenida Marconi 38\, Cádiz\, Cádiz\, 11011\, España
CATEGORIES:Mucho más que carnaval
END:VEVENT
BEGIN:VEVENT
DTSTART;TZID=Europe/Madrid:20240604T193000
DTEND;TZID=Europe/Madrid:20240604T213000
DTSTAMP:20260422T081441
CREATED:20240529T104241Z
LAST-MODIFIED:20240529T104241Z
UID:10834-1717529400-1717536600@www.carnavaldecadiz.com
SUMMARY:Presentación del Libro LAS BINGUERAS DE EURÍPIDES
DESCRIPTION:LAS BINGUERAS DE EURÍPIDES es una obra de teatro finalista en los premios MAX de Teatro\, como Mejor adaptación o Versión de Obra Teatral o Coreografía. En esta ocasión se presenta el libro escrito por Ana López Segovia de la obra. \nActo presentado por Enrique Miranda y el editor Juan José Sánchez Sandoval; y contará con la asistencia de la autora. \nEvento público de libre acceso.
URL:https://www.carnavaldecadiz.com/event/presentacion-del-libro-las-bingueras-de-euripides/
LOCATION:Antigua Parra de Veedor\, Cádiz\, calle Veedor 2\, Cádiz\, Cádiz\, 11003\, España
CATEGORIES:Mucho más que carnaval
END:VEVENT
BEGIN:VEVENT
DTSTART;VALUE=DATE:20240606
DTEND;VALUE=DATE:20240608
DTSTAMP:20260422T081441
CREATED:20240521T192836Z
LAST-MODIFIED:20240521T192836Z
UID:10568-1717632000-1717804799@www.carnavaldecadiz.com
SUMMARY:ANIMARTE -  Visitas al Archivo Histórico Provincial
DESCRIPTION:Jornadas de puertas abiertas del Archivo Histórico Provincial\nVisitas teatralizadas a cargo de ANIMARTE\, el jueves 6 y viernes 7 de junio. \nHorario de comienzo de cada visita \n\n10:00 h\n11:15 h\n12:30 h\n\nInscripción previa hasta completar aforo\, llamando al 956 203 351 o enviando un email a: \ninformacion.ahp.ca.ccul@juntadeandalucia.es
URL:https://www.carnavaldecadiz.com/event/animarte-visitas-al-archivo-historico-provincial/
LOCATION:Archivo Histórico Provincial\, Cádiz\, calle Cristobal Colon\, 12\, Cádiz\, Cádiz\, 11005\, España
CATEGORIES:Mucho más que carnaval
END:VEVENT
BEGIN:VEVENT
DTSTART;TZID=Europe/Madrid:20240606T190000
DTEND;TZID=Europe/Madrid:20240606T210000
DTSTAMP:20260422T081441
CREATED:20240603T213700Z
LAST-MODIFIED:20240603T213700Z
UID:10965-1717700400-1717707600@www.carnavaldecadiz.com
SUMMARY:Presentación del Libro SE ACABÓ
DESCRIPTION:Evento público de libre acceso.
URL:https://www.carnavaldecadiz.com/event/presentacion-del-libro-se-acabo/
LOCATION:Asociación Amigos de Quiñones\, Cádiz\, calle Ancha 16\, Cádiz\, Cádiz\, 11001\, España
CATEGORIES:Mucho más que carnaval
END:VEVENT
BEGIN:VEVENT
DTSTART;VALUE=DATE:20240607
DTEND;VALUE=DATE:20240608
DTSTAMP:20260422T081442
CREATED:20240305T124433Z
LAST-MODIFIED:20240305T124433Z
UID:8555-1717718400-1717804799@www.carnavaldecadiz.com
SUMMARY:El musical LA HERENCIA DEL BISABUELO en Alcalá de Guadaira
DESCRIPTION:LA HERENCIA DEL BISABUELO\, EL MUSICAL DE CÁDIZ es el musical del Noly\, el último gran maestro del 3×4 y uno de los músicos más importantes de la historia del Carnaval gaditano. \nEl “Beethoven de la Viña” es el protagonista de una obra inspirada en aquella chirigota inolvidable de 1993\, “Los Bisabuelos de los viejos del 55”\, homenaje a la mítica murga de Antonio Clavaín y Antonio Marín de mediados del siglo pasado\, previa al mayor pelotazo de su trayectoria\, “Las Viudas de los bisabuelos de los viejos del 55”\, en cuya autoría le acompañaron Paco Cárdenas y Ramón Peñalver. \nEl musical\, dividido en un prólogo y tres actos\, está conducido por la viuda Candelaria (Alfonso Nuño)\, que relata sus vivencias en el barrio de la Viña\, su día a día\, su infancia\, sus recuerdos con el bisabuelo y su carnaval. El relato es el mejor pretexto para rescatar 26 coplas imprescindibles de su repertorio\, 14 interpretadas en el formato clásico de chirigota y 12 versionadas por un grupo musical. \n  \nventa de localidades
URL:https://www.carnavaldecadiz.com/event/el-musical-la-herencia-del-bisabuelo-en-alcala-de-guadaira-2/
LOCATION:Auditorio Riberas del Guadaira\, calle Roberto Leal s/n\, Alcalá de Guadaira\, Sevilla\, 41500\, España
CATEGORIES:actuaciones de carnaval,Mucho más que carnaval
END:VEVENT
BEGIN:VEVENT
DTSTART;TZID=Europe/Madrid:20240607T210000
DTEND;TZID=Europe/Madrid:20240607T230000
DTSTAMP:20260422T081442
CREATED:20240416T171829Z
LAST-MODIFIED:20240416T171829Z
UID:9710-1717794000-1717801200@www.carnavaldecadiz.com
SUMMARY:Concierto de Antoñito Molina en Madrid
DESCRIPTION:Compra de localidades
URL:https://www.carnavaldecadiz.com/event/concierto-de-antonito-molina-en-madrid/
LOCATION:Sala La Riviera\, Madrid\, P.º Bajo de la Virgen del Puerto\, S/N\, Arganzuela\, Madrid\, Madrid\, 28005\, España
CATEGORIES:Mucho más que carnaval
END:VEVENT
BEGIN:VEVENT
DTSTART;TZID=Europe/Madrid:20240607T210000
DTEND;TZID=Europe/Madrid:20240607T230000
DTSTAMP:20260422T081442
CREATED:20240521T190520Z
LAST-MODIFIED:20240521T190520Z
UID:10561-1717794000-1717801200@www.carnavaldecadiz.com
SUMMARY:Ángel Gago en la Peña Nuestra Andalucía
DESCRIPTION:Más información y reservas en 615532153
URL:https://www.carnavaldecadiz.com/event/angel-gago-en-la-pena-nuestra-andalucia/
LOCATION:Peña Nuestra Andalucía\, Cádiz\, calle María Arteaga 25\, Cádiz\, Cádiz\, 11002\, España
CATEGORIES:actuaciones de carnaval,mesa de debate,Mucho más que carnaval
END:VEVENT
BEGIN:VEVENT
DTSTART;TZID=Europe/Madrid:20240607T220000
DTEND;TZID=Europe/Madrid:20240607T233000
DTSTAMP:20260422T081442
CREATED:20240503T121959Z
LAST-MODIFIED:20240503T122415Z
UID:10203-1717797600-1717803000@www.carnavaldecadiz.com
SUMMARY:Garrapata Vs Trinchera en Ayamonte
DESCRIPTION:Compra de localidades
URL:https://www.carnavaldecadiz.com/event/garrapata-vs-trinchera-en-ayamonte/
LOCATION:Teatro Cardenio\, Ayamonte\, calle Enrique Villegas Vélez s/n\, Ayamonte\, Huelva\, 21400\, España
CATEGORIES:Mucho más que carnaval
END:VEVENT
BEGIN:VEVENT
DTSTART;TZID=Europe/Madrid:20240608T210000
DTEND;TZID=Europe/Madrid:20240608T230000
DTSTAMP:20260422T081442
CREATED:20240521T162114Z
LAST-MODIFIED:20240521T162114Z
UID:10536-1717880400-1717887600@www.carnavaldecadiz.com
SUMMARY:Super Héroes de la Improvisación en el Pay-pay
DESCRIPTION:Compra o reserva de localidades en Café Teatro Pay-pay
URL:https://www.carnavaldecadiz.com/event/super-heroes-de-la-improvisacion-en-el-pay-pay/
LOCATION:Café Tatro Pay Pay\, C/ Silencio\, Cádiz\, Cádiz\, 11002
CATEGORIES:Mucho más que carnaval
END:VEVENT
BEGIN:VEVENT
DTSTART;TZID=Europe/Madrid:20240608T213000
DTEND;TZID=Europe/Madrid:20240608T233000
DTSTAMP:20260422T081442
CREATED:20240416T172230Z
LAST-MODIFIED:20240416T172230Z
UID:9713-1717882200-1717889400@www.carnavaldecadiz.com
SUMMARY:Concierto de Antoñito Molina en Albacete
DESCRIPTION:Compra de localidades
URL:https://www.carnavaldecadiz.com/event/concierto-de-antonito-molina-en-albacete/
LOCATION:Palacio de Congresos de Albacete\, calle Autovia 1\, Albacete\, Albacete\, 02007\, España
CATEGORIES:Mucho más que carnaval
END:VEVENT
BEGIN:VEVENT
DTSTART;TZID=Europe/Madrid:20240609T200000
DTEND;TZID=Europe/Madrid:20240609T213000
DTSTAMP:20260422T081442
CREATED:20240405T123954Z
LAST-MODIFIED:20240405T123954Z
UID:9360-1717963200-1717968600@www.carnavaldecadiz.com
SUMMARY:Garrapata Vs Trinchera ¡Sólo puede quedar uno!
DESCRIPTION:Compra de localidades
URL:https://www.carnavaldecadiz.com/event/garrapata-vs-trinchera-solo-puede-quedar-uno-3/
LOCATION:Teatro Riberas del Guadaira\, Alcalá de Guadaira\, calle Roberto Leal s/n\, Alcalá de Guadaira\, Sevilla\, 41500\, España
CATEGORIES:Mucho más que carnaval
END:VEVENT
BEGIN:VEVENT
DTSTART;TZID=Europe/Madrid:20240610T193000
DTEND;TZID=Europe/Madrid:20240610T220000
DTSTAMP:20260422T081442
CREATED:20240522T120221Z
LAST-MODIFIED:20240522T120233Z
UID:10606-1718047800-1718056800@www.carnavaldecadiz.com
SUMMARY:Proyección y Coloquio LA SAUCEDA\, DE LA UTOPÍA AL HORROR
DESCRIPTION:Evento público de libre acceso. Aforo limitado.
URL:https://www.carnavaldecadiz.com/event/proyeccion-y-coloquio-la-sauceda-dela-utopia-al-horror/
LOCATION:Club Social de Empleados Municipales\, Cádiz\, calle Alcalá Galiano 3D\, Cádiz\, Cádiz\, España
CATEGORIES:Mucho más que carnaval
END:VEVENT
BEGIN:VEVENT
DTSTART;TZID=Europe/Madrid:20240613T190000
DTEND;TZID=Europe/Madrid:20240613T210000
DTSTAMP:20260422T081442
CREATED:20240610T180810Z
LAST-MODIFIED:20240610T180810Z
UID:11110-1718305200-1718312400@www.carnavaldecadiz.com
SUMMARY:Pasatiempo de Escritura Creativa
DESCRIPTION:Evento público de libre acceso.
URL:https://www.carnavaldecadiz.com/event/pasatiempo-de-escritura-creativa/
LOCATION:Peña Los Adoquines\, calle Sagasta 91\, Cádiz\, Cádiz\, 11002\, España
CATEGORIES:Mucho más que carnaval
END:VEVENT
BEGIN:VEVENT
DTSTART;TZID=Europe/Madrid:20240614T190000
DTEND;TZID=Europe/Madrid:20240614T210000
DTSTAMP:20260422T081442
CREATED:20240528T170002Z
LAST-MODIFIED:20240528T170002Z
UID:10799-1718391600-1718398800@www.carnavaldecadiz.com
SUMMARY:Presentación del Libro 'ME LO MEREZCO'
DESCRIPTION:
URL:https://www.carnavaldecadiz.com/event/presentacion-del-libro-me-lo-merezco/
LOCATION:Peña Los Adoquines\, calle Sagasta 91\, Cádiz\, Cádiz\, 11002\, España
CATEGORIES:Mucho más que carnaval
END:VEVENT
BEGIN:VEVENT
DTSTART;TZID=Europe/Madrid:20240614T210000
DTEND;TZID=Europe/Madrid:20240614T220000
DTSTAMP:20260422T081442
CREATED:20240610T120727Z
LAST-MODIFIED:20240610T120727Z
UID:11080-1718398800-1718402400@www.carnavaldecadiz.com
SUMMARY:Presentación de WET FLOOR de Bea Aragón y TODA LA VIDA AL REVÉS de M.A García Argüéz
DESCRIPTION:Evento público de libre acceso.
URL:https://www.carnavaldecadiz.com/event/presentacion-de-wet-floor-de-bea-aragon-y-toda-la-vida-al-reves-de-m-a-garcia-arguez/
LOCATION:Torre de Guzman\, Conil de la Frontera\, Avenida de la Playa 8\, Conil de la Frontera\, Cádiz\, 11140\, España
CATEGORIES:Mucho más que carnaval
END:VEVENT
BEGIN:VEVENT
DTSTART;TZID=Europe/Madrid:20240614T210000
DTEND;TZID=Europe/Madrid:20240614T230000
DTSTAMP:20260422T081442
CREATED:20240507T200516Z
LAST-MODIFIED:20240507T200516Z
UID:10269-1718398800-1718406000@www.carnavaldecadiz.com
SUMMARY:Morera For President en Utrera
DESCRIPTION:Compra de localidades
URL:https://www.carnavaldecadiz.com/event/morera-for-president-en-utrera/
LOCATION:Teatro Municipal Enrique de la Cuadra\, Utrera\, calle Sevilla\, Utrera\, Sevilla\, 41710\, España
CATEGORIES:Mucho más que carnaval
END:VEVENT
BEGIN:VEVENT
DTSTART;TZID=Europe/Madrid:20240614T210000
DTEND;TZID=Europe/Madrid:20240614T230000
DTSTAMP:20260422T081442
CREATED:20240521T172741Z
LAST-MODIFIED:20240521T172741Z
UID:10558-1718398800-1718406000@www.carnavaldecadiz.com
SUMMARY:Ramoni en la Peña Nuestra Andalucía
DESCRIPTION:Más información y reservas en 615532153
URL:https://www.carnavaldecadiz.com/event/ramoni-en-la-pena-nuestra-andalucia/
LOCATION:Peña Nuestra Andalucía\, Cádiz\, calle María Arteaga 25\, Cádiz\, Cádiz\, 11002\, España
CATEGORIES:actuaciones de carnaval,mesa de debate,Mucho más que carnaval
END:VEVENT
BEGIN:VEVENT
DTSTART;TZID=Europe/Madrid:20240614T213000
DTEND;TZID=Europe/Madrid:20240614T233000
DTSTAMP:20260422T081442
CREATED:20240416T172622Z
LAST-MODIFIED:20240416T172622Z
UID:9716-1718400600-1718407800@www.carnavaldecadiz.com
SUMMARY:Concierto de Antoñito Molina en Murcia
DESCRIPTION:Compra de localidades
URL:https://www.carnavaldecadiz.com/event/concierto-de-antonito-molina-en-murcia/
LOCATION:Auditorio Víctor Villegas – Complex\, Murcia\, Avenida Primero de Mayo s/n\, Murcia\, Murcia\, 30006\, España
CATEGORIES:Mucho más que carnaval
END:VEVENT
BEGIN:VEVENT
DTSTART;TZID=Europe/Madrid:20240615T213000
DTEND;TZID=Europe/Madrid:20240615T233000
DTSTAMP:20260422T081442
CREATED:20240416T173447Z
LAST-MODIFIED:20240416T173447Z
UID:9719-1718487000-1718494200@www.carnavaldecadiz.com
SUMMARY:Concierto de Antoñito Molina en Jaén
DESCRIPTION:Compra de localidades
URL:https://www.carnavaldecadiz.com/event/concierto-de-antonito-molina-en-jaen/
LOCATION:Recinto Arquillos Suena\, Jaén\, Arquillos\, Jaén\, 23230\, España
CATEGORIES:Mucho más que carnaval
END:VEVENT
BEGIN:VEVENT
DTSTART;TZID=Europe/Madrid:20240618T193000
DTEND;TZID=Europe/Madrid:20240618T213000
DTSTAMP:20260422T081442
CREATED:20240522T121236Z
LAST-MODIFIED:20240522T121236Z
UID:10610-1718739000-1718746200@www.carnavaldecadiz.com
SUMMARY:El Club de los Poetas - Rubén Darío
DESCRIPTION:El Club Social de Empleados Municipales de Cádiz\, crea una nueva actividad\, abierta a todo el mundo\, con el nombre EL CLUB DE LOS POETAS\, en la que un martes de cada mes se dedicará a un poeta\, su vida y su obra\, en esta ocasión se dedica al poeta Rubén Darío. \nSe proyectará un documental\, así como audiciones\, reportajes\, entrevistas y por supuesto su poesía. \nEvento público de libre acceso. Aforo limitado.
URL:https://www.carnavaldecadiz.com/event/el-club-de-los-poetas-ruben-dario/
LOCATION:Club Social de Empleados Municipales\, Cádiz\, calle Alcalá Galiano 3D\, Cádiz\, Cádiz\, España
CATEGORIES:Mucho más que carnaval
END:VEVENT
BEGIN:VEVENT
DTSTART;TZID=Europe/Madrid:20240620T183000
DTEND;TZID=Europe/Madrid:20240620T210000
DTSTAMP:20260422T081442
CREATED:20240606T231526Z
LAST-MODIFIED:20240606T231526Z
UID:11067-1718908200-1718917200@www.carnavaldecadiz.com
SUMMARY:Tertulia Feminista de Carnaval
DESCRIPTION:¿Cansadas de ver como las tertulias o mesas de debate sean territorio casi exclusivo de los CARNAVALEROS\,\ny que siempre se cuenta con las mismas compañeras?\nNace la Tertulia Feminista de Carnaval\, con el objetivo de visibilizar a las autoras y agrupaciones femeninas y mixtas.\n\n\nCarnavaldeCadiz.com ha recopilado información de las agrupaciones de carnaval callejeras que se han podido ver este año por las calles de Cádiz.\nEn esta primera tertulia se van a dar a conocer algunos datos de la participación de la mujer en la fiesta más importante de nuestra ciudad\, para seguidamente abrir un debate.\nEvento publico de libre acceso.
URL:https://www.carnavaldecadiz.com/event/tertulia-feminista-de-carnaval/
LOCATION:Peña Los Adoquines\, calle Sagasta 91\, Cádiz\, Cádiz\, 11002\, España
CATEGORIES:CARNAVAL 2024,COAC 2024,mesa de debate,Mucho más que carnaval
ATTACH;FMTTYPE=image/png:https://www.carnavaldecadiz.com/wp-content/uploads/2024/06/0620Tertulia.png
END:VEVENT
BEGIN:VEVENT
DTSTART;TZID=Europe/Madrid:20240621T210000
DTEND;TZID=Europe/Madrid:20240621T230000
DTSTAMP:20260422T081442
CREATED:20240521T171355Z
LAST-MODIFIED:20240521T171355Z
UID:10549-1719003600-1719010800@www.carnavaldecadiz.com
SUMMARY:Francisco Javier Martinez Vargas 'Paco Pellejo' en la Peña Nuestra Andalucía
DESCRIPTION:Más información y reservas en 615532153
URL:https://www.carnavaldecadiz.com/event/francisco-javier-martinez-vargas-paco-pellejo-en-la-pena-nuestra-andalucia/
LOCATION:Peña Nuestra Andalucía\, Cádiz\, calle María Arteaga 25\, Cádiz\, Cádiz\, 11002\, España
CATEGORIES:actuaciones de carnaval,conferencia de carnaval,Mucho más que carnaval
END:VEVENT
BEGIN:VEVENT
DTSTART;TZID=Europe/Madrid:20240622T200000
DTEND;TZID=Europe/Madrid:20240622T213000
DTSTAMP:20260422T081442
CREATED:20240620T124258Z
LAST-MODIFIED:20240620T124258Z
UID:11282-1719086400-1719091800@www.carnavaldecadiz.com
SUMMARY:Ensayo al airelibre de la Orquesta de Plectro 'A Tempo'
DESCRIPTION:Evento público de libre acceso.
URL:https://www.carnavaldecadiz.com/event/ensayo-al-airelibre-de-la-orquesta-de-plectro-a-tempo/
LOCATION:Espacio de Cultura Contemporánea ECCO\, Cádiz\, Paseo Carlos III\, 5\, Cádiz\, Cádiz\, 11003\, España
CATEGORIES:Mucho más que carnaval
END:VEVENT
END:VCALENDAR