BEGIN:VCALENDAR
VERSION:2.0
PRODID:-//Carnaval de C&aacute;diz - ECPv6.15.20//NONSGML v1.0//EN
CALSCALE:GREGORIAN
METHOD:PUBLISH
X-WR-CALNAME:Carnaval de C&aacute;diz
X-ORIGINAL-URL:https://www.carnavaldecadiz.com
X-WR-CALDESC:Eventos para Carnaval de C&aacute;diz
REFRESH-INTERVAL;VALUE=DURATION:PT1H
X-Robots-Tag:noindex
X-PUBLISHED-TTL:PT1H
BEGIN:VTIMEZONE
TZID:Europe/Madrid
BEGIN:DAYLIGHT
TZOFFSETFROM:+0100
TZOFFSETTO:+0200
TZNAME:CEST
DTSTART:20220327T010000
END:DAYLIGHT
BEGIN:STANDARD
TZOFFSETFROM:+0200
TZOFFSETTO:+0100
TZNAME:CET
DTSTART:20221030T010000
END:STANDARD
BEGIN:DAYLIGHT
TZOFFSETFROM:+0100
TZOFFSETTO:+0200
TZNAME:CEST
DTSTART:20230326T010000
END:DAYLIGHT
BEGIN:STANDARD
TZOFFSETFROM:+0200
TZOFFSETTO:+0100
TZNAME:CET
DTSTART:20231029T010000
END:STANDARD
BEGIN:DAYLIGHT
TZOFFSETFROM:+0100
TZOFFSETTO:+0200
TZNAME:CEST
DTSTART:20240331T010000
END:DAYLIGHT
BEGIN:STANDARD
TZOFFSETFROM:+0200
TZOFFSETTO:+0100
TZNAME:CET
DTSTART:20241027T010000
END:STANDARD
BEGIN:DAYLIGHT
TZOFFSETFROM:+0100
TZOFFSETTO:+0200
TZNAME:CEST
DTSTART:20250330T010000
END:DAYLIGHT
BEGIN:STANDARD
TZOFFSETFROM:+0200
TZOFFSETTO:+0100
TZNAME:CET
DTSTART:20251026T010000
END:STANDARD
END:VTIMEZONE
BEGIN:VEVENT
DTSTART;TZID=Europe/Madrid:20231201T203000
DTEND;TZID=Europe/Madrid:20231201T220000
DTSTAMP:20260424T210428
CREATED:20231128T185936Z
LAST-MODIFIED:20231128T185936Z
UID:5728-1701462600-1701468000@www.carnavaldecadiz.com
SUMMARY:Generación TANGAI
DESCRIPTION:Manolo Casal y Modesto Barragán presentan “Generación Tangai” en El Puerto de Santa María (Cádiz) con coplas y sorpresas.
URL:https://www.carnavaldecadiz.com/event/generacion-tangai/
LOCATION:Bodega de Mora\, El Puerto de Santa María\, calle los Moros 7\, El Puerto de Santa María\, Cádiz\, 11500\, España
CATEGORIES:Libros de Carnaval,mesa de debate,Mucho más que carnaval
END:VEVENT
BEGIN:VEVENT
DTSTART;TZID=Europe/Madrid:20231202T113000
DTEND;TZID=Europe/Madrid:20231202T130000
DTSTAMP:20260424T210428
CREATED:20231026T221916Z
LAST-MODIFIED:20231111T133031Z
UID:4180-1701516600-1701522000@www.carnavaldecadiz.com
SUMMARY:Carnaval Écija. IV Ciclo de Conferencias
DESCRIPTION:IV CICLO DE CONFERENCIA DE CARNAVAL\, en esta edición contaremos con : \nMiguel Ángel García “Chapa” y Manuel Sanchez Alba “Noly” donde tocaran la forma en la que construyen comparsas\, coros y chirigotas\, y el sello del pasodoble clásico. \nEvento público de libre acceso hasta completar aforo
URL:https://www.carnavaldecadiz.com/event/carnaval-ecija-iv-ciclo-de-conferencias-3/
LOCATION:Palacio de Benamejí\, Écija\, Plaza de la Constitución s/n\, Écija\, Sevilla\, 41400\, España
CATEGORIES:conferencia de carnaval,mesa de debate,Mucho más que carnaval
END:VEVENT
BEGIN:VEVENT
DTSTART;TZID=Europe/Madrid:20231202T130000
DTEND;TZID=Europe/Madrid:20231202T170000
DTSTAMP:20260424T210428
CREATED:20231030T114443Z
LAST-MODIFIED:20231111T133659Z
UID:4240-1701522000-1701536400@www.carnavaldecadiz.com
SUMMARY:III Convivencia chirigota los niños
DESCRIPTION:
URL:https://www.carnavaldecadiz.com/event/iii-convivencia-chirigota-los-ninos/
LOCATION:Club Nevaluz\, Écija\, Avenida Jerónimo de Aguilar 21\, Écija\, Sevilla\, 41400\, España
CATEGORIES:actuaciones de carnaval,Mucho más que carnaval
END:VEVENT
BEGIN:VEVENT
DTSTART;TZID=Europe/Madrid:20231202T180000
DTEND;TZID=Europe/Madrid:20231202T200000
DTSTAMP:20260424T210428
CREATED:20231023T123056Z
LAST-MODIFIED:20231111T132940Z
UID:4047-1701540000-1701547200@www.carnavaldecadiz.com
SUMMARY:El carnaval hecho canción
DESCRIPTION:
URL:https://www.carnavaldecadiz.com/event/el-carnaval-hecho-cancion/
LOCATION:Peña Colorete\, Almodóvar del Río\, Almodóvar del Río\, Córdoba\, 14720\, España
CATEGORIES:actuaciones de carnaval,Mucho más que carnaval
END:VEVENT
BEGIN:VEVENT
DTSTART;TZID=Europe/Madrid:20231202T190000
DTEND;TZID=Europe/Madrid:20231202T220000
DTSTAMP:20260424T210428
CREATED:20231026T215948Z
LAST-MODIFIED:20231111T132814Z
UID:4169-1701543600-1701554400@www.carnavaldecadiz.com
SUMMARY:Noche de Humor y Carnaval en Lantejuela
DESCRIPTION:
URL:https://www.carnavaldecadiz.com/event/noche-de-humor-y-carnaval-en-lantejuela/
LOCATION:Caseta Municipal\, Lantejuela\, Lantejuela\, Sevilla\, 41630\, Spain
CATEGORIES:Mucho más que carnaval
END:VEVENT
BEGIN:VEVENT
DTSTART;TZID=Europe/Madrid:20231202T210000
DTEND;TZID=Europe/Madrid:20231202T223000
DTSTAMP:20260424T210428
CREATED:20231015T184310Z
LAST-MODIFIED:20231111T132432Z
UID:3864-1701550800-1701556200@www.carnavaldecadiz.com
SUMMARY:Rafa Taleguilla en Madrid
DESCRIPTION:
URL:https://www.carnavaldecadiz.com/event/rafa-taleguilla-en-madrid/
LOCATION:Jazzville\, calle de Jesús Aprendiz 19\, Madrid\, Madid\, 28007\, España
CATEGORIES:Mucho más que carnaval
END:VEVENT
BEGIN:VEVENT
DTSTART;TZID=Europe/Madrid:20231203T113000
DTEND;TZID=Europe/Madrid:20231203T140000
DTSTAMP:20260424T210428
CREATED:20231127T223321Z
LAST-MODIFIED:20231127T223321Z
UID:5699-1701603000-1701612000@www.carnavaldecadiz.com
SUMMARY:Ruta 'Salvoechea y el Cantón de Cádiz'
DESCRIPTION:Ruta contada y cantada.
URL:https://www.carnavaldecadiz.com/event/ruta-salvoechea-y-el-canton-de-cadiz/
LOCATION:Plaza de las tortugas\, Cádiz\, Plaza de las tortugas\, Cádiz\, Cádiz\, 11006\, España
CATEGORIES:Mucho más que carnaval
END:VEVENT
BEGIN:VEVENT
DTSTART;TZID=Europe/Madrid:20231204T200000
DTEND;TZID=Europe/Madrid:20231204T203000
DTSTAMP:20260424T210428
CREATED:20231127T124643Z
LAST-MODIFIED:20231127T124931Z
UID:5658-1701720000-1701721800@www.carnavaldecadiz.com
SUMMARY:Homenaje a García Caparros - Comparsa del Puerto
DESCRIPTION:Como cada año la comparsa del Puerto de Santa María\, conocida como la de ‘Los Majaras’ \, canta su mítico pasodoble ‘Un cuatro de diciembre…’ como un gesto de homenaje al joven trabajador sindicalista asesinado en 1977\, Manuel José García Caparros\, en una manifestación reivindicando la Autonomía Andaluza. \n  \nEvento público de libre acceso.
URL:https://www.carnavaldecadiz.com/event/homenaje-a-garcia-caparros-comparsa-del-puerto/
LOCATION:Peña Madridista Portunse\, calle Zarza 58\, El puerto de Santa María\, Cádiz\, 11500\, España
CATEGORIES:actuaciones de carnaval,Mucho más que carnaval
END:VEVENT
BEGIN:VEVENT
DTSTART;TZID=Europe/Madrid:20231205T210000
DTEND;TZID=Europe/Madrid:20231205T223000
DTSTAMP:20260424T210428
CREATED:20231015T185552Z
LAST-MODIFIED:20231111T132330Z
UID:3867-1701810000-1701815400@www.carnavaldecadiz.com
SUMMARY:Musical 'La herencia del bisabuelo'
DESCRIPTION:El musical basado en la trayectoria del autor conocido como ‘Noly’\, Manuel Sánchez Alba
URL:https://www.carnavaldecadiz.com/event/musical-la-herencia-del-bisabuelo/
LOCATION:Teatro Municipal de Puerto Real\, calle amargura 59\, Puerto Real\, Cádiz\, 11510\, España
CATEGORIES:actuaciones de carnaval,Mucho más que carnaval
END:VEVENT
BEGIN:VEVENT
DTSTART;TZID=Europe/Madrid:20231207T190000
DTEND;TZID=Europe/Madrid:20231207T210000
DTSTAMP:20260424T210428
CREATED:20231114T093624Z
LAST-MODIFIED:20231114T093624Z
UID:4769-1701975600-1701982800@www.carnavaldecadiz.com
SUMMARY:Peña Cultural Carnavalesca Cruz del Mar - Zambomba
DESCRIPTION:Apoyamos la actividad de las peñas carnavalescas. \nEvento público de libre acceso
URL:https://www.carnavaldecadiz.com/event/pena-cultural-carnavalesca-cruz-del-mar-zambomba/
LOCATION:Peña La Cruz del Mar\, Chipiona\, calle Padre Lerchundi 64\, Chipiona\, Cádiz\, España
CATEGORIES:Mucho más que carnaval
END:VEVENT
BEGIN:VEVENT
DTSTART;TZID=Europe/Madrid:20231208T130000
DTEND;TZID=Europe/Madrid:20231208T223000
DTSTAMP:20260424T210428
CREATED:20231205T201540Z
LAST-MODIFIED:20231205T201540Z
UID:5907-1702040400-1702074600@www.carnavaldecadiz.com
SUMMARY:Zambomba con 'El niño de María'
DESCRIPTION:En esta época del año muchos intérpretes de carnaval cambian el pito por la zambomba\, el grupo flamenco ‘El niño de María es un ejemplo de ello. \nHoy este grupo actúa en: \n13:15h Fundación Cajasol\, Plaza San Antonio – Ver mapa \n19:30h El Tinte\, Super Bar – Ver mapa \n21:30h Bar El Malagueño – Ver mapa \nTodas actuaciones son de libre acceso.
URL:https://www.carnavaldecadiz.com/event/zambomba-con-el-nino-de-maria/
LOCATION:Cádiz\, Cádiz\, Cádiz\, España
CATEGORIES:Mucho más que carnaval
END:VEVENT
BEGIN:VEVENT
DTSTART;TZID=Europe/Madrid:20231208T190000
DTEND;TZID=Europe/Madrid:20231208T210000
DTSTAMP:20260424T210428
CREATED:20231206T205318Z
LAST-MODIFIED:20231206T205318Z
UID:5959-1702062000-1702069200@www.carnavaldecadiz.com
SUMMARY:Leo Power por Navidad
DESCRIPTION:Antes de que el autor de cuartetos Iván Romero fichara a Leo Power\, esta ya despuntaba como flamenca. \nEn esta ocasión tienes la oportunidad de verla en su salsa. \nEvento público de libre acceso
URL:https://www.carnavaldecadiz.com/event/leo-power-por-navidad/
LOCATION:Iroco\, Chiclana\, calle Magallanes 16\, Chiclana de la Frontera\, Cádiz\, España
CATEGORIES:Mucho más que carnaval
END:VEVENT
BEGIN:VEVENT
DTSTART;TZID=Europe/Madrid:20231208T210000
DTEND;TZID=Europe/Madrid:20231208T230000
DTSTAMP:20260424T210428
CREATED:20231101T193911Z
LAST-MODIFIED:20231111T132124Z
UID:4293-1702069200-1702076400@www.carnavaldecadiz.com
SUMMARY:José Mª Barranco y José A. Rodríguez 'Tatan'
DESCRIPTION:
URL:https://www.carnavaldecadiz.com/event/jose-ma-barranco-y-jose-a-rodriguez-tatan/
LOCATION:Café Tatro Pay Pay\, C/ Silencio\, Cádiz\, Cádiz\, 11002
CATEGORIES:actuaciones de carnaval,Mucho más que carnaval
END:VEVENT
BEGIN:VEVENT
DTSTART;TZID=Europe/Madrid:20231208T210000
DTEND;TZID=Europe/Madrid:20231208T230000
DTSTAMP:20260424T210428
CREATED:20231108T203912Z
LAST-MODIFIED:20231111T132030Z
UID:4547-1702069200-1702076400@www.carnavaldecadiz.com
SUMMARY:Antología de David 'Carapapa'
DESCRIPTION:
URL:https://www.carnavaldecadiz.com/event/antologia-de-david-carapapa/
LOCATION:Salesianios\, Cádiz\, Avenida María Auxiliadora 7\, Cádiz\, Cádiz\, 11009\, España
CATEGORIES:actuaciones de carnaval,Mucho más que carnaval
END:VEVENT
BEGIN:VEVENT
DTSTART;TZID=Europe/Madrid:20231209T160000
DTEND;TZID=Europe/Madrid:20231209T230000
DTSTAMP:20260424T210428
CREATED:20231205T202620Z
LAST-MODIFIED:20231205T202620Z
UID:5910-1702137600-1702162800@www.carnavaldecadiz.com
SUMMARY:Zambomba con 'El niño de María'
DESCRIPTION:En esta época del año muchos intérpretes de carnaval cambian el pito por la zambomba\, el grupo flamenco ‘El niño de María es un ejemplo de ello. \nHoy este grupo actúa en: \n16:15h El Papelón de Acacias – Ver mapa \n17:30h Taberna Las Banderas – Ver mapa \n22:00h Hermandad del Rocío de Cádiz – Ver mapa \nTodas actuaciones son de libre acceso.
URL:https://www.carnavaldecadiz.com/event/zambomba-con-el-nino-de-maria-2/
LOCATION:Cádiz\, Cádiz\, Cádiz\, España
CATEGORIES:Mucho más que carnaval
END:VEVENT
BEGIN:VEVENT
DTSTART;TZID=Europe/Madrid:20231209T200000
DTEND;TZID=Europe/Madrid:20231209T213000
DTSTAMP:20260424T210428
CREATED:20231106T211037Z
LAST-MODIFIED:20231205T132342Z
UID:4437-1702152000-1702157400@www.carnavaldecadiz.com
SUMMARY:Rafael Aranda 'Taleguilla' en Almodovar del Río
DESCRIPTION:
URL:https://www.carnavaldecadiz.com/event/rafael-aranda-taleguilla-en-aranda-del-rio/
LOCATION:Sala Colorete\, Almodóvar del Río\, calle Federico García Lorca 5\, Almodóvar del Río\, Córdoba\, 14720\, España
CATEGORIES:Mucho más que carnaval
END:VEVENT
BEGIN:VEVENT
DTSTART;TZID=Europe/Madrid:20231209T200000
DTEND;TZID=Europe/Madrid:20231209T220000
DTSTAMP:20260424T210428
CREATED:20231205T132003Z
LAST-MODIFIED:20231205T132003Z
UID:5869-1702152000-1702159200@www.carnavaldecadiz.com
SUMMARY:'El Ramper' de Jesús Bienvenido en Montilla
DESCRIPTION:EL RAMPER \nEs uno de los espectáculos más sorprendentes inspirados en hechos reales de un autor que sufrió en sus carnes la represión franquista.
URL:https://www.carnavaldecadiz.com/event/el-ramper-de-jesus-bienvenido-en-montilla/
LOCATION:Teatro Garnelo\, Montilla\, Plaza de la Rosa\, Montilla\, Córdoba\, España
CATEGORIES:Mucho más que carnaval
END:VEVENT
BEGIN:VEVENT
DTSTART;TZID=Europe/Madrid:20231209T210000
DTEND;TZID=Europe/Madrid:20231209T220000
DTSTAMP:20260424T210428
CREATED:20231206T211006Z
LAST-MODIFIED:20231206T211006Z
UID:5962-1702155600-1702159200@www.carnavaldecadiz.com
SUMMARY:Leo Power por Navidad
DESCRIPTION:Antes de que el autor de cuartetos Iván Romero fichara a Leo Power\, esta ya despuntaba como flamenca. \nEn esta ocasión tienes la oportunidad de verla en su salsa. \n 
URL:https://www.carnavaldecadiz.com/event/leo-power-por-navidad-2/
LOCATION:Hacienda Soto\, Chclana\, A-48\, Km 14\, Chiclana de la Frontera\, Cádiz\, 11130\, España
CATEGORIES:Mucho más que carnaval
END:VEVENT
BEGIN:VEVENT
DTSTART;TZID=Europe/Madrid:20231209T210000
DTEND;TZID=Europe/Madrid:20231209T230000
DTSTAMP:20260424T210428
CREATED:20231205T170735Z
LAST-MODIFIED:20231205T170748Z
UID:5881-1702155600-1702162800@www.carnavaldecadiz.com
SUMMARY:Especial Carnaval Navideño en el Pay-Pay
DESCRIPTION:Especial Carnaval Navideño en el Pay-Pay es una antología de coplas a cargo de: José Otero\, Javi Otero y Kike Jiménez.
URL:https://www.carnavaldecadiz.com/event/especial-carnaval-navideno-en-el-pay-pay/
LOCATION:Café Tatro Pay Pay\, C/ Silencio\, Cádiz\, Cádiz\, 11002
CATEGORIES:actuaciones de carnaval,Mucho más que carnaval
END:VEVENT
BEGIN:VEVENT
DTSTART;TZID=Europe/Madrid:20231210T140000
DTEND;TZID=Europe/Madrid:20231210T200000
DTSTAMP:20260424T210428
CREATED:20231205T203215Z
LAST-MODIFIED:20231206T184307Z
UID:5912-1702216800-1702238400@www.carnavaldecadiz.com
SUMMARY:Zambomba con 'El niño de María'
DESCRIPTION:En esta época del año muchos intérpretes de carnaval cambian el pito por la zambomba\, el grupo flamenco ‘El niño de María’ es un ejemplo de ello. \nHoy este grupo actúa en: \n14:00 h Hotel Las Cortes – Ver mapa \n18:30 h Marama – Ver mapa \nTodas actuaciones son de libre acceso.
URL:https://www.carnavaldecadiz.com/event/zambomba-con-el-nino-de-maria-3/
LOCATION:Cádiz\, Cádiz\, Cádiz\, España
CATEGORIES:Mucho más que carnaval
END:VEVENT
BEGIN:VEVENT
DTSTART;TZID=Europe/Madrid:20231213T173000
DTEND;TZID=Europe/Madrid:20231213T173000
DTSTAMP:20260424T210428
CREATED:20231206T203252Z
LAST-MODIFIED:20231206T203252Z
UID:5956-1702488600-1702488600@www.carnavaldecadiz.com
SUMMARY:Teatro en la Peña Carnavalesca Cruz del Mar
DESCRIPTION:El taller de Teatro Nuevo Ateneo representará en la Peña Carnavalesca Cruz del Mar  la obra ‘Disfrute’ \nEvento público de libre acceso\, hasta completar aforo. Aforo limitado.
URL:https://www.carnavaldecadiz.com/event/teatro-en-la-pena-carnavalesca-cruz-del-mar/
LOCATION:Peña La Cruz del Mar\, Chipiona\, calle Padre Lerchundi 64\, Chipiona\, Cádiz\, España
CATEGORIES:Mucho más que carnaval
END:VEVENT
BEGIN:VEVENT
DTSTART;TZID=Europe/Madrid:20231214T210000
DTEND;TZID=Europe/Madrid:20231214T230000
DTSTAMP:20260424T210428
CREATED:20231205T165737Z
LAST-MODIFIED:20231205T165737Z
UID:5877-1702587600-1702594800@www.carnavaldecadiz.com
SUMMARY:Alicia en el Pay-Pay de las maravillas
DESCRIPTION:Concierto ‘Alicia en el Pay-Pay de las maravillas’ a cargo de IIIImpro\, con Mafla Mora (flauta y waterphone)\, Laura Sansón (violín)\, Toni Bárbara (contrabajo) y Manu Sánchez (piano).
URL:https://www.carnavaldecadiz.com/event/alicia-en-el-pay-pay-de-las-maravillas/
LOCATION:Café Tatro Pay Pay\, C/ Silencio\, Cádiz\, Cádiz\, 11002
CATEGORIES:Mucho más que carnaval
END:VEVENT
BEGIN:VEVENT
DTSTART;VALUE=DATE:20231215
DTEND;VALUE=DATE:20240316
DTSTAMP:20260424T210428
CREATED:20231213T125840Z
LAST-MODIFIED:20231213T143057Z
UID:6192-1702598400-1710547199@www.carnavaldecadiz.com
SUMMARY:Exposición colectiva 'Letras ilustradas'
DESCRIPTION:‘Letras ilustradas’ es una muestra colectiva organizada por la Asociación de Ilustración Profesional (AIP) de Cádiz y la Casa de Iberoamérica de Cádiz. En ella se rinde tributo en imágenes a obras\, autoras\, versos\, paisajes y personajes “que forman parte ya de nuestra esencia\, tanto colectiva como individual\, en un año en que Cádiz ha sido sede del IX Congreso Internacional de la Lengua Española. Es por esto que nuestra exposición otorga un peso especial en la literatura iberoamericana”\, explican desde el colectivo de ilustradores. \nSe trata de un conjunto de 35 ilustraciones de socios y socias de la AIP además de otros artistas invitados como Fernando Vicente\, Inma Serrano\, José Luis Ágreda\, Javier Olivares\, Ilu Ros o Daniel Diosdado. \nAdemás de los mencionados la lista se completa con los trabajos de Ágreda\, Albo López\, Ana Salguiero\, Arturo Redondo\, Aurora Villaviejas\, Bea Cuevas\, Conchi Trudier\, Daniel Diosdado\, David Rendo\, Elena Carmona\, Elizabeth Sanduvete\, Fernando Vicente\, Francisco Asencio\, Gema Rodríguez (GemaStarlight)\, Heleneteh\, Ilu Ros\, Inma Otero\, Inma Serrano\, J.E. Izco\, Javier Olivares\, Juan Devesa\, Julio Serrano\, Laura Cortés\, Lucía de la Torre\, Luz Marina G.\, María Rosa Treceño\, MariaLopezCreative\, Mario Gargon\, Milvilla (autora del cartel de la muestra)\, Paula Cuántica\, Paz Ramos\, Puralínea\, Rocío Atrio\, Rosa Olea y Sara Gabandé. \nLas obras incluyen homenajes a Federico García Lorca\, Gabriela Mistral\, J.R.R. Tolkien\, Alejandra Pizarnik\, Gabriel García Márquez\, Toni Morrison\, Neil Gaiman o Laura Esquivel. \nLa exhibición estará abierta en la Sala Blas de Lezo de la Casa de Iberoamérica (antigua Cárcel Real) \nENTRADA LIBRE\nHorario: de 10:00h a 14:00h y de 17:00h a 20:00h
URL:https://www.carnavaldecadiz.com/event/exposicion-colectiva-letras-ilustradas/
LOCATION:Casa de Iberoamerica\, Cádiz\, calle Concepción Arenal s/n\, Cádiz\, Cádiz\, 11006\, España
CATEGORIES:exposiciones,Mucho más que carnaval
END:VEVENT
BEGIN:VEVENT
DTSTART;TZID=Europe/Madrid:20231216T180000
DTEND;TZID=Europe/Madrid:20231216T210000
DTSTAMP:20260424T210428
CREATED:20231205T192624Z
LAST-MODIFIED:20231205T192624Z
UID:5885-1702749600-1702760400@www.carnavaldecadiz.com
SUMMARY:Zambombá\, 'Carnaval con Polvorones'
DESCRIPTION:Evento público de libre acceso.
URL:https://www.carnavaldecadiz.com/event/zambomba-carnaval-con-polvorones/
LOCATION:Peña La Cruz del Mar\, Chipiona\, calle Padre Lerchundi 64\, Chipiona\, Cádiz\, España
CATEGORIES:Mucho más que carnaval
END:VEVENT
BEGIN:VEVENT
DTSTART;TZID=Europe/Madrid:20231216T210000
DTEND;TZID=Europe/Madrid:20231216T223000
DTSTAMP:20260424T210428
CREATED:20231206T185435Z
LAST-MODIFIED:20231206T190840Z
UID:5924-1702760400-1702765800@www.carnavaldecadiz.com
SUMMARY:Concierto de Navidad. Camerata de Plectro 'A Tempo'
DESCRIPTION:En esta época del año muchos intérpretes de carnaval cambian los repertorios carnavalescos por piezas propias de las fechas navideñas y la Camerata de Plectro ‘A Tempo’ es un buen ejemplo de ello. Grupo de Plectro dirigido por Eduardo Bablé Neira compuesto por reconocidos intérpretes y autores de diversos coros de carnaval. \nEntrada libre hasta completar aforo.
URL:https://www.carnavaldecadiz.com/event/concierto-de-navidad-camerata-de-plectro-a-tempo/
LOCATION:Iglesia de la Palma\, Cádiz\, calle Artistas Petróleo y Salvaora 2\, Cádiz\, Cádiz\, 11002\, España
CATEGORIES:Mucho más que carnaval
END:VEVENT
BEGIN:VEVENT
DTSTART;TZID=Europe/Madrid:20231217T210000
DTEND;TZID=Europe/Madrid:20231217T230000
DTSTAMP:20260424T210428
CREATED:20231205T193213Z
LAST-MODIFIED:20231205T193233Z
UID:5888-1702846800-1702854000@www.carnavaldecadiz.com
SUMMARY:Gala Benéfica de los Reyes Magos
DESCRIPTION:Reconocidos intérpretes de carnaval como Manolo Morera\, Milian Oneto y Jesús Bienvenido se unen a un ramillete de artistas por una buena causa.
URL:https://www.carnavaldecadiz.com/event/gala-benefica-de-los-reyes-magos/
LOCATION:Cádiz
CATEGORIES:Mucho más que carnaval
END:VEVENT
BEGIN:VEVENT
DTSTART;VALUE=DATE:20231220
DTEND;VALUE=DATE:20231223
DTSTAMP:20260424T210428
CREATED:20231206T193300Z
LAST-MODIFIED:20231206T193922Z
UID:5938-1703030400-1703289599@www.carnavaldecadiz.com
SUMMARY:La Tía Norica 'Autos de Navidad'
DESCRIPTION:La compañía de Títeres ‘La Tía Norica’ esta reconocida con la Medalla de Oro en las Bellas Artes y su conjunto artesanal declarado Bien de Interés Cultural.\n\nCon los tradicionales Autos de Navidad\, nos muestra unos textos anónimos que tiene sus raíces en el teatro español del Siglo de Oro.\n\nEl espectáculo comienza a las 18:00h\n\nDuración aproximada: 65 minutos\n\nEdad recomendada: a partir de 5 años.\n\n\nPrecios de las entradas:\n\nButacas 7€\nAnfiteatro 6€
URL:https://www.carnavaldecadiz.com/event/la-tia-norica-autos-de-navidad/
LOCATION:Teatro Tía Norica\, Cádiz\, calle San Miguel 15\, Cádiz\, Cádiz\, 11001\, España
CATEGORIES:Mucho más que carnaval
END:VEVENT
BEGIN:VEVENT
DTSTART;TZID=Europe/Madrid:20231221T210000
DTEND;TZID=Europe/Madrid:20231221T230000
DTSTAMP:20260424T210428
CREATED:20231205T193708Z
LAST-MODIFIED:20231205T193708Z
UID:5891-1703192400-1703199600@www.carnavaldecadiz.com
SUMMARY:Match de Improvisación Teatral
DESCRIPTION:
URL:https://www.carnavaldecadiz.com/event/match-de-improvisacion-teatral-5/
LOCATION:Café Tatro Pay Pay\, C/ Silencio\, Cádiz\, Cádiz\, 11002
CATEGORIES:Mucho más que carnaval
END:VEVENT
BEGIN:VEVENT
DTSTART;TZID=Europe/Madrid:20231222T180000
DTEND;TZID=Europe/Madrid:20231222T200000
DTSTAMP:20260424T210428
CREATED:20231206T200440Z
LAST-MODIFIED:20231206T200440Z
UID:5948-1703268000-1703275200@www.carnavaldecadiz.com
SUMMARY:Chipi La Canalla en el Pay-Pay - Primer Pase
DESCRIPTION:
URL:https://www.carnavaldecadiz.com/event/chipi-la-canalla-en-el-pay-pay-primer-pase/
LOCATION:Café Tatro Pay Pay\, C/ Silencio\, Cádiz\, Cádiz\, 11002
CATEGORIES:Mucho más que carnaval
END:VEVENT
BEGIN:VEVENT
DTSTART;TZID=Europe/Madrid:20231222T210000
DTEND;TZID=Europe/Madrid:20231222T223000
DTSTAMP:20260424T210428
CREATED:20231206T190649Z
LAST-MODIFIED:20231206T190907Z
UID:5930-1703278800-1703284200@www.carnavaldecadiz.com
SUMMARY:Concierto de Navidad. Camerata de Plectro 'A Tempo'
DESCRIPTION:En esta época del año muchos intérpretes de carnaval cambian los repertorios carnavalescos por piezas propias de las fechas navideñas y la Camerata de Plectro ‘A Tempo’ es un buen ejemplo de ello. Grupo de Plectro dirigido por Eduardo Bablé Neira compuesto por reconocidos intérpretes y autores de diversos coros de carnaval. \nEntrada libre hasta completar aforo.
URL:https://www.carnavaldecadiz.com/event/concierto-de-navidad-camerata-de-plectro-a-tempo-2/
LOCATION:Iglesis San Vicente de Paúl\, Cádiz\, calle Amiel 2\, Cádiz\, Cádiz\, 11012\, España
CATEGORIES:Mucho más que carnaval
END:VEVENT
END:VCALENDAR