BEGIN:VCALENDAR
VERSION:2.0
PRODID:-//Carnaval de C&aacute;diz - ECPv6.15.20//NONSGML v1.0//EN
CALSCALE:GREGORIAN
METHOD:PUBLISH
X-ORIGINAL-URL:https://www.carnavaldecadiz.com
X-WR-CALDESC:Eventos para Carnaval de C&aacute;diz
REFRESH-INTERVAL;VALUE=DURATION:PT1H
X-Robots-Tag:noindex
X-PUBLISHED-TTL:PT1H
BEGIN:VTIMEZONE
TZID:Europe/Madrid
BEGIN:DAYLIGHT
TZOFFSETFROM:+0100
TZOFFSETTO:+0200
TZNAME:CEST
DTSTART:20250330T010000
END:DAYLIGHT
BEGIN:STANDARD
TZOFFSETFROM:+0200
TZOFFSETTO:+0100
TZNAME:CET
DTSTART:20251026T010000
END:STANDARD
BEGIN:DAYLIGHT
TZOFFSETFROM:+0100
TZOFFSETTO:+0200
TZNAME:CEST
DTSTART:20260329T010000
END:DAYLIGHT
BEGIN:STANDARD
TZOFFSETFROM:+0200
TZOFFSETTO:+0100
TZNAME:CET
DTSTART:20261025T010000
END:STANDARD
BEGIN:DAYLIGHT
TZOFFSETFROM:+0100
TZOFFSETTO:+0200
TZNAME:CEST
DTSTART:20270328T010000
END:DAYLIGHT
BEGIN:STANDARD
TZOFFSETFROM:+0200
TZOFFSETTO:+0100
TZNAME:CET
DTSTART:20271031T010000
END:STANDARD
END:VTIMEZONE
BEGIN:VEVENT
DTSTART;TZID=Europe/Madrid:20260308T120000
DTEND;TZID=Europe/Madrid:20260308T150000
DTSTAMP:20260421T004027
CREATED:20260303T223100Z
LAST-MODIFIED:20260303T223100Z
UID:28919-1772971200-1772982000@www.carnavaldecadiz.com
SUMMARY:Charla Coloquio 'LA PARTICIPACIÓN DE LA MUJER EN EL CARNAVAL'
DESCRIPTION:Intervienen: \n\nMarta Ortiz Deusto\, autora de la comparsa LA CAMORRA\nAna Magallanes\, psicopedagoga experta en coeducación y autora de romanceros\nAldara Rincon\, integradora social y trabajadora de Punto Violeta\n\nA continuación actuarán: \n\nAna Magallanes\, con su romancero ‘ESQUIMALA DE LOS NERVIOS’\nComponentes de la comparsa LA CAMORRA\n\nEvento público de libre acceso.
URL:https://www.carnavaldecadiz.com/event/charla-coloquio-la-participacion-de-la-mujer-en-el-carnaval/
LOCATION:Peña Carnavalesca de Bornos\, calle Miguel de Cervantes\, 5\, Bornos\, Cádiz\, 11640\, Spain
CATEGORIES:conferencia de carnaval,mesa de debate
END:VEVENT
END:VCALENDAR